BEGIN:VCALENDAR
VERSION:2.0
PRODID:-//DRIVE - ECPv6.15.18//NONSGML v1.0//EN
CALSCALE:GREGORIAN
METHOD:PUBLISH
X-ORIGINAL-URL:https://driveshops.com
X-WR-CALDESC:Events for DRIVE
REFRESH-INTERVAL;VALUE=DURATION:PT1H
X-Robots-Tag:noindex
X-PUBLISHED-TTL:PT1H
BEGIN:VTIMEZONE
TZID:America/Los_Angeles
BEGIN:DAYLIGHT
TZOFFSETFROM:-0800
TZOFFSETTO:-0700
TZNAME:PDT
DTSTART:20230312T100000
END:DAYLIGHT
BEGIN:STANDARD
TZOFFSETFROM:-0700
TZOFFSETTO:-0800
TZNAME:PST
DTSTART:20231105T090000
END:STANDARD
BEGIN:DAYLIGHT
TZOFFSETFROM:-0800
TZOFFSETTO:-0700
TZNAME:PDT
DTSTART:20240310T100000
END:DAYLIGHT
BEGIN:STANDARD
TZOFFSETFROM:-0700
TZOFFSETTO:-0800
TZNAME:PST
DTSTART:20241103T090000
END:STANDARD
BEGIN:DAYLIGHT
TZOFFSETFROM:-0800
TZOFFSETTO:-0700
TZNAME:PDT
DTSTART:20250309T100000
END:DAYLIGHT
BEGIN:STANDARD
TZOFFSETFROM:-0700
TZOFFSETTO:-0800
TZNAME:PST
DTSTART:20251102T090000
END:STANDARD
END:VTIMEZONE
BEGIN:VEVENT
DTSTART;TZID=America/Los_Angeles:20240205T080000
DTEND;TZID=America/Los_Angeles:20240205T110000
DTSTAMP:20260425T073437
CREATED:20230714T203123Z
LAST-MODIFIED:20231214T162456Z
UID:10006907-1707120000-1707130800@driveshops.com
SUMMARY:Succession & Exit Planning 1/5
DESCRIPTION:
URL:https://driveshops.com/events/succession-exit-planning-1-6-7/
LOCATION:Online
CATEGORIES:Succession & Exit Planning,Workshop
ATTACH;FMTTYPE=image/png:https://driveshops.com/wp-content/uploads/2019/04/screen-shot-2019-05-21-at-10.36.20-am-e1558471267564.png
END:VEVENT
BEGIN:VEVENT
DTSTART;TZID=America/Los_Angeles:20240207T080000
DTEND;TZID=America/Los_Angeles:20240207T110000
DTSTAMP:20260425T073437
CREATED:20230714T203151Z
LAST-MODIFIED:20231214T162503Z
UID:10006908-1707292800-1707303600@driveshops.com
SUMMARY:Succession & Exit Planning 2/5
DESCRIPTION:
URL:https://driveshops.com/events/succession-exit-planning-2-6-7/
LOCATION:Online
CATEGORIES:Succession & Exit Planning,Workshop
ATTACH;FMTTYPE=image/png:https://driveshops.com/wp-content/uploads/2019/04/screen-shot-2019-05-21-at-10.36.20-am-e1558471267564.png
END:VEVENT
BEGIN:VEVENT
DTSTART;TZID=America/Los_Angeles:20240207T080000
DTEND;TZID=America/Los_Angeles:20240207T110000
DTSTAMP:20260425T073437
CREATED:20230714T210209Z
LAST-MODIFIED:20230714T210209Z
UID:10006913-1707292800-1707303600@driveshops.com
SUMMARY:How to Read and Understand Financial Statements 2/6
DESCRIPTION:
URL:https://driveshops.com/events/how-to-read-and-understand-financial-statements-2-6/
LOCATION:Online
CATEGORIES:How to Read and Use Financial Statements,Succession & Exit Planning,Workshop
ATTACH;FMTTYPE=image/png:https://driveshops.com/wp-content/uploads/2019/04/screen-shot-2019-05-21-at-10.36.20-am-e1558471267564.png
END:VEVENT
BEGIN:VEVENT
DTSTART;TZID=America/Los_Angeles:20240209T080000
DTEND;TZID=America/Los_Angeles:20240209T110000
DTSTAMP:20260425T073437
CREATED:20230714T203218Z
LAST-MODIFIED:20231214T162510Z
UID:10006909-1707465600-1707476400@driveshops.com
SUMMARY:Succession & Exit Planning 3/5
DESCRIPTION:
URL:https://driveshops.com/events/succession-exit-planning-3-6-6/
LOCATION:Online
CATEGORIES:Succession & Exit Planning,Workshop
ATTACH;FMTTYPE=image/png:https://driveshops.com/wp-content/uploads/2019/04/screen-shot-2019-05-21-at-10.36.20-am-e1558471267564.png
END:VEVENT
BEGIN:VEVENT
DTSTART;TZID=America/Los_Angeles:20240212T080000
DTEND;TZID=America/Los_Angeles:20240212T110000
DTSTAMP:20260425T073437
CREATED:20230714T203250Z
LAST-MODIFIED:20231214T162517Z
UID:10006910-1707724800-1707735600@driveshops.com
SUMMARY:Succession & Exit Planning 4/5
DESCRIPTION:
URL:https://driveshops.com/events/succession-exit-planning-4-6-6/
LOCATION:Online
CATEGORIES:Succession & Exit Planning,Workshop
ATTACH;FMTTYPE=image/png:https://driveshops.com/wp-content/uploads/2019/04/screen-shot-2019-05-21-at-10.36.20-am-e1558471267564.png
END:VEVENT
BEGIN:VEVENT
DTSTART;TZID=America/Los_Angeles:20240214T080000
DTEND;TZID=America/Los_Angeles:20240214T110000
DTSTAMP:20260425T073437
CREATED:20230714T203341Z
LAST-MODIFIED:20231214T162525Z
UID:10006911-1707897600-1707908400@driveshops.com
SUMMARY:Succession & Exit Planning 5/5
DESCRIPTION:
URL:https://driveshops.com/events/succession-exit-planning-5-6-7/
LOCATION:Online
CATEGORIES:Succession & Exit Planning,Workshop
ATTACH;FMTTYPE=image/png:https://driveshops.com/wp-content/uploads/2019/04/screen-shot-2019-05-21-at-10.36.20-am-e1558471267564.png
END:VEVENT
BEGIN:VEVENT
DTSTART;TZID=America/Los_Angeles:20240216T080000
DTEND;TZID=America/Los_Angeles:20240216T110000
DTSTAMP:20260425T073437
CREATED:20230714T210746Z
LAST-MODIFIED:20230714T210746Z
UID:10006917-1708070400-1708081200@driveshops.com
SUMMARY:How to Read and Understand Financial Statements 6/6
DESCRIPTION:
URL:https://driveshops.com/events/how-to-read-and-understand-financial-statements-6-6/
LOCATION:Online
CATEGORIES:How to Read and Use Financial Statements,Succession & Exit Planning,Workshop
ATTACH;FMTTYPE=image/png:https://driveshops.com/wp-content/uploads/2019/04/screen-shot-2019-05-21-at-10.36.20-am-e1558471267564.png
END:VEVENT
END:VCALENDAR