BEGIN:VCALENDAR
VERSION:2.0
PRODID:-//DRIVE - ECPv6.15.18//NONSGML v1.0//EN
CALSCALE:GREGORIAN
METHOD:PUBLISH
X-WR-CALNAME:DRIVE
X-ORIGINAL-URL:https://driveshops.com
X-WR-CALDESC:Events for DRIVE
REFRESH-INTERVAL;VALUE=DURATION:PT1H
X-Robots-Tag:noindex
X-PUBLISHED-TTL:PT1H
BEGIN:VTIMEZONE
TZID:UTC
BEGIN:STANDARD
TZOFFSETFROM:+0000
TZOFFSETTO:+0000
TZNAME:UTC
DTSTART:20220101T000000
END:STANDARD
END:VTIMEZONE
BEGIN:VEVENT
DTSTART;TZID=UTC:20230602T080000
DTEND;TZID=UTC:20230602T110000
DTSTAMP:20260425T205800
CREATED:20221227T223401Z
LAST-MODIFIED:20221227T223401Z
UID:10004382-1685692800-1685703600@driveshops.com
SUMMARY:Fundamentals of Wealth 5/5
DESCRIPTION:
URL:https://driveshops.com/events/fundamentals-of-wealth-5-5/
LOCATION:Online
CATEGORIES:Fundamentals of Wealth,Workshop
ATTACH;FMTTYPE=image/png:https://driveshops.com/wp-content/uploads/2019/04/screen-shot-2019-05-21-at-10.42.34-am-e1558471231325.png
END:VEVENT
BEGIN:VEVENT
DTSTART;TZID=UTC:20230602T080000
DTEND;TZID=UTC:20230602T110000
DTSTAMP:20260425T205800
CREATED:20221227T222815Z
LAST-MODIFIED:20221227T222815Z
UID:10004361-1685692800-1685703600@driveshops.com
SUMMARY:Professional Service Advisor Sales 6/6
DESCRIPTION:
URL:https://driveshops.com/events/professional-service-advisor-sales-6-6-14/
LOCATION:Online
CATEGORIES:Professional Service Advisor Sales,Workshop
ATTACH;FMTTYPE=image/png:https://driveshops.com/wp-content/uploads/2019/04/screen-shot-2019-05-21-at-10.14.39-am-e1558470540769.png
END:VEVENT
BEGIN:VEVENT
DTSTART;TZID=UTC:20230531T080000
DTEND;TZID=UTC:20230531T110000
DTSTAMP:20260425T205800
CREATED:20221227T223339Z
LAST-MODIFIED:20221227T223339Z
UID:10004381-1685520000-1685530800@driveshops.com
SUMMARY:Fundamentals of Wealth 4/5
DESCRIPTION:
URL:https://driveshops.com/events/fundamentals-of-wealth-4-5/
LOCATION:Online
CATEGORIES:Fundamentals of Wealth,Workshop
ATTACH;FMTTYPE=image/png:https://driveshops.com/wp-content/uploads/2019/04/screen-shot-2019-05-21-at-10.42.34-am-e1558471231325.png
END:VEVENT
BEGIN:VEVENT
DTSTART;TZID=UTC:20230531T080000
DTEND;TZID=UTC:20230531T110000
DTSTAMP:20260425T205800
CREATED:20221227T222803Z
LAST-MODIFIED:20221227T222803Z
UID:10004360-1685520000-1685530800@driveshops.com
SUMMARY:Professional Service Advisor Sales 5/6
DESCRIPTION:
URL:https://driveshops.com/events/professional-service-advisor-sales-5-6-14/
LOCATION:Online
CATEGORIES:Professional Service Advisor Sales,Workshop
ATTACH;FMTTYPE=image/png:https://driveshops.com/wp-content/uploads/2019/04/screen-shot-2019-05-21-at-10.14.39-am-e1558470540769.png
END:VEVENT
BEGIN:VEVENT
DTSTART;TZID=UTC:20230530T080000
DTEND;TZID=UTC:20230530T110000
DTSTAMP:20260425T205800
CREATED:20221227T222752Z
LAST-MODIFIED:20221227T222752Z
UID:10004359-1685433600-1685444400@driveshops.com
SUMMARY:Professional Service Advisor Sales 4/6
DESCRIPTION:
URL:https://driveshops.com/events/professional-service-advisor-sales-4-6-14/
LOCATION:Online
CATEGORIES:Professional Service Advisor Sales,Workshop
ATTACH;FMTTYPE=image/png:https://driveshops.com/wp-content/uploads/2019/04/screen-shot-2019-05-21-at-10.14.39-am-e1558470540769.png
END:VEVENT
BEGIN:VEVENT
DTSTART;TZID=UTC:20230526T080000
DTEND;TZID=UTC:20230526T110000
DTSTAMP:20260425T205800
CREATED:20221227T223300Z
LAST-MODIFIED:20221227T223300Z
UID:10004379-1685088000-1685098800@driveshops.com
SUMMARY:Fundamentals of Wealth 3/5
DESCRIPTION:
URL:https://driveshops.com/events/fundamentals-of-wealth-3-5/
LOCATION:Online
CATEGORIES:Fundamentals of Wealth,Workshop
ATTACH;FMTTYPE=image/png:https://driveshops.com/wp-content/uploads/2019/04/screen-shot-2019-05-21-at-10.42.34-am-e1558471231325.png
END:VEVENT
BEGIN:VEVENT
DTSTART;TZID=UTC:20230526T080000
DTEND;TZID=UTC:20230526T110000
DTSTAMP:20260425T205800
CREATED:20221227T222735Z
LAST-MODIFIED:20221227T222735Z
UID:10004358-1685088000-1685098800@driveshops.com
SUMMARY:Professional Service Advisor Sales 3/6
DESCRIPTION:
URL:https://driveshops.com/events/professional-service-advisor-sales-3-6-14/
LOCATION:Online
CATEGORIES:Professional Service Advisor Sales,Workshop
ATTACH;FMTTYPE=image/png:https://driveshops.com/wp-content/uploads/2019/04/screen-shot-2019-05-21-at-10.14.39-am-e1558470540769.png
END:VEVENT
BEGIN:VEVENT
DTSTART;TZID=UTC:20230524T080000
DTEND;TZID=UTC:20230524T110000
DTSTAMP:20260425T205800
CREATED:20221227T223244Z
LAST-MODIFIED:20221227T223244Z
UID:10004377-1684915200-1684926000@driveshops.com
SUMMARY:Fundamentals of Wealth 2/5
DESCRIPTION:
URL:https://driveshops.com/events/fundamentals-of-wealth-2-5/
LOCATION:Online
CATEGORIES:Fundamentals of Wealth,Workshop
ATTACH;FMTTYPE=image/png:https://driveshops.com/wp-content/uploads/2019/04/screen-shot-2019-05-21-at-10.42.34-am-e1558471231325.png
END:VEVENT
BEGIN:VEVENT
DTSTART;TZID=UTC:20230524T080000
DTEND;TZID=UTC:20230524T110000
DTSTAMP:20260425T205800
CREATED:20221227T222725Z
LAST-MODIFIED:20221227T222725Z
UID:10004352-1684915200-1684926000@driveshops.com
SUMMARY:Professional Service Advisor Sales 2/6
DESCRIPTION:
URL:https://driveshops.com/events/professional-service-advisor-sales-2-6-14/
LOCATION:Online
CATEGORIES:Professional Service Advisor Sales,Workshop
ATTACH;FMTTYPE=image/png:https://driveshops.com/wp-content/uploads/2019/04/screen-shot-2019-05-21-at-10.14.39-am-e1558470540769.png
END:VEVENT
BEGIN:VEVENT
DTSTART;TZID=UTC:20230522T080000
DTEND;TZID=UTC:20230522T110000
DTSTAMP:20260425T205800
CREATED:20221227T223229Z
LAST-MODIFIED:20221227T223229Z
UID:10004375-1684742400-1684753200@driveshops.com
SUMMARY:Fundamentals of Wealth 1/5
DESCRIPTION:
URL:https://driveshops.com/events/fundamentals-of-wealth-1-5/
LOCATION:Online
CATEGORIES:Fundamentals of Wealth,Workshop
ATTACH;FMTTYPE=image/png:https://driveshops.com/wp-content/uploads/2019/04/screen-shot-2019-05-21-at-10.42.34-am-e1558471231325.png
END:VEVENT
BEGIN:VEVENT
DTSTART;TZID=UTC:20230522T080000
DTEND;TZID=UTC:20230522T110000
DTSTAMP:20260425T205800
CREATED:20221227T222719Z
LAST-MODIFIED:20221227T222719Z
UID:10004350-1684742400-1684753200@driveshops.com
SUMMARY:Professional Service Advisor Sales 1/6
DESCRIPTION:
URL:https://driveshops.com/events/professional-service-advisor-sales-1-6-13/
LOCATION:Online
CATEGORIES:Professional Service Advisor Sales,Workshop
ATTACH;FMTTYPE=image/png:https://driveshops.com/wp-content/uploads/2019/04/screen-shot-2019-05-21-at-10.14.39-am-e1558470540769.png
END:VEVENT
BEGIN:VEVENT
DTSTART;TZID=UTC:20230519T080000
DTEND;TZID=UTC:20230519T110000
DTSTAMP:20260425T205800
CREATED:20221227T223803Z
LAST-MODIFIED:20221227T223803Z
UID:10004383-1684483200-1684494000@driveshops.com
SUMMARY:Essentials of Shop Management 6/6
DESCRIPTION:
URL:https://driveshops.com/events/essentials-of-shop-management-6-6-25/
CATEGORIES:Essentials of Shop Management,Workshop
ATTACH;FMTTYPE=image/png:https://driveshops.com/wp-content/uploads/2019/04/screen-shot-2019-05-21-at-10.17.01-am-e1558471790866.png
END:VEVENT
BEGIN:VEVENT
DTSTART;TZID=UTC:20230517T080000
DTEND;TZID=UTC:20230517T110000
DTSTAMP:20260425T205800
CREATED:20221227T224056Z
LAST-MODIFIED:20221227T224056Z
UID:10003974-1684310400-1684321200@driveshops.com
SUMMARY:Building Your Dream Team 5/5
DESCRIPTION:
URL:https://driveshops.com/events/building-your-dream-team-5-5-12/
LOCATION:Online
CATEGORIES:Building Your Dream Team
ATTACH;FMTTYPE=image/png:https://driveshops.com/wp-content/uploads/2019/03/screen-shot-2019-05-20-at-12.10.22-pm-e1558471852915.png
END:VEVENT
BEGIN:VEVENT
DTSTART;TZID=UTC:20230517T080000
DTEND;TZID=UTC:20230517T110000
DTSTAMP:20260425T205800
CREATED:20221227T223815Z
LAST-MODIFIED:20221227T223815Z
UID:10004384-1684310400-1684321200@driveshops.com
SUMMARY:Essentials of Shop Management 5/6
DESCRIPTION:
URL:https://driveshops.com/events/essentials-of-shop-management-5-6-24/
CATEGORIES:Essentials of Shop Management,Workshop
ATTACH;FMTTYPE=image/png:https://driveshops.com/wp-content/uploads/2019/04/screen-shot-2019-05-21-at-10.17.01-am-e1558471790866.png
END:VEVENT
BEGIN:VEVENT
DTSTART;TZID=UTC:20230516T080000
DTEND;TZID=UTC:20230516T110000
DTSTAMP:20260425T205800
CREATED:20221227T222544Z
LAST-MODIFIED:20221227T222544Z
UID:10004348-1684224000-1684234800@driveshops.com
SUMMARY:Key To Understanding Your Financial Reports 3/3
DESCRIPTION:
URL:https://driveshops.com/events/the-key-to-understanding-your-financial-reports-3-3-3/
LOCATION:DRIVE HQ\, 324 S Myrtle Ave\, Monrovia\, CA\, 91016\, United States
CATEGORIES:The Key to Understanding Your Financial Reports,Workshop
ATTACH;FMTTYPE=image/png:https://driveshops.com/wp-content/uploads/2019/04/screen-shot-2019-05-21-at-10.04.39-am-e1558471807663.png
END:VEVENT
BEGIN:VEVENT
DTSTART;TZID=UTC:20230515T080000
DTEND;TZID=UTC:20230515T110000
DTSTAMP:20260425T205801
CREATED:20221227T224045Z
LAST-MODIFIED:20221227T224045Z
UID:10003973-1684137600-1684148400@driveshops.com
SUMMARY:Building Your Dream Team 4/5
DESCRIPTION:
URL:https://driveshops.com/events/building-your-dream-team-4-5-11/
LOCATION:Online
CATEGORIES:Building Your Dream Team
ATTACH;FMTTYPE=image/png:https://driveshops.com/wp-content/uploads/2019/03/screen-shot-2019-05-20-at-12.10.22-pm-e1558471852915.png
END:VEVENT
BEGIN:VEVENT
DTSTART;TZID=UTC:20230515T080000
DTEND;TZID=UTC:20230515T110000
DTSTAMP:20260425T205801
CREATED:20221227T223825Z
LAST-MODIFIED:20221227T223825Z
UID:10003966-1684137600-1684148400@driveshops.com
SUMMARY:Essentials of Shop Management 4/6
DESCRIPTION:
URL:https://driveshops.com/events/essentials-of-shop-management-4-6-24/
LOCATION:Online
CATEGORIES:Essentials of Shop Management,Workshop
ATTACH;FMTTYPE=image/png:https://driveshops.com/wp-content/uploads/2019/04/screen-shot-2019-05-21-at-10.17.01-am-e1558471790866.png
END:VEVENT
BEGIN:VEVENT
DTSTART;TZID=UTC:20230512T080000
DTEND;TZID=UTC:20230512T110000
DTSTAMP:20260425T205801
CREATED:20221227T224034Z
LAST-MODIFIED:20221227T224034Z
UID:10003972-1683878400-1683889200@driveshops.com
SUMMARY:Building Your Dream Team 3/5
DESCRIPTION:
URL:https://driveshops.com/events/building-your-dream-team-3-5-11/
LOCATION:Online
CATEGORIES:Building Your Dream Team
ATTACH;FMTTYPE=image/png:https://driveshops.com/wp-content/uploads/2019/03/screen-shot-2019-05-20-at-12.10.22-pm-e1558471852915.png
END:VEVENT
BEGIN:VEVENT
DTSTART;TZID=UTC:20230512T080000
DTEND;TZID=UTC:20230512T110000
DTSTAMP:20260425T205801
CREATED:20221227T223837Z
LAST-MODIFIED:20221227T223837Z
UID:10003967-1683878400-1683889200@driveshops.com
SUMMARY:Essentials of Shop Management 3/6
DESCRIPTION:
URL:https://driveshops.com/events/essentials-of-shop-management-3-6-24/
LOCATION:Online
CATEGORIES:Essentials of Shop Management,Workshop
ATTACH;FMTTYPE=image/png:https://driveshops.com/wp-content/uploads/2019/04/screen-shot-2019-05-21-at-10.17.01-am-e1558471790866.png
END:VEVENT
BEGIN:VEVENT
DTSTART;TZID=UTC:20230511T080000
DTEND;TZID=UTC:20230511T110000
DTSTAMP:20260425T205801
CREATED:20221227T222521Z
LAST-MODIFIED:20221227T222521Z
UID:10004346-1683792000-1683802800@driveshops.com
SUMMARY:Key To Understanding Your Financial Reports 2/3
DESCRIPTION:
URL:https://driveshops.com/events/the-key-to-understanding-your-financial-reports-2-3-3/
LOCATION:DRIVE HQ\, 324 S Myrtle Ave\, Monrovia\, CA\, 91016\, United States
CATEGORIES:The Key to Understanding Your Financial Reports,Workshop
ATTACH;FMTTYPE=image/png:https://driveshops.com/wp-content/uploads/2019/04/screen-shot-2019-05-21-at-10.04.39-am-e1558471807663.png
END:VEVENT
BEGIN:VEVENT
DTSTART;TZID=UTC:20230510T080000
DTEND;TZID=UTC:20230510T110000
DTSTAMP:20260425T205801
CREATED:20221227T224028Z
LAST-MODIFIED:20221227T224028Z
UID:10003971-1683705600-1683716400@driveshops.com
SUMMARY:Building Your Dream Team 2/5
DESCRIPTION:
URL:https://driveshops.com/events/building-your-dream-team-2-5-11/
LOCATION:Online
CATEGORIES:Building Your Dream Team
ATTACH;FMTTYPE=image/png:https://driveshops.com/wp-content/uploads/2019/03/screen-shot-2019-05-20-at-12.10.22-pm-e1558471852915.png
END:VEVENT
BEGIN:VEVENT
DTSTART;TZID=UTC:20230510T080000
DTEND;TZID=UTC:20230510T110000
DTSTAMP:20260425T205801
CREATED:20221227T223847Z
LAST-MODIFIED:20221227T223847Z
UID:10003968-1683705600-1683716400@driveshops.com
SUMMARY:Essentials of Shop Management 2/6
DESCRIPTION:
URL:https://driveshops.com/events/essentials-of-shop-management-2-6-24/
LOCATION:Online
CATEGORIES:Essentials of Shop Management,Workshop
ATTACH;FMTTYPE=image/png:https://driveshops.com/wp-content/uploads/2019/04/screen-shot-2019-05-21-at-10.17.01-am-e1558471790866.png
END:VEVENT
BEGIN:VEVENT
DTSTART;TZID=UTC:20230509T080000
DTEND;TZID=UTC:20230509T110000
DTSTAMP:20260425T205801
CREATED:20221227T222503Z
LAST-MODIFIED:20221227T222503Z
UID:10004344-1683619200-1683630000@driveshops.com
SUMMARY:Key To Understanding Your Financial Reports 1/3
DESCRIPTION:
URL:https://driveshops.com/events/the-key-to-understanding-your-financial-reports-1-3-3/
LOCATION:DRIVE HQ\, 324 S Myrtle Ave\, Monrovia\, CA\, 91016\, United States
CATEGORIES:The Key to Understanding Your Financial Reports,Workshop
ATTACH;FMTTYPE=image/png:https://driveshops.com/wp-content/uploads/2019/04/screen-shot-2019-05-21-at-10.04.39-am-e1558471807663.png
END:VEVENT
BEGIN:VEVENT
DTSTART;TZID=UTC:20230508T080000
DTEND;TZID=UTC:20230508T110000
DTSTAMP:20260425T205801
CREATED:20221227T224019Z
LAST-MODIFIED:20221227T224019Z
UID:10003970-1683532800-1683543600@driveshops.com
SUMMARY:Building Your Dream Team 1/5
DESCRIPTION:
URL:https://driveshops.com/events/building-your-dream-team-1-5-11/
LOCATION:Online
CATEGORIES:Building Your Dream Team
ATTACH;FMTTYPE=image/png:https://driveshops.com/wp-content/uploads/2019/03/screen-shot-2019-05-20-at-12.10.22-pm-e1558471852915.png
END:VEVENT
BEGIN:VEVENT
DTSTART;TZID=UTC:20230508T080000
DTEND;TZID=UTC:20230508T110000
DTSTAMP:20260425T205801
CREATED:20221227T223858Z
LAST-MODIFIED:20221227T223858Z
UID:10003969-1683532800-1683543600@driveshops.com
SUMMARY:Essentials of Shop Management 1/6
DESCRIPTION:
URL:https://driveshops.com/events/essentials-of-shop-management-1-6-23/
LOCATION:Online
CATEGORIES:Essentials of Shop Management,Workshop
ATTACH;FMTTYPE=image/png:https://driveshops.com/wp-content/uploads/2019/04/screen-shot-2019-05-21-at-10.17.01-am-e1558471790866.png
END:VEVENT
BEGIN:VEVENT
DTSTART;TZID=UTC:20230428T080000
DTEND;TZID=UTC:20230428T110000
DTSTAMP:20260425T205801
CREATED:20221221T144736Z
LAST-MODIFIED:20221221T144736Z
UID:10004257-1682668800-1682679600@driveshops.com
SUMMARY:Essentials of Shop Management 6/6
DESCRIPTION:
URL:https://driveshops.com/events/essentials-of-shop-management-6-6-23/
LOCATION:Online
CATEGORIES:Essentials of Shop Management,Workshop
ATTACH;FMTTYPE=image/png:https://driveshops.com/wp-content/uploads/2019/04/screen-shot-2019-05-21-at-10.17.01-am-e1558471790866.png
END:VEVENT
BEGIN:VEVENT
DTSTART;TZID=UTC:20230427T080000
DTEND;TZID=UTC:20230427T110000
DTSTAMP:20260425T205801
CREATED:20221221T143648Z
LAST-MODIFIED:20221221T143648Z
UID:10004250-1682582400-1682593200@driveshops.com
SUMMARY:How to Increase Your Profits 4/4
DESCRIPTION:
URL:https://driveshops.com/events/how-to-increase-your-profits-4-4-2/
LOCATION:Online
CATEGORIES:How To Increase Your Profits,Workshop
ATTACH;FMTTYPE=image/png:https://driveshops.com/wp-content/uploads/2019/04/screen-shot-2019-05-21-at-10.25.56-am-e1558471321731.png
END:VEVENT
BEGIN:VEVENT
DTSTART;TZID=UTC:20230426T080000
DTEND;TZID=UTC:20230426T110000
DTSTAMP:20260425T205801
CREATED:20221221T144728Z
LAST-MODIFIED:20221221T144728Z
UID:10004256-1682496000-1682506800@driveshops.com
SUMMARY:Essentials of Shop Management 5/6
DESCRIPTION:
URL:https://driveshops.com/events/essentials-of-shop-management-5-6-22/
LOCATION:Online
CATEGORIES:Essentials of Shop Management,Workshop
ATTACH;FMTTYPE=image/png:https://driveshops.com/wp-content/uploads/2019/04/screen-shot-2019-05-21-at-10.17.01-am-e1558471790866.png
END:VEVENT
BEGIN:VEVENT
DTSTART;TZID=UTC:20230426T080000
DTEND;TZID=UTC:20230426T110000
DTSTAMP:20260425T205801
CREATED:20221221T144100Z
LAST-MODIFIED:20221221T144100Z
UID:10003898-1682496000-1682506800@driveshops.com
SUMMARY:Planning For Success 5/5
DESCRIPTION:
URL:https://driveshops.com/events/planning-for-success-5-5-5/
LOCATION:Online
CATEGORIES:Planning for Success,Workshop
ATTACH;FMTTYPE=image/png:https://driveshops.com/wp-content/uploads/2019/04/screen-shot-2019-05-21-at-10.44.40-am-e1558471214538.png
END:VEVENT
BEGIN:VEVENT
DTSTART;TZID=UTC:20230425T080000
DTEND;TZID=UTC:20230425T110000
DTSTAMP:20260425T205801
CREATED:20221221T143640Z
LAST-MODIFIED:20221221T143640Z
UID:10004249-1682409600-1682420400@driveshops.com
SUMMARY:How to Increase Your Profits 3/4
DESCRIPTION:
URL:https://driveshops.com/events/how-to-increase-your-profits-3-4-2/
LOCATION:Online
CATEGORIES:How To Increase Your Profits,Workshop
ATTACH;FMTTYPE=image/png:https://driveshops.com/wp-content/uploads/2019/04/screen-shot-2019-05-21-at-10.25.56-am-e1558471321731.png
END:VEVENT
END:VCALENDAR