BEGIN:VCALENDAR
VERSION:2.0
PRODID:-//DRIVE - ECPv6.15.18//NONSGML v1.0//EN
CALSCALE:GREGORIAN
METHOD:PUBLISH
X-WR-CALNAME:DRIVE
X-ORIGINAL-URL:https://driveshops.com
X-WR-CALDESC:Events for DRIVE
REFRESH-INTERVAL;VALUE=DURATION:PT1H
X-Robots-Tag:noindex
X-PUBLISHED-TTL:PT1H
BEGIN:VTIMEZONE
TZID:UTC
BEGIN:STANDARD
TZOFFSETFROM:+0000
TZOFFSETTO:+0000
TZNAME:UTC
DTSTART:20220101T000000
END:STANDARD
END:VTIMEZONE
BEGIN:VTIMEZONE
TZID:America/Los_Angeles
BEGIN:DAYLIGHT
TZOFFSETFROM:-0800
TZOFFSETTO:-0700
TZNAME:PDT
DTSTART:20220313T100000
END:DAYLIGHT
BEGIN:STANDARD
TZOFFSETFROM:-0700
TZOFFSETTO:-0800
TZNAME:PST
DTSTART:20221106T090000
END:STANDARD
BEGIN:DAYLIGHT
TZOFFSETFROM:-0800
TZOFFSETTO:-0700
TZNAME:PDT
DTSTART:20230312T100000
END:DAYLIGHT
BEGIN:STANDARD
TZOFFSETFROM:-0700
TZOFFSETTO:-0800
TZNAME:PST
DTSTART:20231105T090000
END:STANDARD
BEGIN:DAYLIGHT
TZOFFSETFROM:-0800
TZOFFSETTO:-0700
TZNAME:PDT
DTSTART:20240310T100000
END:DAYLIGHT
BEGIN:STANDARD
TZOFFSETFROM:-0700
TZOFFSETTO:-0800
TZNAME:PST
DTSTART:20241103T090000
END:STANDARD
END:VTIMEZONE
BEGIN:VTIMEZONE
TZID:UTC
BEGIN:STANDARD
TZOFFSETFROM:+0000
TZOFFSETTO:+0000
TZNAME:UTC
DTSTART:20220101T000000
END:STANDARD
END:VTIMEZONE
BEGIN:VEVENT
DTSTART;TZID=UTC:20230721T080000
DTEND;TZID=UTC:20230721T110000
DTSTAMP:20260425T192711
CREATED:20221227T210938Z
LAST-MODIFIED:20221227T210938Z
UID:10003948-1689926400-1689937200@driveshops.com
SUMMARY:Professional Service Advisor Sales 6/6
DESCRIPTION:
URL:https://driveshops.com/events/professional-service-advisor-sales-6-6-13/
LOCATION:Online
CATEGORIES:Professional Service Advisor Sales,Workshop
ATTACH;FMTTYPE=image/png:https://driveshops.com/wp-content/uploads/2019/04/screen-shot-2019-05-21-at-10.14.39-am-e1558470540769.png
END:VEVENT
BEGIN:VEVENT
DTSTART;TZID=America/Los_Angeles:20230721T080000
DTEND;TZID=America/Los_Angeles:20230721T110000
DTSTAMP:20260425T192711
CREATED:20221227T204930Z
LAST-MODIFIED:20221227T204930Z
UID:10004313-1689926400-1689937200@driveshops.com
SUMMARY:Essentials of Shop Management 6/6
DESCRIPTION:
URL:https://driveshops.com/events/essentials-of-shop-management-6-6-24/
CATEGORIES:Essentials of Shop Management,Workshop
ATTACH;FMTTYPE=image/png:https://driveshops.com/wp-content/uploads/2019/04/screen-shot-2019-05-21-at-10.17.01-am-e1558471790866.png
END:VEVENT
BEGIN:VEVENT
DTSTART;TZID=UTC:20230720T080000
DTEND;TZID=UTC:20230720T110000
DTSTAMP:20260425T192711
CREATED:20221227T205722Z
LAST-MODIFIED:20221227T205722Z
UID:10004332-1689840000-1689850800@driveshops.com
SUMMARY:Marketing Your Shop 4/4
DESCRIPTION:
URL:https://driveshops.com/events/marketing-your-shop-4-4-6/
LOCATION:Online
CATEGORIES:Marketing Your Shop
END:VEVENT
BEGIN:VEVENT
DTSTART;TZID=UTC:20230719T080000
DTEND;TZID=UTC:20230719T110000
DTSTAMP:20260425T192711
CREATED:20221227T210928Z
LAST-MODIFIED:20221227T210928Z
UID:10003946-1689753600-1689764400@driveshops.com
SUMMARY:Professional Service Advisor Sales 5/6
DESCRIPTION:
URL:https://driveshops.com/events/professional-service-advisor-sales-5-6-13/
LOCATION:Online
CATEGORIES:Professional Service Advisor Sales,Workshop
ATTACH;FMTTYPE=image/png:https://driveshops.com/wp-content/uploads/2019/04/screen-shot-2019-05-21-at-10.14.39-am-e1558470540769.png
END:VEVENT
BEGIN:VEVENT
DTSTART;TZID=America/Los_Angeles:20230719T080000
DTEND;TZID=America/Los_Angeles:20230719T110000
DTSTAMP:20260425T192711
CREATED:20221227T204941Z
LAST-MODIFIED:20221227T204941Z
UID:10004314-1689753600-1689764400@driveshops.com
SUMMARY:Essentials of Shop Management 5/6
DESCRIPTION:
URL:https://driveshops.com/events/essentials-of-shop-management-5-6-23/
CATEGORIES:Essentials of Shop Management,Workshop
ATTACH;FMTTYPE=image/png:https://driveshops.com/wp-content/uploads/2019/04/screen-shot-2019-05-21-at-10.17.01-am-e1558471790866.png
END:VEVENT
BEGIN:VEVENT
DTSTART;TZID=UTC:20230719T080000
DTEND;TZID=UTC:20230719T110000
DTSTAMP:20260425T192711
CREATED:20221227T204142Z
LAST-MODIFIED:20221227T204142Z
UID:10004312-1689753600-1689764400@driveshops.com
SUMMARY:Building Your Dream Team 5/5
DESCRIPTION:
URL:https://driveshops.com/events/building-your-dream-team-5-5-11/
LOCATION:Online
CATEGORIES:Building Your Dream Team
ATTACH;FMTTYPE=image/png:https://driveshops.com/wp-content/uploads/2019/03/screen-shot-2019-05-20-at-12.10.22-pm-e1558471852915.png
END:VEVENT
BEGIN:VEVENT
DTSTART;TZID=UTC:20230718T080000
DTEND;TZID=UTC:20230718T110000
DTSTAMP:20260425T192711
CREATED:20221227T205714Z
LAST-MODIFIED:20221227T205714Z
UID:10004331-1689667200-1689678000@driveshops.com
SUMMARY:Marketing Your Shop 3/4
DESCRIPTION:
URL:https://driveshops.com/events/marketing-your-shop-3-4-6/
LOCATION:Online
CATEGORIES:Marketing Your Shop
END:VEVENT
BEGIN:VEVENT
DTSTART;TZID=UTC:20230717T080000
DTEND;TZID=UTC:20230717T110000
DTSTAMP:20260425T192711
CREATED:20221227T210919Z
LAST-MODIFIED:20221227T210919Z
UID:10003945-1689580800-1689591600@driveshops.com
SUMMARY:Professional Service Advisor Sales 4/6
DESCRIPTION:
URL:https://driveshops.com/events/professional-service-advisor-sales-4-6-13/
LOCATION:Online
CATEGORIES:Professional Service Advisor Sales,Workshop
ATTACH;FMTTYPE=image/png:https://driveshops.com/wp-content/uploads/2019/04/screen-shot-2019-05-21-at-10.14.39-am-e1558470540769.png
END:VEVENT
BEGIN:VEVENT
DTSTART;TZID=America/Los_Angeles:20230717T080000
DTEND;TZID=America/Los_Angeles:20230717T110000
DTSTAMP:20260425T192711
CREATED:20221227T204955Z
LAST-MODIFIED:20221227T204955Z
UID:10004315-1689580800-1689591600@driveshops.com
SUMMARY:Essentials of Shop Management 4/6
DESCRIPTION:
URL:https://driveshops.com/events/essentials-of-shop-management-4-6-23/
LOCATION:Online
CATEGORIES:Essentials of Shop Management,Workshop
ATTACH;FMTTYPE=image/png:https://driveshops.com/wp-content/uploads/2019/04/screen-shot-2019-05-21-at-10.17.01-am-e1558471790866.png
END:VEVENT
BEGIN:VEVENT
DTSTART;TZID=UTC:20230717T080000
DTEND;TZID=UTC:20230717T110000
DTSTAMP:20260425T192711
CREATED:20221227T204132Z
LAST-MODIFIED:20221227T204132Z
UID:10004311-1689580800-1689591600@driveshops.com
SUMMARY:Building Your Dream Team 4/5
DESCRIPTION:
URL:https://driveshops.com/events/building-your-dream-team-4-5-10/
LOCATION:Online
CATEGORIES:Building Your Dream Team
ATTACH;FMTTYPE=image/png:https://driveshops.com/wp-content/uploads/2019/03/screen-shot-2019-05-20-at-12.10.22-pm-e1558471852915.png
END:VEVENT
BEGIN:VEVENT
DTSTART;TZID=UTC:20230714T080000
DTEND;TZID=UTC:20230714T110000
DTSTAMP:20260425T192711
CREATED:20221227T210908Z
LAST-MODIFIED:20221227T210908Z
UID:10003943-1689321600-1689332400@driveshops.com
SUMMARY:Professional Service Advisor Sales 3/6
DESCRIPTION:
URL:https://driveshops.com/events/professional-service-advisor-sales-3-6-13/
LOCATION:Online
CATEGORIES:Professional Service Advisor Sales,Workshop
ATTACH;FMTTYPE=image/png:https://driveshops.com/wp-content/uploads/2019/04/screen-shot-2019-05-21-at-10.14.39-am-e1558470540769.png
END:VEVENT
BEGIN:VEVENT
DTSTART;TZID=UTC:20230714T080000
DTEND;TZID=UTC:20230714T110000
DTSTAMP:20260425T192711
CREATED:20221227T205005Z
LAST-MODIFIED:20221227T205005Z
UID:10004316-1689321600-1689332400@driveshops.com
SUMMARY:Essentials of Shop Management 3/6
DESCRIPTION:
URL:https://driveshops.com/events/essentials-of-shop-management-3-6-23/
LOCATION:Online
CATEGORIES:Essentials of Shop Management,Workshop
ATTACH;FMTTYPE=image/png:https://driveshops.com/wp-content/uploads/2019/04/screen-shot-2019-05-21-at-10.17.01-am-e1558471790866.png
END:VEVENT
BEGIN:VEVENT
DTSTART;TZID=UTC:20230714T080000
DTEND;TZID=UTC:20230714T110000
DTSTAMP:20260425T192711
CREATED:20221227T204119Z
LAST-MODIFIED:20221227T204119Z
UID:10004310-1689321600-1689332400@driveshops.com
SUMMARY:Building Your Dream Team 3/5
DESCRIPTION:
URL:https://driveshops.com/events/building-your-dream-team-3-5-10/
LOCATION:Online
CATEGORIES:Building Your Dream Team
ATTACH;FMTTYPE=image/png:https://driveshops.com/wp-content/uploads/2019/03/screen-shot-2019-05-20-at-12.10.22-pm-e1558471852915.png
END:VEVENT
BEGIN:VEVENT
DTSTART;TZID=UTC:20230713T080000
DTEND;TZID=UTC:20230713T110000
DTSTAMP:20260425T192711
CREATED:20221227T205706Z
LAST-MODIFIED:20221227T205706Z
UID:10004330-1689235200-1689246000@driveshops.com
SUMMARY:Marketing Your Shop 2/4
DESCRIPTION:
URL:https://driveshops.com/events/marketing-your-shop-2-4-6/
LOCATION:Online
CATEGORIES:Marketing Your Shop
END:VEVENT
BEGIN:VEVENT
DTSTART;TZID=UTC:20230712T080000
DTEND;TZID=UTC:20230712T110000
DTSTAMP:20260425T192711
CREATED:20221227T210900Z
LAST-MODIFIED:20221227T210900Z
UID:10003941-1689148800-1689159600@driveshops.com
SUMMARY:Professional Service Advisor Sales 2/6
DESCRIPTION:
URL:https://driveshops.com/events/professional-service-advisor-sales-2-6-13/
LOCATION:Online
CATEGORIES:Professional Service Advisor Sales,Workshop
ATTACH;FMTTYPE=image/png:https://driveshops.com/wp-content/uploads/2019/04/screen-shot-2019-05-21-at-10.14.39-am-e1558470540769.png
END:VEVENT
BEGIN:VEVENT
DTSTART;TZID=UTC:20230712T080000
DTEND;TZID=UTC:20230712T110000
DTSTAMP:20260425T192711
CREATED:20221227T205116Z
LAST-MODIFIED:20221227T205116Z
UID:10004326-1689148800-1689159600@driveshops.com
SUMMARY:Essentials of Shop Management 2/6
DESCRIPTION:
URL:https://driveshops.com/events/essentials-of-shop-management-2-6-23/
LOCATION:Online
CATEGORIES:Essentials of Shop Management,Workshop
ATTACH;FMTTYPE=image/png:https://driveshops.com/wp-content/uploads/2019/04/screen-shot-2019-05-21-at-10.17.01-am-e1558471790866.png
END:VEVENT
BEGIN:VEVENT
DTSTART;TZID=UTC:20230712T080000
DTEND;TZID=UTC:20230712T110000
DTSTAMP:20260425T192711
CREATED:20221227T204054Z
LAST-MODIFIED:20221227T204054Z
UID:10004309-1689148800-1689159600@driveshops.com
SUMMARY:Building Your Dream Team 2/5
DESCRIPTION:
URL:https://driveshops.com/events/building-your-dream-team-2-5-10/
LOCATION:Online
CATEGORIES:Building Your Dream Team
ATTACH;FMTTYPE=image/png:https://driveshops.com/wp-content/uploads/2019/03/screen-shot-2019-05-20-at-12.10.22-pm-e1558471852915.png
END:VEVENT
BEGIN:VEVENT
DTSTART;TZID=UTC:20230711T080000
DTEND;TZID=UTC:20230711T110000
DTSTAMP:20260425T192711
CREATED:20221227T205657Z
LAST-MODIFIED:20221227T205657Z
UID:10004328-1689062400-1689073200@driveshops.com
SUMMARY:Marketing Your Shop 1/4
DESCRIPTION:
URL:https://driveshops.com/events/marketing-your-shop-1-4-6/
LOCATION:Online
CATEGORIES:Marketing Your Shop
END:VEVENT
BEGIN:VEVENT
DTSTART;TZID=UTC:20230710T080000
DTEND;TZID=UTC:20230710T110000
DTSTAMP:20260425T192711
CREATED:20221227T210849Z
LAST-MODIFIED:20221227T210849Z
UID:10003939-1688976000-1688986800@driveshops.com
SUMMARY:Professional Service Advisor Sales 1/6
DESCRIPTION:
URL:https://driveshops.com/events/professional-service-advisor-sales-1-6-12/
LOCATION:Online
CATEGORIES:Professional Service Advisor Sales,Workshop
ATTACH;FMTTYPE=image/png:https://driveshops.com/wp-content/uploads/2019/04/screen-shot-2019-05-21-at-10.14.39-am-e1558470540769.png
END:VEVENT
BEGIN:VEVENT
DTSTART;TZID=UTC:20230710T080000
DTEND;TZID=UTC:20230710T110000
DTSTAMP:20260425T192711
CREATED:20221227T205037Z
LAST-MODIFIED:20221227T205037Z
UID:10004324-1688976000-1688986800@driveshops.com
SUMMARY:Essentials of Shop Management 1/6
DESCRIPTION:
URL:https://driveshops.com/events/essentials-of-shop-management-1-6-22/
LOCATION:Online
CATEGORIES:Essentials of Shop Management,Workshop
ATTACH;FMTTYPE=image/png:https://driveshops.com/wp-content/uploads/2019/04/screen-shot-2019-05-21-at-10.17.01-am-e1558471790866.png
END:VEVENT
BEGIN:VEVENT
DTSTART;TZID=UTC:20230710T080000
DTEND;TZID=UTC:20230710T110000
DTSTAMP:20260425T192711
CREATED:20221227T203954Z
LAST-MODIFIED:20221227T203954Z
UID:10004308-1688976000-1688986800@driveshops.com
SUMMARY:Building Your Dream Team 1/5
DESCRIPTION:
URL:https://driveshops.com/events/building-your-dream-team-1-5-10/
LOCATION:Online
CATEGORIES:Building Your Dream Team
ATTACH;FMTTYPE=image/png:https://driveshops.com/wp-content/uploads/2019/03/screen-shot-2019-05-20-at-12.10.22-pm-e1558471852915.png
END:VEVENT
BEGIN:VEVENT
DTSTART;TZID=UTC:20230630T080000
DTEND;TZID=UTC:20230630T110000
DTSTAMP:20260425T192711
CREATED:20221227T174142Z
LAST-MODIFIED:20221227T174142Z
UID:10004307-1688112000-1688122800@driveshops.com
SUMMARY:Succession & Exit Planning 6/6
DESCRIPTION:
URL:https://driveshops.com/events/succession-exit-planning-6-6-5/
LOCATION:Online
CATEGORIES:Succession & Exit Planning,Workshop
ATTACH;FMTTYPE=image/png:https://driveshops.com/wp-content/uploads/2019/04/screen-shot-2019-05-21-at-10.36.20-am-e1558471267564.png
END:VEVENT
BEGIN:VEVENT
DTSTART;TZID=UTC:20230630T080000
DTEND;TZID=UTC:20230630T110000
DTSTAMP:20260425T192711
CREATED:20221227T173139Z
LAST-MODIFIED:20221227T173139Z
UID:10003925-1688112000-1688122800@driveshops.com
SUMMARY:Getting Your Point Across 6/6
DESCRIPTION:
URL:https://driveshops.com/events/getting-your-point-across-6-6-2/
LOCATION:Online
CATEGORIES:Getting Your Point Across,Workshop
ORGANIZER;CN="Tony Wisler":MAILTO:scheduling@driveshops.com
END:VEVENT
BEGIN:VEVENT
DTSTART;TZID=UTC:20230629T080000
DTEND;TZID=UTC:20230629T110000
DTSTAMP:20260425T192711
CREATED:20221227T172708Z
LAST-MODIFIED:20221227T172708Z
UID:10003915-1688025600-1688036400@driveshops.com
SUMMARY:How to Increase Your Profits 4/4
DESCRIPTION:
URL:https://driveshops.com/events/how-to-increase-your-profits-4-4-3/
LOCATION:Online
CATEGORIES:How To Increase Your Profits,Workshop
ATTACH;FMTTYPE=image/png:https://driveshops.com/wp-content/uploads/2019/04/screen-shot-2019-05-21-at-10.25.56-am-e1558471321731.png
END:VEVENT
BEGIN:VEVENT
DTSTART;TZID=UTC:20230628T080000
DTEND;TZID=UTC:20230628T110000
DTSTAMP:20260425T192711
CREATED:20221227T174123Z
LAST-MODIFIED:20221227T174123Z
UID:10004306-1687939200-1687950000@driveshops.com
SUMMARY:Succession & Exit Planning 5/6
DESCRIPTION:
URL:https://driveshops.com/events/succession-exit-planning-5-6-5/
LOCATION:Online
CATEGORIES:Succession & Exit Planning,Workshop
ATTACH;FMTTYPE=image/png:https://driveshops.com/wp-content/uploads/2019/04/screen-shot-2019-05-21-at-10.36.20-am-e1558471267564.png
END:VEVENT
BEGIN:VEVENT
DTSTART;TZID=UTC:20230628T080000
DTEND;TZID=UTC:20230628T110000
DTSTAMP:20260425T192711
CREATED:20221227T172926Z
LAST-MODIFIED:20221227T172926Z
UID:10003923-1687939200-1687950000@driveshops.com
SUMMARY:Getting Your Point Across 5/6
DESCRIPTION:
URL:https://driveshops.com/events/getting-your-point-across-5-7-3/
LOCATION:Online
CATEGORIES:Getting Your Point Across,Workshop
ORGANIZER;CN="Tony Wisler":MAILTO:scheduling@driveshops.com
END:VEVENT
BEGIN:VEVENT
DTSTART;TZID=UTC:20230627T080000
DTEND;TZID=UTC:20230627T110000
DTSTAMP:20260425T192711
CREATED:20221227T172655Z
LAST-MODIFIED:20221227T172655Z
UID:10003914-1687852800-1687863600@driveshops.com
SUMMARY:How to Increase Your Profits 3/4
DESCRIPTION:
URL:https://driveshops.com/events/how-to-increase-your-profits-3-4-3/
LOCATION:Online
CATEGORIES:How To Increase Your Profits,Workshop
ATTACH;FMTTYPE=image/png:https://driveshops.com/wp-content/uploads/2019/04/screen-shot-2019-05-21-at-10.25.56-am-e1558471321731.png
END:VEVENT
BEGIN:VEVENT
DTSTART;TZID=UTC:20230626T080000
DTEND;TZID=UTC:20230626T110000
DTSTAMP:20260425T192711
CREATED:20221227T174103Z
LAST-MODIFIED:20221227T174103Z
UID:10004305-1687766400-1687777200@driveshops.com
SUMMARY:Succession & Exit Planning 4/6
DESCRIPTION:
URL:https://driveshops.com/events/succession-exit-planning-4-6-4/
LOCATION:Online
CATEGORIES:Succession & Exit Planning,Workshop
ATTACH;FMTTYPE=image/png:https://driveshops.com/wp-content/uploads/2019/04/screen-shot-2019-05-21-at-10.36.20-am-e1558471267564.png
END:VEVENT
BEGIN:VEVENT
DTSTART;TZID=UTC:20230626T080000
DTEND;TZID=UTC:20230626T110000
DTSTAMP:20260425T192711
CREATED:20221227T172916Z
LAST-MODIFIED:20221227T172916Z
UID:10003921-1687766400-1687777200@driveshops.com
SUMMARY:Getting Your Point Across 4/6
DESCRIPTION:
URL:https://driveshops.com/events/getting-your-point-across-4-7-2/
LOCATION:Online
CATEGORIES:Getting Your Point Across,Workshop
ORGANIZER;CN="Tony Wisler":MAILTO:scheduling@driveshops.com
END:VEVENT
BEGIN:VEVENT
DTSTART;TZID=UTC:20230623T080000
DTEND;TZID=UTC:20230623T110000
DTSTAMP:20260425T192711
CREATED:20221227T174032Z
LAST-MODIFIED:20221227T174032Z
UID:10004304-1687507200-1687518000@driveshops.com
SUMMARY:Succession & Exit Planning 3/6
DESCRIPTION:
URL:https://driveshops.com/events/succession-exit-planning-3-6-4/
LOCATION:Online
CATEGORIES:Succession & Exit Planning,Workshop
ATTACH;FMTTYPE=image/png:https://driveshops.com/wp-content/uploads/2019/04/screen-shot-2019-05-21-at-10.36.20-am-e1558471267564.png
END:VEVENT
END:VCALENDAR