BEGIN:VCALENDAR
VERSION:2.0
PRODID:-//DRIVE - ECPv6.15.18//NONSGML v1.0//EN
CALSCALE:GREGORIAN
METHOD:PUBLISH
X-WR-CALNAME:DRIVE
X-ORIGINAL-URL:https://driveshops.com
X-WR-CALDESC:Events for DRIVE
REFRESH-INTERVAL;VALUE=DURATION:PT1H
X-Robots-Tag:noindex
X-PUBLISHED-TTL:PT1H
BEGIN:VTIMEZONE
TZID:America/Los_Angeles
BEGIN:DAYLIGHT
TZOFFSETFROM:-0800
TZOFFSETTO:-0700
TZNAME:PDT
DTSTART:20230312T100000
END:DAYLIGHT
BEGIN:STANDARD
TZOFFSETFROM:-0700
TZOFFSETTO:-0800
TZNAME:PST
DTSTART:20231105T090000
END:STANDARD
BEGIN:DAYLIGHT
TZOFFSETFROM:-0800
TZOFFSETTO:-0700
TZNAME:PDT
DTSTART:20240310T100000
END:DAYLIGHT
BEGIN:STANDARD
TZOFFSETFROM:-0700
TZOFFSETTO:-0800
TZNAME:PST
DTSTART:20241103T090000
END:STANDARD
BEGIN:DAYLIGHT
TZOFFSETFROM:-0800
TZOFFSETTO:-0700
TZNAME:PDT
DTSTART:20250309T100000
END:DAYLIGHT
BEGIN:STANDARD
TZOFFSETFROM:-0700
TZOFFSETTO:-0800
TZNAME:PST
DTSTART:20251102T090000
END:STANDARD
END:VTIMEZONE
BEGIN:VTIMEZONE
TZID:UTC
BEGIN:STANDARD
TZOFFSETFROM:+0000
TZOFFSETTO:+0000
TZNAME:UTC
DTSTART:20230101T000000
END:STANDARD
END:VTIMEZONE
BEGIN:VEVENT
DTSTART;TZID=America/Los_Angeles:20241025T080000
DTEND;TZID=America/Los_Angeles:20241025T110000
DTSTAMP:20260425T041339
CREATED:20240425T210836Z
LAST-MODIFIED:20240425T210836Z
UID:10007238-1729843200-1729854000@driveshops.com
SUMMARY:Succession & Exit Planning Day 3 of 6
DESCRIPTION:
URL:https://driveshops.com/events/succession-exit-planning-day-3-of-6/
LOCATION:Online
CATEGORIES:Succession & Exit Planning,Workshop
ATTACH;FMTTYPE=image/png:https://driveshops.com/wp-content/uploads/2019/04/screen-shot-2019-05-21-at-10.36.20-am-e1558471267564.png
END:VEVENT
BEGIN:VEVENT
DTSTART;TZID=America/Los_Angeles:20241025T080000
DTEND;TZID=America/Los_Angeles:20241025T110000
DTSTAMP:20260425T041339
CREATED:20240425T194814Z
LAST-MODIFIED:20240425T194814Z
UID:10007193-1729843200-1729854000@driveshops.com
SUMMARY:Controlling The Front Day 3 of 5
DESCRIPTION:
URL:https://driveshops.com/events/controlling-the-front-day-3-of-5-2/
LOCATION:Online
CATEGORIES:Controlling The Front,Workshop
ATTACH;FMTTYPE=image/png:https://driveshops.com/wp-content/uploads/2019/04/screen-shot-2019-05-21-at-10.21.47-am-e1558471774230.png
END:VEVENT
BEGIN:VEVENT
DTSTART;TZID=America/Los_Angeles:20241025T080000
DTEND;TZID=America/Los_Angeles:20241025T110000
DTSTAMP:20260425T041339
CREATED:20240425T194134Z
LAST-MODIFIED:20240425T194134Z
UID:10007183-1729843200-1729854000@driveshops.com
SUMMARY:Marketing Your Shop Day 3 of 5
DESCRIPTION:
URL:https://driveshops.com/events/marketing-your-shop-day-3-of-5-2/
LOCATION:Online
CATEGORIES:Marketing Your Shop
END:VEVENT
BEGIN:VEVENT
DTSTART;TZID=America/Los_Angeles:20241023T080000
DTEND;TZID=America/Los_Angeles:20241023T110000
DTSTAMP:20260425T041339
CREATED:20240425T210819Z
LAST-MODIFIED:20240425T210819Z
UID:10007237-1729670400-1729681200@driveshops.com
SUMMARY:Succession & Exit Planning Day 2 of 6
DESCRIPTION:
URL:https://driveshops.com/events/succession-exit-planning-day-2-of-6/
LOCATION:Online
CATEGORIES:Succession & Exit Planning,Workshop
ATTACH;FMTTYPE=image/png:https://driveshops.com/wp-content/uploads/2019/04/screen-shot-2019-05-21-at-10.36.20-am-e1558471267564.png
END:VEVENT
BEGIN:VEVENT
DTSTART;TZID=America/Los_Angeles:20241023T080000
DTEND;TZID=America/Los_Angeles:20241023T110000
DTSTAMP:20260425T041339
CREATED:20240425T194805Z
LAST-MODIFIED:20240425T194805Z
UID:10007192-1729670400-1729681200@driveshops.com
SUMMARY:Controlling The Front Day 2 of 5
DESCRIPTION:
URL:https://driveshops.com/events/controlling-the-front-day-2-of-5-2/
LOCATION:Online
CATEGORIES:Controlling The Front,Workshop
ATTACH;FMTTYPE=image/png:https://driveshops.com/wp-content/uploads/2019/04/screen-shot-2019-05-21-at-10.21.47-am-e1558471774230.png
END:VEVENT
BEGIN:VEVENT
DTSTART;TZID=America/Los_Angeles:20241023T080000
DTEND;TZID=America/Los_Angeles:20241023T110000
DTSTAMP:20260425T041339
CREATED:20240425T194122Z
LAST-MODIFIED:20240425T194122Z
UID:10007182-1729670400-1729681200@driveshops.com
SUMMARY:Marketing Your Shop Day 2 of 5
DESCRIPTION:
URL:https://driveshops.com/events/marketing-your-shop-day-2-of-5-2/
LOCATION:Online
CATEGORIES:Marketing Your Shop
END:VEVENT
BEGIN:VEVENT
DTSTART;TZID=America/Los_Angeles:20241021T080000
DTEND;TZID=America/Los_Angeles:20241021T110000
DTSTAMP:20260425T041339
CREATED:20240425T210806Z
LAST-MODIFIED:20240425T210806Z
UID:10007236-1729497600-1729508400@driveshops.com
SUMMARY:Succession & Exit Planning Day 1 of 6
DESCRIPTION:
URL:https://driveshops.com/events/succession-exit-planning-day-1-of-6/
LOCATION:Online
CATEGORIES:Succession & Exit Planning,Workshop
ATTACH;FMTTYPE=image/png:https://driveshops.com/wp-content/uploads/2019/04/screen-shot-2019-05-21-at-10.36.20-am-e1558471267564.png
END:VEVENT
BEGIN:VEVENT
DTSTART;TZID=America/Los_Angeles:20241021T080000
DTEND;TZID=America/Los_Angeles:20241021T110000
DTSTAMP:20260425T041339
CREATED:20240425T194751Z
LAST-MODIFIED:20240425T194751Z
UID:10007191-1729497600-1729508400@driveshops.com
SUMMARY:Controlling The Front Day 1 of 5
DESCRIPTION:
URL:https://driveshops.com/events/controlling-the-front-day-1-of-5-2/
LOCATION:Online
CATEGORIES:Controlling The Front,Workshop
ATTACH;FMTTYPE=image/png:https://driveshops.com/wp-content/uploads/2019/04/screen-shot-2019-05-21-at-10.21.47-am-e1558471774230.png
END:VEVENT
BEGIN:VEVENT
DTSTART;TZID=America/Los_Angeles:20241021T080000
DTEND;TZID=America/Los_Angeles:20241021T110000
DTSTAMP:20260425T041339
CREATED:20240425T194111Z
LAST-MODIFIED:20240425T194111Z
UID:10007181-1729497600-1729508400@driveshops.com
SUMMARY:Marketing Your Shop Day 1 of 5
DESCRIPTION:
URL:https://driveshops.com/events/marketing-your-shop-day-1-of-5-2/
LOCATION:Online
CATEGORIES:Marketing Your Shop
END:VEVENT
BEGIN:VEVENT
DTSTART;TZID=America/Los_Angeles:20241018T080000
DTEND;TZID=America/Los_Angeles:20241018T110000
DTSTAMP:20260425T041339
CREATED:20240425T210047Z
LAST-MODIFIED:20240425T210047Z
UID:10007235-1729238400-1729249200@driveshops.com
SUMMARY:Getting Your Point Across Day 6 of 6
DESCRIPTION:
URL:https://driveshops.com/events/getting-your-point-across-day-6-of-6/
LOCATION:Online
CATEGORIES:Getting Your Point Across,Workshop
ORGANIZER;CN="Tony Wisler":MAILTO:scheduling@driveshops.com
END:VEVENT
BEGIN:VEVENT
DTSTART;TZID=UTC:20241018T080000
DTEND;TZID=UTC:20241018T110000
DTSTAMP:20260425T041339
CREATED:20240425T171426Z
LAST-MODIFIED:20240425T171426Z
UID:10007125-1729238400-1729249200@driveshops.com
SUMMARY:How to Read and Use Financial Statements Day 6 of 6
DESCRIPTION:
URL:https://driveshops.com/events/how-to-read-and-use-financial-statements-day-6-of-6-2/
LOCATION:Online
CATEGORIES:How to Read and Use Financial Statements,Workshop
END:VEVENT
BEGIN:VEVENT
DTSTART;TZID=America/Los_Angeles:20241018T080000
DTEND;TZID=America/Los_Angeles:20241018T110000
DTSTAMP:20260425T041339
CREATED:20240425T161952Z
LAST-MODIFIED:20240425T161952Z
UID:10007086-1729238400-1729249200@driveshops.com
SUMMARY:Essentials of Shop Management Day 6 of 6
DESCRIPTION:
URL:https://driveshops.com/events/essentials-of-shop-management-day-6-of-6-2/
LOCATION:Online
CATEGORIES:Essentials of Shop Management,Workshop
ATTACH;FMTTYPE=image/png:https://driveshops.com/wp-content/uploads/2019/04/screen-shot-2019-05-21-at-10.17.01-am-e1558471790866.png
END:VEVENT
BEGIN:VEVENT
DTSTART;TZID=America/Los_Angeles:20241017T080000
DTEND;TZID=America/Los_Angeles:20241017T110000
DTSTAMP:20260425T041339
CREATED:20240425T195624Z
LAST-MODIFIED:20240425T195624Z
UID:10007208-1729152000-1729162800@driveshops.com
SUMMARY:How to Increase Your Profits Day 4 of 4
DESCRIPTION:
URL:https://driveshops.com/events/how-to-increase-your-profits-day-4-of-4-2/
LOCATION:Online
CATEGORIES:How To Increase Your Profits,Workshop
ATTACH;FMTTYPE=image/png:https://driveshops.com/wp-content/uploads/2019/04/screen-shot-2019-05-21-at-10.25.56-am-e1558471321731.png
END:VEVENT
BEGIN:VEVENT
DTSTART;TZID=America/Los_Angeles:20241016T080000
DTEND;TZID=America/Los_Angeles:20241016T110000
DTSTAMP:20260425T041339
CREATED:20240425T210027Z
LAST-MODIFIED:20240425T210027Z
UID:10007234-1729065600-1729076400@driveshops.com
SUMMARY:Getting Your Point Across Day 5 of 6
DESCRIPTION:
URL:https://driveshops.com/events/getting-your-point-across-day-5-of-6/
LOCATION:Online
CATEGORIES:Getting Your Point Across,Workshop
ORGANIZER;CN="Tony Wisler":MAILTO:scheduling@driveshops.com
END:VEVENT
BEGIN:VEVENT
DTSTART;TZID=UTC:20241016T080000
DTEND;TZID=UTC:20241016T110000
DTSTAMP:20260425T041339
CREATED:20240425T171410Z
LAST-MODIFIED:20240425T171410Z
UID:10007124-1729065600-1729076400@driveshops.com
SUMMARY:How to Read and Use Financial Statements Day 5 of 6
DESCRIPTION:
URL:https://driveshops.com/events/how-to-read-and-use-financial-statements-day-5-of-6-2/
LOCATION:Online
CATEGORIES:How to Read and Use Financial Statements,Workshop
END:VEVENT
BEGIN:VEVENT
DTSTART;TZID=America/Los_Angeles:20241016T080000
DTEND;TZID=America/Los_Angeles:20241016T110000
DTSTAMP:20260425T041339
CREATED:20240425T161938Z
LAST-MODIFIED:20240425T161938Z
UID:10007085-1729065600-1729076400@driveshops.com
SUMMARY:Essentials of Shop Management Day 5 of 6
DESCRIPTION:
URL:https://driveshops.com/events/essentials-of-shop-management-day-5-of-6-3/
CATEGORIES:Essentials of Shop Management,Workshop
ATTACH;FMTTYPE=image/png:https://driveshops.com/wp-content/uploads/2019/04/screen-shot-2019-05-21-at-10.17.01-am-e1558471790866.png
END:VEVENT
BEGIN:VEVENT
DTSTART;TZID=America/Los_Angeles:20241015T080000
DTEND;TZID=America/Los_Angeles:20241015T110000
DTSTAMP:20260425T041339
CREATED:20240425T195617Z
LAST-MODIFIED:20240425T195617Z
UID:10007207-1728979200-1728990000@driveshops.com
SUMMARY:How to Increase Your Profits Day 3 of 4
DESCRIPTION:
URL:https://driveshops.com/events/how-to-increase-your-profits-day-3-of-4-2/
LOCATION:Online
CATEGORIES:How To Increase Your Profits,Workshop
ATTACH;FMTTYPE=image/png:https://driveshops.com/wp-content/uploads/2019/04/screen-shot-2019-05-21-at-10.25.56-am-e1558471321731.png
END:VEVENT
BEGIN:VEVENT
DTSTART;TZID=America/Los_Angeles:20241014T080000
DTEND;TZID=America/Los_Angeles:20241014T110000
DTSTAMP:20260425T041339
CREATED:20240425T210009Z
LAST-MODIFIED:20240425T210009Z
UID:10007233-1728892800-1728903600@driveshops.com
SUMMARY:Getting Your Point Across Day 4 of 6
DESCRIPTION:
URL:https://driveshops.com/events/getting-your-point-across-day-4-of-6/
LOCATION:Online
CATEGORIES:Getting Your Point Across,Workshop
ORGANIZER;CN="Tony Wisler":MAILTO:scheduling@driveshops.com
END:VEVENT
BEGIN:VEVENT
DTSTART;TZID=UTC:20241014T080000
DTEND;TZID=UTC:20241014T110000
DTSTAMP:20260425T041339
CREATED:20240425T171355Z
LAST-MODIFIED:20240425T171355Z
UID:10007123-1728892800-1728903600@driveshops.com
SUMMARY:How to Read and Use Financial Statements Day 4 of 6
DESCRIPTION:
URL:https://driveshops.com/events/how-to-read-and-use-financial-statements-day-4-of-6-2/
LOCATION:Online
CATEGORIES:How to Read and Use Financial Statements,Workshop
END:VEVENT
BEGIN:VEVENT
DTSTART;TZID=America/Los_Angeles:20241014T080000
DTEND;TZID=America/Los_Angeles:20241014T110000
DTSTAMP:20260425T041339
CREATED:20240425T161928Z
LAST-MODIFIED:20240425T161928Z
UID:10007084-1728892800-1728903600@driveshops.com
SUMMARY:Essentials of Shop Management Day 4 of 6
DESCRIPTION:
URL:https://driveshops.com/events/essentials-of-shop-management-day-4-of-6-3/
LOCATION:Online
CATEGORIES:Essentials of Shop Management,Workshop
ATTACH;FMTTYPE=image/png:https://driveshops.com/wp-content/uploads/2019/04/screen-shot-2019-05-21-at-10.17.01-am-e1558471790866.png
END:VEVENT
BEGIN:VEVENT
DTSTART;TZID=America/Los_Angeles:20241011T080000
DTEND;TZID=America/Los_Angeles:20241011T110000
DTSTAMP:20260425T041339
CREATED:20240425T205947Z
LAST-MODIFIED:20240425T205947Z
UID:10007232-1728633600-1728644400@driveshops.com
SUMMARY:Getting Your Point Across Day 3 of 6
DESCRIPTION:
URL:https://driveshops.com/events/getting-your-point-across-day-3-of-6/
LOCATION:Online
CATEGORIES:Getting Your Point Across,Workshop
ORGANIZER;CN="Tony Wisler":MAILTO:scheduling@driveshops.com
END:VEVENT
BEGIN:VEVENT
DTSTART;TZID=America/Los_Angeles:20241011T080000
DTEND;TZID=America/Los_Angeles:20241011T110000
DTSTAMP:20260425T041339
CREATED:20240425T171344Z
LAST-MODIFIED:20240425T171344Z
UID:10007122-1728633600-1728644400@driveshops.com
SUMMARY:How to Read and Use Financial Statements Day 3 of 6
DESCRIPTION:
URL:https://driveshops.com/events/how-to-read-and-use-financial-statements-day-3-of-6-2/
LOCATION:Online
CATEGORIES:How to Read and Use Financial Statements,Workshop
END:VEVENT
BEGIN:VEVENT
DTSTART;TZID=America/Los_Angeles:20241011T080000
DTEND;TZID=America/Los_Angeles:20241011T110000
DTSTAMP:20260425T041339
CREATED:20240425T161917Z
LAST-MODIFIED:20240425T161917Z
UID:10007083-1728633600-1728644400@driveshops.com
SUMMARY:Essentials of Shop Management Day 3 of 6
DESCRIPTION:
URL:https://driveshops.com/events/essentials-of-shop-management-day-3-of-6-3/
LOCATION:Online
CATEGORIES:Essentials of Shop Management,Workshop
ATTACH;FMTTYPE=image/png:https://driveshops.com/wp-content/uploads/2019/04/screen-shot-2019-05-21-at-10.17.01-am-e1558471790866.png
END:VEVENT
BEGIN:VEVENT
DTSTART;TZID=America/Los_Angeles:20241010T080000
DTEND;TZID=America/Los_Angeles:20241010T110000
DTSTAMP:20260425T041339
CREATED:20240425T195607Z
LAST-MODIFIED:20240425T195607Z
UID:10007206-1728547200-1728558000@driveshops.com
SUMMARY:How to Increase Your Profits Day 2 of 4
DESCRIPTION:
URL:https://driveshops.com/events/how-to-increase-your-profits-day-2-of-4-2/
LOCATION:Online
CATEGORIES:How To Increase Your Profits,Workshop
ATTACH;FMTTYPE=image/png:https://driveshops.com/wp-content/uploads/2019/04/screen-shot-2019-05-21-at-10.25.56-am-e1558471321731.png
END:VEVENT
BEGIN:VEVENT
DTSTART;TZID=America/Los_Angeles:20241009T080000
DTEND;TZID=America/Los_Angeles:20241009T110000
DTSTAMP:20260425T041339
CREATED:20240425T205935Z
LAST-MODIFIED:20240425T205935Z
UID:10007231-1728460800-1728471600@driveshops.com
SUMMARY:Getting Your Point Across Day 2 of 6
DESCRIPTION:
URL:https://driveshops.com/events/getting-your-point-across-day-2-of-6/
LOCATION:Online
CATEGORIES:Getting Your Point Across,Workshop
ORGANIZER;CN="Tony Wisler":MAILTO:scheduling@driveshops.com
END:VEVENT
BEGIN:VEVENT
DTSTART;TZID=America/Los_Angeles:20241009T080000
DTEND;TZID=America/Los_Angeles:20241009T110000
DTSTAMP:20260425T041339
CREATED:20240425T171331Z
LAST-MODIFIED:20240425T171331Z
UID:10007121-1728460800-1728471600@driveshops.com
SUMMARY:How to Read and Use Financial Statements Day 2 of 6
DESCRIPTION:
URL:https://driveshops.com/events/how-to-read-and-use-financial-statements-day-2-of-6-2/
LOCATION:Online
CATEGORIES:How to Read and Use Financial Statements,Workshop
END:VEVENT
BEGIN:VEVENT
DTSTART;TZID=America/Los_Angeles:20241009T080000
DTEND;TZID=America/Los_Angeles:20241009T110000
DTSTAMP:20260425T041339
CREATED:20240425T161907Z
LAST-MODIFIED:20240425T161907Z
UID:10007082-1728460800-1728471600@driveshops.com
SUMMARY:Essentials of Shop Management Day 2 of 6
DESCRIPTION:
URL:https://driveshops.com/events/essentials-of-shop-management-day-2-of-6-3/
LOCATION:Online
CATEGORIES:Essentials of Shop Management,Workshop
ATTACH;FMTTYPE=image/png:https://driveshops.com/wp-content/uploads/2019/04/screen-shot-2019-05-21-at-10.17.01-am-e1558471790866.png
END:VEVENT
BEGIN:VEVENT
DTSTART;TZID=America/Los_Angeles:20241008T080000
DTEND;TZID=America/Los_Angeles:20241008T110000
DTSTAMP:20260425T041339
CREATED:20240425T195559Z
LAST-MODIFIED:20240425T195559Z
UID:10007205-1728374400-1728385200@driveshops.com
SUMMARY:How to Increase Your Profits Day 1 of 4
DESCRIPTION:
URL:https://driveshops.com/events/how-to-increase-your-profits-day-1-of-4-2/
LOCATION:Online
CATEGORIES:How To Increase Your Profits,Workshop
ATTACH;FMTTYPE=image/png:https://driveshops.com/wp-content/uploads/2019/04/screen-shot-2019-05-21-at-10.25.56-am-e1558471321731.png
END:VEVENT
BEGIN:VEVENT
DTSTART;TZID=America/Los_Angeles:20241007T080000
DTEND;TZID=America/Los_Angeles:20241007T110000
DTSTAMP:20260425T041339
CREATED:20240425T205919Z
LAST-MODIFIED:20240425T205919Z
UID:10007230-1728288000-1728298800@driveshops.com
SUMMARY:Getting Your Point Across Day 1 of 6
DESCRIPTION:
URL:https://driveshops.com/events/getting-your-point-across-day-1-of-6/
LOCATION:Online
CATEGORIES:Getting Your Point Across,Workshop
ORGANIZER;CN="Tony Wisler":MAILTO:scheduling@driveshops.com
END:VEVENT
BEGIN:VEVENT
DTSTART;TZID=America/Los_Angeles:20241007T080000
DTEND;TZID=America/Los_Angeles:20241007T110000
DTSTAMP:20260425T041339
CREATED:20240425T171315Z
LAST-MODIFIED:20240425T171315Z
UID:10007120-1728288000-1728298800@driveshops.com
SUMMARY:How to Read and Use Financial Statements Day 1 of 6
DESCRIPTION:
URL:https://driveshops.com/events/how-to-read-and-use-financial-statements-day-1-of-6-2/
LOCATION:Online
CATEGORIES:How to Read and Use Financial Statements,Workshop
END:VEVENT
END:VCALENDAR