BEGIN:VCALENDAR
VERSION:2.0
PRODID:-//DRIVE - ECPv6.15.18//NONSGML v1.0//EN
CALSCALE:GREGORIAN
METHOD:PUBLISH
X-ORIGINAL-URL:https://driveshops.com
X-WR-CALDESC:Events for DRIVE
REFRESH-INTERVAL;VALUE=DURATION:PT1H
X-Robots-Tag:noindex
X-PUBLISHED-TTL:PT1H
BEGIN:VTIMEZONE
TZID:America/Denver
BEGIN:DAYLIGHT
TZOFFSETFROM:-0700
TZOFFSETTO:-0600
TZNAME:MDT
DTSTART:20230312T090000
END:DAYLIGHT
BEGIN:STANDARD
TZOFFSETFROM:-0600
TZOFFSETTO:-0700
TZNAME:MST
DTSTART:20231105T080000
END:STANDARD
BEGIN:DAYLIGHT
TZOFFSETFROM:-0700
TZOFFSETTO:-0600
TZNAME:MDT
DTSTART:20240310T090000
END:DAYLIGHT
BEGIN:STANDARD
TZOFFSETFROM:-0600
TZOFFSETTO:-0700
TZNAME:MST
DTSTART:20241103T080000
END:STANDARD
BEGIN:DAYLIGHT
TZOFFSETFROM:-0700
TZOFFSETTO:-0600
TZNAME:MDT
DTSTART:20250309T090000
END:DAYLIGHT
BEGIN:STANDARD
TZOFFSETFROM:-0600
TZOFFSETTO:-0700
TZNAME:MST
DTSTART:20251102T080000
END:STANDARD
END:VTIMEZONE
BEGIN:VTIMEZONE
TZID:America/Los_Angeles
BEGIN:DAYLIGHT
TZOFFSETFROM:-0800
TZOFFSETTO:-0700
TZNAME:PDT
DTSTART:20230312T100000
END:DAYLIGHT
BEGIN:STANDARD
TZOFFSETFROM:-0700
TZOFFSETTO:-0800
TZNAME:PST
DTSTART:20231105T090000
END:STANDARD
BEGIN:DAYLIGHT
TZOFFSETFROM:-0800
TZOFFSETTO:-0700
TZNAME:PDT
DTSTART:20240310T100000
END:DAYLIGHT
BEGIN:STANDARD
TZOFFSETFROM:-0700
TZOFFSETTO:-0800
TZNAME:PST
DTSTART:20241103T090000
END:STANDARD
BEGIN:DAYLIGHT
TZOFFSETFROM:-0800
TZOFFSETTO:-0700
TZNAME:PDT
DTSTART:20250309T100000
END:DAYLIGHT
BEGIN:STANDARD
TZOFFSETFROM:-0700
TZOFFSETTO:-0800
TZNAME:PST
DTSTART:20251102T090000
END:STANDARD
END:VTIMEZONE
BEGIN:VTIMEZONE
TZID:UTC
BEGIN:STANDARD
TZOFFSETFROM:+0000
TZOFFSETTO:+0000
TZNAME:UTC
DTSTART:20230101T000000
END:STANDARD
END:VTIMEZONE
BEGIN:VEVENT
DTSTART;TZID=America/Denver:20241104T080000
DTEND;TZID=America/Denver:20241104T110000
DTSTAMP:20260425T063545
CREATED:20240425T183959Z
LAST-MODIFIED:20240524T171632Z
UID:10007161-1730707200-1730718000@driveshops.com
SUMMARY:Developing Shop Playbooks Day 1 of 5
DESCRIPTION:
URL:https://driveshops.com/events/developing-shop-playbooks-day-1-of-5-3/
LOCATION:Online
CATEGORIES:Developing Shop Playbooks,Workshop
ATTACH;FMTTYPE=image/png:https://driveshops.com/wp-content/uploads/2019/09/screen-shot-2019-09-04-at-11.16.56-am.png
END:VEVENT
BEGIN:VEVENT
DTSTART;TZID=America/Denver:20241105T080000
DTEND;TZID=America/Denver:20241105T110000
DTSTAMP:20260425T063545
CREATED:20240425T193005Z
LAST-MODIFIED:20240425T193005Z
UID:10007171-1730793600-1730804400@driveshops.com
SUMMARY:Managing Change Day 1 of 5
DESCRIPTION:Understand the basic principles of successful change.\nUnderstand how to make changes that result in a more profitable and successful business.\nPractice the procedure of making changes until it is mastered.
URL:https://driveshops.com/events/managing-change-day-1-of-5/
LOCATION:Online
CATEGORIES:Managing Change,Workshop
ATTACH;FMTTYPE=image/png:https://driveshops.com/wp-content/uploads/2019/04/screen-shot-2019-05-21-at-10.47.53-am-e1558471201812.png
END:VEVENT
BEGIN:VEVENT
DTSTART;TZID=America/Denver:20241106T080000
DTEND;TZID=America/Denver:20241106T110000
DTSTAMP:20260425T063545
CREATED:20240425T184007Z
LAST-MODIFIED:20240524T171645Z
UID:10007162-1730880000-1730890800@driveshops.com
SUMMARY:Developing Shop Playbooks Day 2 of 5
DESCRIPTION:
URL:https://driveshops.com/events/developing-shop-playbooks-day-2-of-5-3/
LOCATION:Online
CATEGORIES:Developing Shop Playbooks,Workshop
ATTACH;FMTTYPE=image/png:https://driveshops.com/wp-content/uploads/2019/09/screen-shot-2019-09-04-at-11.16.56-am.png
END:VEVENT
BEGIN:VEVENT
DTSTART;TZID=America/Denver:20241107T080000
DTEND;TZID=America/Denver:20241107T110000
DTSTAMP:20260425T063545
CREATED:20240425T193019Z
LAST-MODIFIED:20240425T193019Z
UID:10007172-1730966400-1730977200@driveshops.com
SUMMARY:Managing Change Day 2 of 5
DESCRIPTION:Understand the basic principles of successful change.\nUnderstand how to make changes that result in a more profitable and successful business.\nPractice the procedure of making changes until it is mastered.
URL:https://driveshops.com/events/managing-change-day-2-of-5/
LOCATION:Online
CATEGORIES:Managing Change,Workshop
ATTACH;FMTTYPE=image/png:https://driveshops.com/wp-content/uploads/2019/04/screen-shot-2019-05-21-at-10.47.53-am-e1558471201812.png
END:VEVENT
BEGIN:VEVENT
DTSTART;TZID=America/Denver:20241108T080000
DTEND;TZID=America/Denver:20241108T110000
DTSTAMP:20260425T063545
CREATED:20240425T184027Z
LAST-MODIFIED:20240524T171700Z
UID:10007163-1731052800-1731063600@driveshops.com
SUMMARY:Developing Shop Playbooks Day 3 of 5
DESCRIPTION:
URL:https://driveshops.com/events/developing-shop-playbooks-day-3-of-5-3/
LOCATION:Online
CATEGORIES:Developing Shop Playbooks,Workshop
ATTACH;FMTTYPE=image/png:https://driveshops.com/wp-content/uploads/2019/09/screen-shot-2019-09-04-at-11.16.56-am.png
END:VEVENT
BEGIN:VEVENT
DTSTART;TZID=America/Los_Angeles:20241111T080000
DTEND;TZID=America/Los_Angeles:20241111T110000
DTSTAMP:20260425T063545
CREATED:20240425T160306Z
LAST-MODIFIED:20241115T162931Z
UID:10007066-1731312000-1731322800@driveshops.com
SUMMARY:Building Your Dream Team Day 1 of 5
DESCRIPTION:
URL:https://driveshops.com/events/building-your-dream-team-day-1-of-6-3/
LOCATION:Online
CATEGORIES:Building Your Dream Team
ATTACH;FMTTYPE=image/png:https://driveshops.com/wp-content/uploads/2019/03/screen-shot-2019-05-20-at-12.10.22-pm-e1558471852915.png
END:VEVENT
BEGIN:VEVENT
DTSTART;TZID=America/Los_Angeles:20241111T080000
DTEND;TZID=America/Los_Angeles:20241111T110000
DTSTAMP:20260425T063545
CREATED:20240425T164516Z
LAST-MODIFIED:20240425T164516Z
UID:10007108-1731312000-1731322800@driveshops.com
SUMMARY:Professional Service Advisor Sales Day 1 of 6
DESCRIPTION:
URL:https://driveshops.com/events/professional-service-advisor-sales-day-1-of-6-3/
LOCATION:Online
CATEGORIES:Professional Service Advisor Sales,Workshop
ATTACH;FMTTYPE=image/png:https://driveshops.com/wp-content/uploads/2019/04/screen-shot-2019-05-21-at-10.14.39-am-e1558470540769.png
END:VEVENT
BEGIN:VEVENT
DTSTART;TZID=America/Los_Angeles:20241111T080000
DTEND;TZID=America/Los_Angeles:20241111T110000
DTSTAMP:20260425T063545
CREATED:20240425T173603Z
LAST-MODIFIED:20240425T173604Z
UID:10007135-1731312000-1731322800@driveshops.com
SUMMARY:Planning For Success Day 1 of 5
DESCRIPTION:
URL:https://driveshops.com/events/planning-for-success-day-1-of-5-2/
LOCATION:Online
CATEGORIES:Planning for Success,Workshop
ATTACH;FMTTYPE=image/png:https://driveshops.com/wp-content/uploads/2019/04/screen-shot-2019-05-21-at-10.44.40-am-e1558471214538.png
END:VEVENT
BEGIN:VEVENT
DTSTART;TZID=America/Denver:20241111T080000
DTEND;TZID=America/Denver:20241111T110000
DTSTAMP:20260425T063545
CREATED:20240425T184035Z
LAST-MODIFIED:20240524T171726Z
UID:10007164-1731312000-1731322800@driveshops.com
SUMMARY:Developing Shop Playbooks Day 4 of 5
DESCRIPTION:
URL:https://driveshops.com/events/developing-shop-playbooks-day-4-of-5-3/
LOCATION:Online
CATEGORIES:Developing Shop Playbooks,Workshop
ATTACH;FMTTYPE=image/png:https://driveshops.com/wp-content/uploads/2019/09/screen-shot-2019-09-04-at-11.16.56-am.png
END:VEVENT
BEGIN:VEVENT
DTSTART;TZID=America/Denver:20241112T080000
DTEND;TZID=America/Denver:20241112T110000
DTSTAMP:20260425T063545
CREATED:20240425T193043Z
LAST-MODIFIED:20240425T193043Z
UID:10007173-1731398400-1731409200@driveshops.com
SUMMARY:Managing Change Day 3 of 5
DESCRIPTION:Understand the basic principles of successful change.\nUnderstand how to make changes that result in a more profitable and successful business.\nPractice the procedure of making changes until it is mastered.
URL:https://driveshops.com/events/managing-change-day-3-of-5/
LOCATION:Online
CATEGORIES:Managing Change,Workshop
ATTACH;FMTTYPE=image/png:https://driveshops.com/wp-content/uploads/2019/04/screen-shot-2019-05-21-at-10.47.53-am-e1558471201812.png
END:VEVENT
BEGIN:VEVENT
DTSTART;TZID=America/Los_Angeles:20241112T080000
DTEND;TZID=America/Los_Angeles:20241112T110000
DTSTAMP:20260425T063545
CREATED:20240425T211406Z
LAST-MODIFIED:20240425T211406Z
UID:10007242-1731398400-1731409200@driveshops.com
SUMMARY:Key To Understanding Your Financial Reports Day 1 of 3
DESCRIPTION:
URL:https://driveshops.com/events/key-to-understanding-your-financial-reports-day-1-of-3/
LOCATION:DRIVE HQ\, 324 S Myrtle Ave\, Monrovia\, CA\, 91016\, United States
CATEGORIES:The Key to Understanding Your Financial Reports,Workshop
ATTACH;FMTTYPE=image/png:https://driveshops.com/wp-content/uploads/2019/04/screen-shot-2019-05-21-at-10.04.39-am-e1558471807663.png
END:VEVENT
BEGIN:VEVENT
DTSTART;TZID=America/Los_Angeles:20241113T080000
DTEND;TZID=America/Los_Angeles:20241113T110000
DTSTAMP:20260425T063545
CREATED:20240425T160342Z
LAST-MODIFIED:20241115T162922Z
UID:10007068-1731484800-1731495600@driveshops.com
SUMMARY:Building Your Dream Team Day 2 of 5
DESCRIPTION:
URL:https://driveshops.com/events/building-your-dream-team-day-2-of-6-3/
LOCATION:Online
CATEGORIES:Building Your Dream Team
ATTACH;FMTTYPE=image/png:https://driveshops.com/wp-content/uploads/2019/03/screen-shot-2019-05-20-at-12.10.22-pm-e1558471852915.png
END:VEVENT
BEGIN:VEVENT
DTSTART;TZID=America/Los_Angeles:20241113T080000
DTEND;TZID=America/Los_Angeles:20241113T110000
DTSTAMP:20260425T063545
CREATED:20240425T164525Z
LAST-MODIFIED:20240425T164525Z
UID:10007109-1731484800-1731495600@driveshops.com
SUMMARY:Professional Service Advisor Sales Day 2 of 6
DESCRIPTION:
URL:https://driveshops.com/events/professional-service-advisor-sales-day-2-of-6-3/
LOCATION:Online
CATEGORIES:Professional Service Advisor Sales,Workshop
ATTACH;FMTTYPE=image/png:https://driveshops.com/wp-content/uploads/2019/04/screen-shot-2019-05-21-at-10.14.39-am-e1558470540769.png
END:VEVENT
BEGIN:VEVENT
DTSTART;TZID=America/Los_Angeles:20241113T080000
DTEND;TZID=America/Los_Angeles:20241113T110000
DTSTAMP:20260425T063545
CREATED:20240425T173615Z
LAST-MODIFIED:20240425T173615Z
UID:10007136-1731484800-1731495600@driveshops.com
SUMMARY:Planning For Success Day 2 of 5
DESCRIPTION:
URL:https://driveshops.com/events/planning-for-success-day-2-of-5-2/
LOCATION:Online
CATEGORIES:Planning for Success,Workshop
ATTACH;FMTTYPE=image/png:https://driveshops.com/wp-content/uploads/2019/04/screen-shot-2019-05-21-at-10.44.40-am-e1558471214538.png
END:VEVENT
BEGIN:VEVENT
DTSTART;TZID=America/Denver:20241113T080000
DTEND;TZID=America/Denver:20241113T110000
DTSTAMP:20260425T063545
CREATED:20240425T184049Z
LAST-MODIFIED:20240524T171735Z
UID:10007165-1731484800-1731495600@driveshops.com
SUMMARY:Developing Shop Playbooks Day 5 of 5
DESCRIPTION:
URL:https://driveshops.com/events/developing-shop-playbooks-day-5-of-5-3/
LOCATION:Online
CATEGORIES:Developing Shop Playbooks,Workshop
ATTACH;FMTTYPE=image/png:https://driveshops.com/wp-content/uploads/2019/09/screen-shot-2019-09-04-at-11.16.56-am.png
END:VEVENT
BEGIN:VEVENT
DTSTART;TZID=America/Denver:20241114T080000
DTEND;TZID=America/Denver:20241114T110000
DTSTAMP:20260425T063545
CREATED:20240425T193113Z
LAST-MODIFIED:20240425T193113Z
UID:10007174-1731571200-1731582000@driveshops.com
SUMMARY:Managing Change Day 4 of 5
DESCRIPTION:Understand the basic principles of successful change.\nUnderstand how to make changes that result in a more profitable and successful business.\nPractice the procedure of making changes until it is mastered.
URL:https://driveshops.com/events/managing-change-day-4-of-5/
LOCATION:Online
CATEGORIES:Managing Change,Workshop
ATTACH;FMTTYPE=image/png:https://driveshops.com/wp-content/uploads/2019/04/screen-shot-2019-05-21-at-10.47.53-am-e1558471201812.png
END:VEVENT
BEGIN:VEVENT
DTSTART;TZID=America/Los_Angeles:20241114T080000
DTEND;TZID=America/Los_Angeles:20241114T110000
DTSTAMP:20260425T063545
CREATED:20240425T211430Z
LAST-MODIFIED:20240425T211430Z
UID:10007243-1731571200-1731582000@driveshops.com
SUMMARY:Key To Understanding Your Financial Reports Day 2 of 3
DESCRIPTION:
URL:https://driveshops.com/events/key-to-understanding-your-financial-reports-day-2-of-3/
LOCATION:DRIVE HQ\, 324 S Myrtle Ave\, Monrovia\, CA\, 91016\, United States
CATEGORIES:The Key to Understanding Your Financial Reports,Workshop
ATTACH;FMTTYPE=image/png:https://driveshops.com/wp-content/uploads/2019/04/screen-shot-2019-05-21-at-10.04.39-am-e1558471807663.png
END:VEVENT
BEGIN:VEVENT
DTSTART;TZID=America/Los_Angeles:20241115T080000
DTEND;TZID=America/Los_Angeles:20241115T110000
DTSTAMP:20260425T063545
CREATED:20240425T160155Z
LAST-MODIFIED:20241115T162942Z
UID:10007065-1731657600-1731668400@driveshops.com
SUMMARY:Building Your Dream Team Day 3 of 5
DESCRIPTION:
URL:https://driveshops.com/events/building-your-dream-team-day-3-of-6-3/
LOCATION:Online
CATEGORIES:Building Your Dream Team
ATTACH;FMTTYPE=image/png:https://driveshops.com/wp-content/uploads/2019/03/screen-shot-2019-05-20-at-12.10.22-pm-e1558471852915.png
END:VEVENT
BEGIN:VEVENT
DTSTART;TZID=America/Los_Angeles:20241115T080000
DTEND;TZID=America/Los_Angeles:20241115T110000
DTSTAMP:20260425T063545
CREATED:20240425T164539Z
LAST-MODIFIED:20240425T164539Z
UID:10007110-1731657600-1731668400@driveshops.com
SUMMARY:Professional Service Advisor Sales Day 3 of 6
DESCRIPTION:
URL:https://driveshops.com/events/professional-service-advisor-sales-day-3-of-6-3/
LOCATION:Online
CATEGORIES:Professional Service Advisor Sales,Workshop
ATTACH;FMTTYPE=image/png:https://driveshops.com/wp-content/uploads/2019/04/screen-shot-2019-05-21-at-10.14.39-am-e1558470540769.png
END:VEVENT
BEGIN:VEVENT
DTSTART;TZID=America/Los_Angeles:20241115T080000
DTEND;TZID=America/Los_Angeles:20241115T110000
DTSTAMP:20260425T063546
CREATED:20241115T161634Z
LAST-MODIFIED:20241115T161634Z
UID:10007257-1731657600-1731668400@driveshops.com
SUMMARY:Planning For Success Day 3 of 5
DESCRIPTION:
URL:https://driveshops.com/events/planning-for-success-day-3-of-5-2/
LOCATION:Online
CATEGORIES:Planning for Success,Workshop
ATTACH;FMTTYPE=image/png:https://driveshops.com/wp-content/uploads/2019/04/screen-shot-2019-05-21-at-10.44.40-am-e1558471214538.png
END:VEVENT
BEGIN:VEVENT
DTSTART;TZID=America/Los_Angeles:20241118T080000
DTEND;TZID=America/Los_Angeles:20241118T110000
DTSTAMP:20260425T063546
CREATED:20240425T160141Z
LAST-MODIFIED:20241115T162959Z
UID:10007064-1731916800-1731927600@driveshops.com
SUMMARY:Building Your Dream Team Day 4 of 5
DESCRIPTION:
URL:https://driveshops.com/events/building-your-dream-team-day-4-of-6-3/
LOCATION:Online
CATEGORIES:Building Your Dream Team
ATTACH;FMTTYPE=image/png:https://driveshops.com/wp-content/uploads/2019/03/screen-shot-2019-05-20-at-12.10.22-pm-e1558471852915.png
END:VEVENT
BEGIN:VEVENT
DTSTART;TZID=UTC:20241118T080000
DTEND;TZID=UTC:20241118T110000
DTSTAMP:20260425T063546
CREATED:20240425T164549Z
LAST-MODIFIED:20240425T164549Z
UID:10007111-1731916800-1731927600@driveshops.com
SUMMARY:Professional Service Advisor Sales Day 4 of 6
DESCRIPTION:
URL:https://driveshops.com/events/professional-service-advisor-sales-day-4-of-6-3/
LOCATION:Online
CATEGORIES:Professional Service Advisor Sales,Workshop
ATTACH;FMTTYPE=image/png:https://driveshops.com/wp-content/uploads/2019/04/screen-shot-2019-05-21-at-10.14.39-am-e1558470540769.png
END:VEVENT
BEGIN:VEVENT
DTSTART;TZID=America/Los_Angeles:20241118T080000
DTEND;TZID=America/Los_Angeles:20241118T110000
DTSTAMP:20260425T063546
CREATED:20240425T173647Z
LAST-MODIFIED:20240425T173647Z
UID:10007138-1731916800-1731927600@driveshops.com
SUMMARY:Planning For Success Day 4 of 5
DESCRIPTION:
URL:https://driveshops.com/events/planning-for-success-day-4-of-5-2/
LOCATION:Online
CATEGORIES:Planning for Success,Workshop
ATTACH;FMTTYPE=image/png:https://driveshops.com/wp-content/uploads/2019/04/screen-shot-2019-05-21-at-10.44.40-am-e1558471214538.png
END:VEVENT
BEGIN:VEVENT
DTSTART;TZID=America/Denver:20241119T080000
DTEND;TZID=America/Denver:20241119T110000
DTSTAMP:20260425T063546
CREATED:20240425T193134Z
LAST-MODIFIED:20240425T193134Z
UID:10007175-1732003200-1732014000@driveshops.com
SUMMARY:Managing Change Day 5 of 5
DESCRIPTION:Understand the basic principles of successful change.\nUnderstand how to make changes that result in a more profitable and successful business.\nPractice the procedure of making changes until it is mastered.
URL:https://driveshops.com/events/managing-change-day-5-of-5/
LOCATION:Online
CATEGORIES:Managing Change,Workshop
ATTACH;FMTTYPE=image/png:https://driveshops.com/wp-content/uploads/2019/04/screen-shot-2019-05-21-at-10.47.53-am-e1558471201812.png
END:VEVENT
BEGIN:VEVENT
DTSTART;TZID=America/Los_Angeles:20241119T080000
DTEND;TZID=America/Los_Angeles:20241119T110000
DTSTAMP:20260425T063546
CREATED:20240425T211447Z
LAST-MODIFIED:20240425T211447Z
UID:10007244-1732003200-1732014000@driveshops.com
SUMMARY:Key To Understanding Your Financial Reports Day 3 of 3
DESCRIPTION:
URL:https://driveshops.com/events/key-to-understanding-your-financial-reports-day-3-of-3/
LOCATION:DRIVE HQ\, 324 S Myrtle Ave\, Monrovia\, CA\, 91016\, United States
CATEGORIES:The Key to Understanding Your Financial Reports,Workshop
ATTACH;FMTTYPE=image/png:https://driveshops.com/wp-content/uploads/2019/04/screen-shot-2019-05-21-at-10.04.39-am-e1558471807663.png
END:VEVENT
BEGIN:VEVENT
DTSTART;TZID=America/Los_Angeles:20241120T080000
DTEND;TZID=America/Los_Angeles:20241120T110000
DTSTAMP:20260425T063546
CREATED:20240425T160127Z
LAST-MODIFIED:20241115T163007Z
UID:10007063-1732089600-1732100400@driveshops.com
SUMMARY:Building Your Dream Team Day 5 of 5
DESCRIPTION:
URL:https://driveshops.com/events/building-your-dream-team-day-5-of-6-3/
LOCATION:Online
CATEGORIES:Building Your Dream Team
ATTACH;FMTTYPE=image/png:https://driveshops.com/wp-content/uploads/2019/03/screen-shot-2019-05-20-at-12.10.22-pm-e1558471852915.png
END:VEVENT
BEGIN:VEVENT
DTSTART;TZID=UTC:20241120T080000
DTEND;TZID=UTC:20241120T110000
DTSTAMP:20260425T063546
CREATED:20240425T164559Z
LAST-MODIFIED:20240425T164559Z
UID:10007112-1732089600-1732100400@driveshops.com
SUMMARY:Professional Service Advisor Sales Day 5 of 6
DESCRIPTION:
URL:https://driveshops.com/events/professional-service-advisor-sales-day-5-of-6-3/
LOCATION:Online
CATEGORIES:Professional Service Advisor Sales,Workshop
ATTACH;FMTTYPE=image/png:https://driveshops.com/wp-content/uploads/2019/04/screen-shot-2019-05-21-at-10.14.39-am-e1558470540769.png
END:VEVENT
BEGIN:VEVENT
DTSTART;TZID=America/Los_Angeles:20241120T080000
DTEND;TZID=America/Los_Angeles:20241120T110000
DTSTAMP:20260425T063546
CREATED:20240425T173700Z
LAST-MODIFIED:20240425T173700Z
UID:10007139-1732089600-1732100400@driveshops.com
SUMMARY:Planning For Success Day 5 of 5
DESCRIPTION:
URL:https://driveshops.com/events/planning-for-success-day-5-of-5-2/
LOCATION:Online
CATEGORIES:Planning for Success,Workshop
ATTACH;FMTTYPE=image/png:https://driveshops.com/wp-content/uploads/2019/04/screen-shot-2019-05-21-at-10.44.40-am-e1558471214538.png
END:VEVENT
BEGIN:VEVENT
DTSTART;TZID=UTC:20241122T080000
DTEND;TZID=UTC:20241122T110000
DTSTAMP:20260425T063546
CREATED:20240425T164608Z
LAST-MODIFIED:20240425T164608Z
UID:10007113-1732262400-1732273200@driveshops.com
SUMMARY:Professional Service Advisor Sales Day 6 of 6
DESCRIPTION:
URL:https://driveshops.com/events/professional-service-advisor-sales-day-6-of-6-3/
LOCATION:Online
CATEGORIES:Professional Service Advisor Sales,Workshop
ATTACH;FMTTYPE=image/png:https://driveshops.com/wp-content/uploads/2019/04/screen-shot-2019-05-21-at-10.14.39-am-e1558470540769.png
END:VEVENT
BEGIN:VEVENT
DTSTART;TZID=America/Denver:20241202T080000
DTEND;TZID=America/Denver:20241202T110000
DTSTAMP:20260425T063546
CREATED:20240405T144626Z
LAST-MODIFIED:20240405T144626Z
UID:10007044-1733126400-1733137200@driveshops.com
SUMMARY:Managing Shop Finances Day 1
DESCRIPTION:
URL:https://driveshops.com/events/managing-shop-finances-day-1/
LOCATION:Online
CATEGORIES:Mastering Shop Finances,Workshop
END:VEVENT
END:VCALENDAR