BEGIN:VCALENDAR
VERSION:2.0
PRODID:-//DRIVE - ECPv6.15.18//NONSGML v1.0//EN
CALSCALE:GREGORIAN
METHOD:PUBLISH
X-WR-CALNAME:DRIVE
X-ORIGINAL-URL:https://driveshops.com
X-WR-CALDESC:Events for DRIVE
REFRESH-INTERVAL;VALUE=DURATION:PT1H
X-Robots-Tag:noindex
X-PUBLISHED-TTL:PT1H
BEGIN:VTIMEZONE
TZID:America/Los_Angeles
BEGIN:DAYLIGHT
TZOFFSETFROM:-0800
TZOFFSETTO:-0700
TZNAME:PDT
DTSTART:20250309T100000
END:DAYLIGHT
BEGIN:STANDARD
TZOFFSETFROM:-0700
TZOFFSETTO:-0800
TZNAME:PST
DTSTART:20251102T090000
END:STANDARD
BEGIN:DAYLIGHT
TZOFFSETFROM:-0800
TZOFFSETTO:-0700
TZNAME:PDT
DTSTART:20260308T100000
END:DAYLIGHT
BEGIN:STANDARD
TZOFFSETFROM:-0700
TZOFFSETTO:-0800
TZNAME:PST
DTSTART:20261101T090000
END:STANDARD
BEGIN:DAYLIGHT
TZOFFSETFROM:-0800
TZOFFSETTO:-0700
TZNAME:PDT
DTSTART:20270314T100000
END:DAYLIGHT
BEGIN:STANDARD
TZOFFSETFROM:-0700
TZOFFSETTO:-0800
TZNAME:PST
DTSTART:20271107T090000
END:STANDARD
BEGIN:DAYLIGHT
TZOFFSETFROM:-0800
TZOFFSETTO:-0700
TZNAME:PDT
DTSTART:20280312T100000
END:DAYLIGHT
BEGIN:STANDARD
TZOFFSETFROM:-0700
TZOFFSETTO:-0800
TZNAME:PST
DTSTART:20281105T090000
END:STANDARD
END:VTIMEZONE
BEGIN:VTIMEZONE
TZID:America/Denver
BEGIN:DAYLIGHT
TZOFFSETFROM:-0700
TZOFFSETTO:-0600
TZNAME:MDT
DTSTART:20250309T090000
END:DAYLIGHT
BEGIN:STANDARD
TZOFFSETFROM:-0600
TZOFFSETTO:-0700
TZNAME:MST
DTSTART:20251102T080000
END:STANDARD
BEGIN:DAYLIGHT
TZOFFSETFROM:-0700
TZOFFSETTO:-0600
TZNAME:MDT
DTSTART:20260308T090000
END:DAYLIGHT
BEGIN:STANDARD
TZOFFSETFROM:-0600
TZOFFSETTO:-0700
TZNAME:MST
DTSTART:20261101T080000
END:STANDARD
BEGIN:DAYLIGHT
TZOFFSETFROM:-0700
TZOFFSETTO:-0600
TZNAME:MDT
DTSTART:20270314T090000
END:DAYLIGHT
BEGIN:STANDARD
TZOFFSETFROM:-0600
TZOFFSETTO:-0700
TZNAME:MST
DTSTART:20271107T080000
END:STANDARD
END:VTIMEZONE
BEGIN:VTIMEZONE
TZID:America/Los_Angeles
BEGIN:DAYLIGHT
TZOFFSETFROM:-0800
TZOFFSETTO:-0700
TZNAME:PDT
DTSTART:20250309T100000
END:DAYLIGHT
BEGIN:STANDARD
TZOFFSETFROM:-0700
TZOFFSETTO:-0800
TZNAME:PST
DTSTART:20251102T090000
END:STANDARD
BEGIN:DAYLIGHT
TZOFFSETFROM:-0800
TZOFFSETTO:-0700
TZNAME:PDT
DTSTART:20260308T100000
END:DAYLIGHT
BEGIN:STANDARD
TZOFFSETFROM:-0700
TZOFFSETTO:-0800
TZNAME:PST
DTSTART:20261101T090000
END:STANDARD
BEGIN:DAYLIGHT
TZOFFSETFROM:-0800
TZOFFSETTO:-0700
TZNAME:PDT
DTSTART:20270314T100000
END:DAYLIGHT
BEGIN:STANDARD
TZOFFSETFROM:-0700
TZOFFSETTO:-0800
TZNAME:PST
DTSTART:20271107T090000
END:STANDARD
END:VTIMEZONE
BEGIN:VTIMEZONE
TZID:UTC
BEGIN:STANDARD
TZOFFSETFROM:+0000
TZOFFSETTO:+0000
TZNAME:UTC
DTSTART:20250101T000000
END:STANDARD
END:VTIMEZONE
BEGIN:VEVENT
DTSTART;TZID=America/Los_Angeles:20260310T080000
DTEND;TZID=America/Los_Angeles:20260310T110000
DTSTAMP:20260423T171425
CREATED:20260227T152137Z
LAST-MODIFIED:20260227T152137Z
UID:10007819-1773129600-1773140400@driveshops.com
SUMMARY:How to Increase Your Profits Day 1 of 3
DESCRIPTION:
URL:https://driveshops.com/events/how-to-increase-your-profits-day-1-of-3/
LOCATION:Online
CATEGORIES:How To Increase Your Profits,Workshop
END:VEVENT
BEGIN:VEVENT
DTSTART;TZID=America/Denver:20260310T080000
DTEND;TZID=America/Denver:20260310T110000
DTSTAMP:20260423T171425
CREATED:20260227T155951Z
LAST-MODIFIED:20260227T155951Z
UID:10007856-1773129600-1773140400@driveshops.com
SUMMARY:Managing Shop Finances Day 1 of 6
DESCRIPTION:
URL:https://driveshops.com/events/managing-shop-finances-day-1-of-6-4/
LOCATION:Online
CATEGORIES:Mastering Shop Finances,Workshop
END:VEVENT
BEGIN:VEVENT
DTSTART;TZID=America/Los_Angeles:20260310T080000
DTEND;TZID=America/Los_Angeles:20260310T110000
DTSTAMP:20260423T171425
CREATED:20260227T160655Z
LAST-MODIFIED:20260227T160655Z
UID:10007874-1773129600-1773140400@driveshops.com
SUMMARY:Expanding Your Auto Repair Shop Day 1 of 2
DESCRIPTION:
URL:https://driveshops.com/events/expanding-your-auto-repair-shop-day-1-of-2-3/
LOCATION:Online
CATEGORIES:Expanding Your Auto Shop
END:VEVENT
BEGIN:VEVENT
DTSTART;TZID=America/Los_Angeles:20260310T080000
DTEND;TZID=America/Los_Angeles:20260310T120000
DTSTAMP:20260423T171425
CREATED:20260302T182013Z
LAST-MODIFIED:20260302T182013Z
UID:10007944-1773129600-1773144000@driveshops.com
SUMMARY:Master and Control The Front of Your Shop Accelerated Day 1 of 3
DESCRIPTION:
URL:https://driveshops.com/events/master-and-control-the-front-of-your-shop-accelerated-day-1-of-3/
LOCATION:Online
CATEGORIES:Master and Control the Front of Your Shop,Workshop
END:VEVENT
BEGIN:VEVENT
DTSTART;TZID=America/Los_Angeles:20260311T080000
DTEND;TZID=America/Los_Angeles:20260311T110000
DTSTAMP:20260423T171425
CREATED:20260123T182746Z
LAST-MODIFIED:20260123T182755Z
UID:10007706-1773216000-1773226800@driveshops.com
SUMMARY:Essentials of Shop Management  Day 2 of 6
DESCRIPTION:
URL:https://driveshops.com/events/essentials-of-shop-management-day-2-of-6-14/
LOCATION:Online
CATEGORIES:Essentials of Shop Management,Workshop
ATTACH;FMTTYPE=image/png:https://driveshops.com/wp-content/uploads/2019/04/screen-shot-2019-05-21-at-10.17.01-am-e1558471790866.png
END:VEVENT
BEGIN:VEVENT
DTSTART;TZID=America/Los_Angeles:20260311T080000
DTEND;TZID=America/Los_Angeles:20260311T110000
DTSTAMP:20260423T171425
CREATED:20260227T152152Z
LAST-MODIFIED:20260227T152152Z
UID:10007820-1773216000-1773226800@driveshops.com
SUMMARY:How to Increase Your Profits Day 2 of 3
DESCRIPTION:
URL:https://driveshops.com/events/how-to-increase-your-profits-day-2-of-3/
LOCATION:Online
CATEGORIES:How To Increase Your Profits,Workshop
ATTACH;FMTTYPE=image/png:https://driveshops.com/wp-content/uploads/2019/04/screen-shot-2019-05-21-at-10.25.56-am-e1558471321731.png
END:VEVENT
BEGIN:VEVENT
DTSTART;TZID=America/Denver:20260311T080000
DTEND;TZID=America/Denver:20260311T110000
DTSTAMP:20260423T171425
CREATED:20260227T160000Z
LAST-MODIFIED:20260227T160000Z
UID:10007857-1773216000-1773226800@driveshops.com
SUMMARY:Managing Shop Finances Day 2 of 6
DESCRIPTION:
URL:https://driveshops.com/events/managing-shop-finances-day-2-of-6-4/
LOCATION:Online
CATEGORIES:Mastering Shop Finances,Workshop
END:VEVENT
BEGIN:VEVENT
DTSTART;TZID=America/Los_Angeles:20260311T120000
DTEND;TZID=America/Los_Angeles:20260311T150000
DTSTAMP:20260423T171425
CREATED:20260302T182103Z
LAST-MODIFIED:20260302T182349Z
UID:10007945-1773230400-1773241200@driveshops.com
SUMMARY:Master and Control The Front of Your Shop Accelerated Day 2 of 3
DESCRIPTION:
URL:https://driveshops.com/events/master-and-control-the-front-of-your-shop-accelerated-day-2-of-3/
LOCATION:Online
CATEGORIES:Master and Control the Front of Your Shop,Workshop
END:VEVENT
BEGIN:VEVENT
DTSTART;TZID=America/Los_Angeles:20260312T080000
DTEND;TZID=America/Los_Angeles:20260312T110000
DTSTAMP:20260423T171425
CREATED:20260123T182827Z
LAST-MODIFIED:20260123T182827Z
UID:10007707-1773302400-1773313200@driveshops.com
SUMMARY:Essentials of Shop Management  Day 3 of 6
DESCRIPTION:
URL:https://driveshops.com/events/essentials-of-shop-management-day-3-of-6-14/
LOCATION:Online
CATEGORIES:Essentials of Shop Management,Workshop
ATTACH;FMTTYPE=image/png:https://driveshops.com/wp-content/uploads/2019/04/screen-shot-2019-05-21-at-10.17.01-am-e1558471790866.png
END:VEVENT
BEGIN:VEVENT
DTSTART;TZID=America/Los_Angeles:20260312T080000
DTEND;TZID=America/Los_Angeles:20260312T110000
DTSTAMP:20260423T171425
CREATED:20260227T152213Z
LAST-MODIFIED:20260227T152213Z
UID:10007821-1773302400-1773313200@driveshops.com
SUMMARY:How to Increase Your Profits Day 3 of 3
DESCRIPTION:
URL:https://driveshops.com/events/how-to-increase-your-profits-day-3-of-3/
LOCATION:Online
CATEGORIES:How To Increase Your Profits,Workshop
END:VEVENT
BEGIN:VEVENT
DTSTART;TZID=America/Denver:20260312T080000
DTEND;TZID=America/Denver:20260312T110000
DTSTAMP:20260423T171425
CREATED:20260227T160008Z
LAST-MODIFIED:20260227T160008Z
UID:10007858-1773302400-1773313200@driveshops.com
SUMMARY:Managing Shop Finances Day 3 of 6
DESCRIPTION:
URL:https://driveshops.com/events/managing-shop-finances-day-3-of-6-4/
LOCATION:Online
CATEGORIES:Mastering Shop Finances,Workshop
END:VEVENT
BEGIN:VEVENT
DTSTART;TZID=America/Los_Angeles:20260312T080000
DTEND;TZID=America/Los_Angeles:20260312T110000
DTSTAMP:20260423T171425
CREATED:20260227T160705Z
LAST-MODIFIED:20260227T160705Z
UID:10007875-1773302400-1773313200@driveshops.com
SUMMARY:Expanding Your Auto Repair Shop Day 2 of 2
DESCRIPTION:
URL:https://driveshops.com/events/expanding-your-auto-repair-shop-day-2-of-2-3/
LOCATION:Online
CATEGORIES:Expanding Your Auto Shop
END:VEVENT
BEGIN:VEVENT
DTSTART;TZID=America/Los_Angeles:20260312T120000
DTEND;TZID=America/Los_Angeles:20270321T150000
DTSTAMP:20260423T171425
CREATED:20260302T182253Z
LAST-MODIFIED:20260302T182407Z
UID:10007946-1773316800-1805641200@driveshops.com
SUMMARY:Master and Control The Front of Your Shop Accelerated Day 3 of 3
DESCRIPTION:
URL:https://driveshops.com/events/master-and-control-the-front-of-your-shop-accelerated-day-3-of-3/
LOCATION:Online
CATEGORIES:Master and Control the Front of Your Shop,Workshop
END:VEVENT
BEGIN:VEVENT
DTSTART;TZID=America/Los_Angeles:20260317T080000
DTEND;TZID=America/Los_Angeles:20260317T080000
DTSTAMP:20260423T171425
CREATED:20260302T190059Z
LAST-MODIFIED:20260302T190059Z
UID:10007958-1773734400-1773734400@driveshops.com
SUMMARY:Employee Benefits Solutions for Shops Day 1 of 3
DESCRIPTION:
URL:https://driveshops.com/events/employee-benefits-solutions-for-shops-day-1-of-3-3/
LOCATION:CA
CATEGORIES:Employee Benefit Solutions
END:VEVENT
BEGIN:VEVENT
DTSTART;TZID=America/Los_Angeles:20260317T080000
DTEND;TZID=America/Los_Angeles:20260317T110000
DTSTAMP:20260423T171425
CREATED:20260123T182854Z
LAST-MODIFIED:20260123T182854Z
UID:10007708-1773734400-1773745200@driveshops.com
SUMMARY:Essentials of Shop Management  Day 4 of 6
DESCRIPTION:
URL:https://driveshops.com/events/essentials-of-shop-management-day-4-of-6-14/
LOCATION:Online
CATEGORIES:Essentials of Shop Management,Workshop
ATTACH;FMTTYPE=image/png:https://driveshops.com/wp-content/uploads/2019/04/screen-shot-2019-05-21-at-10.17.01-am-e1558471790866.png
END:VEVENT
BEGIN:VEVENT
DTSTART;TZID=America/Los_Angeles:20260317T080000
DTEND;TZID=America/Los_Angeles:20260317T110000
DTSTAMP:20260423T171425
CREATED:20260227T142012Z
LAST-MODIFIED:20260227T142131Z
UID:10007764-1773734400-1773745200@driveshops.com
SUMMARY:Professional Service Advisor Sales Day 1 of 6
DESCRIPTION:
URL:https://driveshops.com/events/professional-service-advisor-sales-day-1-of-6-10/
LOCATION:Online
CATEGORIES:Professional Service Advisor Sales,Workshop
END:VEVENT
BEGIN:VEVENT
DTSTART;TZID=America/Los_Angeles:20260317T080000
DTEND;TZID=America/Los_Angeles:20260317T110000
DTSTAMP:20260423T171425
CREATED:20260227T153348Z
LAST-MODIFIED:20260227T153348Z
UID:10007831-1773734400-1773745200@driveshops.com
SUMMARY:Building Your Dream Team Day 1 of 5
DESCRIPTION:
URL:https://driveshops.com/events/building-your-dream-team-day-1-of-5-7/
LOCATION:Online
CATEGORIES:Building Your Dream Team
END:VEVENT
BEGIN:VEVENT
DTSTART;TZID=America/Denver:20260317T080000
DTEND;TZID=America/Denver:20260317T110000
DTSTAMP:20260423T171425
CREATED:20260227T160017Z
LAST-MODIFIED:20260227T160017Z
UID:10007859-1773734400-1773745200@driveshops.com
SUMMARY:Managing Shop Finances Day 4 of 6
DESCRIPTION:
URL:https://driveshops.com/events/managing-shop-finances-day-4-of-6-4/
LOCATION:Online
CATEGORIES:Mastering Shop Finances,Workshop
END:VEVENT
BEGIN:VEVENT
DTSTART;TZID=America/Los_Angeles:20260318T080000
DTEND;TZID=America/Los_Angeles:20260318T080000
DTSTAMP:20260423T171425
CREATED:20260302T190110Z
LAST-MODIFIED:20260302T190110Z
UID:10007959-1773820800-1773820800@driveshops.com
SUMMARY:Employee Benefits Solutions for Shops Day 2 of 3
DESCRIPTION:
URL:https://driveshops.com/events/employee-benefits-solutions-for-shops-day-2-of-3-3/
LOCATION:CA
CATEGORIES:Employee Benefit Solutions
END:VEVENT
BEGIN:VEVENT
DTSTART;TZID=America/Los_Angeles:20260318T080000
DTEND;TZID=America/Los_Angeles:20260318T110000
DTSTAMP:20260423T171425
CREATED:20260123T182943Z
LAST-MODIFIED:20260123T182943Z
UID:10007709-1773820800-1773831600@driveshops.com
SUMMARY:Essentials of Shop Management  Day 5 of 6
DESCRIPTION:
URL:https://driveshops.com/events/essentials-of-shop-management-day-5-of-6-15/
LOCATION:Online
CATEGORIES:Essentials of Shop Management,Workshop
ATTACH;FMTTYPE=image/png:https://driveshops.com/wp-content/uploads/2019/04/screen-shot-2019-05-21-at-10.17.01-am-e1558471790866.png
END:VEVENT
BEGIN:VEVENT
DTSTART;TZID=America/Los_Angeles:20260318T080000
DTEND;TZID=America/Los_Angeles:20260318T110000
DTSTAMP:20260423T171425
CREATED:20260227T142115Z
LAST-MODIFIED:20260227T142142Z
UID:10007765-1773820800-1773831600@driveshops.com
SUMMARY:Professional Service Advisor Sales Day 2 of 6
DESCRIPTION:
URL:https://driveshops.com/events/professional-service-advisor-sales-day-2-of-6-10/
LOCATION:Online
CATEGORIES:Professional Service Advisor Sales,Workshop
END:VEVENT
BEGIN:VEVENT
DTSTART;TZID=America/Los_Angeles:20260318T080000
DTEND;TZID=America/Los_Angeles:20260318T110000
DTSTAMP:20260423T171425
CREATED:20260227T153400Z
LAST-MODIFIED:20260227T153400Z
UID:10007832-1773820800-1773831600@driveshops.com
SUMMARY:Building Your Dream Team Day 2 of 5
DESCRIPTION:
URL:https://driveshops.com/events/building-your-dream-team-day-2-of-5-7/
LOCATION:Online
CATEGORIES:Building Your Dream Team
END:VEVENT
BEGIN:VEVENT
DTSTART;TZID=America/Denver:20260318T080000
DTEND;TZID=America/Denver:20260318T110000
DTSTAMP:20260423T171425
CREATED:20260227T160025Z
LAST-MODIFIED:20260227T160025Z
UID:10007860-1773820800-1773831600@driveshops.com
SUMMARY:Managing Shop Finances Day 5 of 6
DESCRIPTION:
URL:https://driveshops.com/events/managing-shop-finances-day-5-of-6-4/
LOCATION:Online
CATEGORIES:Mastering Shop Finances,Workshop
END:VEVENT
BEGIN:VEVENT
DTSTART;TZID=America/Los_Angeles:20260319T080000
DTEND;TZID=America/Los_Angeles:20260319T080000
DTSTAMP:20260423T171425
CREATED:20260302T190250Z
LAST-MODIFIED:20260302T190250Z
UID:10007960-1773907200-1773907200@driveshops.com
SUMMARY:Employee Benefits Solutions for Shops Day 3 of 3
DESCRIPTION:
URL:https://driveshops.com/events/employee-benefits-solutions-for-shops-day-3-of-3-3/
LOCATION:CA
CATEGORIES:Employee Benefit Solutions
END:VEVENT
BEGIN:VEVENT
DTSTART;TZID=America/Los_Angeles:20260319T080000
DTEND;TZID=America/Los_Angeles:20260319T110000
DTSTAMP:20260423T171425
CREATED:20260123T183024Z
LAST-MODIFIED:20260123T183024Z
UID:10007710-1773907200-1773918000@driveshops.com
SUMMARY:Essentials of Shop Management  Day 6 of 6
DESCRIPTION:
URL:https://driveshops.com/events/essentials-of-shop-management-day-6-of-6-12/
LOCATION:Online
CATEGORIES:Essentials of Shop Management,Workshop
ATTACH;FMTTYPE=image/png:https://driveshops.com/wp-content/uploads/2019/04/screen-shot-2019-05-21-at-10.17.01-am-e1558471790866.png
END:VEVENT
BEGIN:VEVENT
DTSTART;TZID=America/Los_Angeles:20260319T080000
DTEND;TZID=America/Los_Angeles:20260319T110000
DTSTAMP:20260423T171425
CREATED:20260227T142157Z
LAST-MODIFIED:20260227T142157Z
UID:10007766-1773907200-1773918000@driveshops.com
SUMMARY:Professional Service Advisor Sales Day 3 of 6
DESCRIPTION:
URL:https://driveshops.com/events/professional-service-advisor-sales-day-3-of-6-10/
LOCATION:Online
CATEGORIES:Professional Service Advisor Sales,Workshop
ATTACH;FMTTYPE=image/png:https://driveshops.com/wp-content/uploads/2019/04/screen-shot-2019-05-21-at-10.14.39-am-e1558470540769.png
END:VEVENT
BEGIN:VEVENT
DTSTART;TZID=America/Los_Angeles:20260319T080000
DTEND;TZID=America/Los_Angeles:20260319T110000
DTSTAMP:20260423T171425
CREATED:20260227T153418Z
LAST-MODIFIED:20260227T153418Z
UID:10007833-1773907200-1773918000@driveshops.com
SUMMARY:Building Your Dream Team Day 3 of 5
DESCRIPTION:
URL:https://driveshops.com/events/building-your-dream-team-day-3-of-5-7/
LOCATION:Online
CATEGORIES:Building Your Dream Team
END:VEVENT
BEGIN:VEVENT
DTSTART;TZID=America/Denver:20260319T080000
DTEND;TZID=America/Denver:20260319T110000
DTSTAMP:20260423T171425
CREATED:20260227T160036Z
LAST-MODIFIED:20260227T160036Z
UID:10007861-1773907200-1773918000@driveshops.com
SUMMARY:Managing Shop Finances Day 6 of 6
DESCRIPTION:
URL:https://driveshops.com/events/managing-shop-finances-day-6-of-6-4/
LOCATION:Online
CATEGORIES:Mastering Shop Finances,Workshop
END:VEVENT
BEGIN:VEVENT
DTSTART;TZID=UTC:20260324T080000
DTEND;TZID=UTC:20260324T110000
DTSTAMP:20260423T171425
CREATED:20260227T142215Z
LAST-MODIFIED:20260227T142215Z
UID:10007767-1774339200-1774350000@driveshops.com
SUMMARY:Professional Service Advisor Sales Day 4 of 6
DESCRIPTION:
URL:https://driveshops.com/events/professional-service-advisor-sales-day-4-of-6-10/
LOCATION:Online
CATEGORIES:Professional Service Advisor Sales,Workshop
END:VEVENT
BEGIN:VEVENT
DTSTART;TZID=America/Los_Angeles:20260324T080000
DTEND;TZID=America/Los_Angeles:20260324T110000
DTSTAMP:20260423T171425
CREATED:20260227T153430Z
LAST-MODIFIED:20260227T153430Z
UID:10007834-1774339200-1774350000@driveshops.com
SUMMARY:Building Your Dream Team Day 4 of 5
DESCRIPTION:
URL:https://driveshops.com/events/building-your-dream-team-day-4-of-5-7/
LOCATION:Online
CATEGORIES:Building Your Dream Team
END:VEVENT
END:VCALENDAR