BEGIN:VCALENDAR
VERSION:2.0
PRODID:-//DRIVE - ECPv6.15.18//NONSGML v1.0//EN
CALSCALE:GREGORIAN
METHOD:PUBLISH
X-ORIGINAL-URL:https://driveshops.com
X-WR-CALDESC:Events for DRIVE
REFRESH-INTERVAL;VALUE=DURATION:PT1H
X-Robots-Tag:noindex
X-PUBLISHED-TTL:PT1H
BEGIN:VTIMEZONE
TZID:America/Los_Angeles
BEGIN:DAYLIGHT
TZOFFSETFROM:-0800
TZOFFSETTO:-0700
TZNAME:PDT
DTSTART:20230312T100000
END:DAYLIGHT
BEGIN:STANDARD
TZOFFSETFROM:-0700
TZOFFSETTO:-0800
TZNAME:PST
DTSTART:20231105T090000
END:STANDARD
BEGIN:DAYLIGHT
TZOFFSETFROM:-0800
TZOFFSETTO:-0700
TZNAME:PDT
DTSTART:20240310T100000
END:DAYLIGHT
BEGIN:STANDARD
TZOFFSETFROM:-0700
TZOFFSETTO:-0800
TZNAME:PST
DTSTART:20241103T090000
END:STANDARD
BEGIN:DAYLIGHT
TZOFFSETFROM:-0800
TZOFFSETTO:-0700
TZNAME:PDT
DTSTART:20250309T100000
END:DAYLIGHT
BEGIN:STANDARD
TZOFFSETFROM:-0700
TZOFFSETTO:-0800
TZNAME:PST
DTSTART:20251102T090000
END:STANDARD
END:VTIMEZONE
BEGIN:VTIMEZONE
TZID:UTC
BEGIN:STANDARD
TZOFFSETFROM:+0000
TZOFFSETTO:+0000
TZNAME:UTC
DTSTART:20230101T000000
END:STANDARD
END:VTIMEZONE
BEGIN:VTIMEZONE
TZID:America/Denver
BEGIN:DAYLIGHT
TZOFFSETFROM:-0700
TZOFFSETTO:-0600
TZNAME:MDT
DTSTART:20230312T090000
END:DAYLIGHT
BEGIN:STANDARD
TZOFFSETFROM:-0600
TZOFFSETTO:-0700
TZNAME:MST
DTSTART:20231105T080000
END:STANDARD
BEGIN:DAYLIGHT
TZOFFSETFROM:-0700
TZOFFSETTO:-0600
TZNAME:MDT
DTSTART:20240310T090000
END:DAYLIGHT
BEGIN:STANDARD
TZOFFSETFROM:-0600
TZOFFSETTO:-0700
TZNAME:MST
DTSTART:20241103T080000
END:STANDARD
BEGIN:DAYLIGHT
TZOFFSETFROM:-0700
TZOFFSETTO:-0600
TZNAME:MDT
DTSTART:20250309T090000
END:DAYLIGHT
BEGIN:STANDARD
TZOFFSETFROM:-0600
TZOFFSETTO:-0700
TZNAME:MST
DTSTART:20251102T080000
END:STANDARD
END:VTIMEZONE
BEGIN:VEVENT
DTSTART;TZID=America/Los_Angeles:20240513T080000
DTEND;TZID=America/Los_Angeles:20240513T110000
DTSTAMP:20260425T033404
CREATED:20231214T180133Z
LAST-MODIFIED:20231214T180133Z
UID:10007017-1715587200-1715598000@driveshops.com
SUMMARY:Essentials of Shop Management 4/6
DESCRIPTION:
URL:https://driveshops.com/events/essentials-of-shop-management-4-6-30/
LOCATION:Online
CATEGORIES:Essentials of Shop Management,Workshop
ATTACH;FMTTYPE=image/png:https://driveshops.com/wp-content/uploads/2019/04/screen-shot-2019-05-21-at-10.17.01-am-e1558471790866.png
END:VEVENT
BEGIN:VEVENT
DTSTART;TZID=UTC:20240513T080000
DTEND;TZID=UTC:20240513T110000
DTSTAMP:20260425T033404
CREATED:20231214T180426Z
LAST-MODIFIED:20231214T180426Z
UID:10007023-1715587200-1715598000@driveshops.com
SUMMARY:Professional Service Advisor Sales 4/6
DESCRIPTION:
URL:https://driveshops.com/events/professional-service-advisor-sales-4-6-18/
LOCATION:Online
CATEGORIES:Professional Service Advisor Sales,Workshop
ATTACH;FMTTYPE=image/png:https://driveshops.com/wp-content/uploads/2019/04/screen-shot-2019-05-21-at-10.14.39-am-e1558470540769.png
END:VEVENT
BEGIN:VEVENT
DTSTART;TZID=America/Los_Angeles:20240514T080000
DTEND;TZID=America/Los_Angeles:20240514T110000
DTSTAMP:20260425T033404
CREATED:20231214T180651Z
LAST-MODIFIED:20231214T180651Z
UID:10007028-1715673600-1715684400@driveshops.com
SUMMARY:Planning For Success 3/5
DESCRIPTION:
URL:https://driveshops.com/events/planning-for-success-3-5-8/
LOCATION:Online
CATEGORIES:Planning for Success,Workshop
ATTACH;FMTTYPE=image/png:https://driveshops.com/wp-content/uploads/2019/04/screen-shot-2019-05-21-at-10.44.40-am-e1558471214538.png
END:VEVENT
BEGIN:VEVENT
DTSTART;TZID=UTC:20240514T080000
DTEND;TZID=UTC:20240514T110000
DTSTAMP:20260425T033404
CREATED:20231214T180930Z
LAST-MODIFIED:20240425T180917Z
UID:10007033-1715673600-1715684400@driveshops.com
SUMMARY:Power of Trust Day 3 of 3
DESCRIPTION:
URL:https://driveshops.com/events/power-of-trust-3-3-5/
LOCATION:Online
CATEGORIES:The Power of Trust,Workshop
ATTACH;FMTTYPE=image/png:https://driveshops.com/wp-content/uploads/2019/09/screen-shot-2019-09-04-at-11.31.36-am.png
END:VEVENT
BEGIN:VEVENT
DTSTART;TZID=UTC:20240514T080000
DTEND;TZID=UTC:20240514T110000
DTSTAMP:20260425T033404
CREATED:20231214T182634Z
LAST-MODIFIED:20240425T175553Z
UID:10007036-1715673600-1715684400@driveshops.com
SUMMARY:Marketing Design Day 3 of 3
DESCRIPTION:
URL:https://driveshops.com/events/marketing-design-3-3-2/
CATEGORIES:Marketing Your Shop
END:VEVENT
BEGIN:VEVENT
DTSTART;TZID=America/Los_Angeles:20240514T080000
DTEND;TZID=America/Los_Angeles:20240514T110000
DTSTAMP:20260425T033404
CREATED:20240402T205253Z
LAST-MODIFIED:20240402T212738Z
UID:10007041-1715673600-1715684400@driveshops.com
SUMMARY:Managing an Effective Bookkeeping Area 5/6
DESCRIPTION:
URL:https://driveshops.com/events/managing-an-effective-bookkeeping-area-5-6/
CATEGORIES:Managing an Effective Bookkeeping Area,Workshop
END:VEVENT
BEGIN:VEVENT
DTSTART;TZID=America/Denver:20240515T080000
DTEND;TZID=America/Denver:20240515T110000
DTSTAMP:20260425T033404
CREATED:20231214T170912Z
LAST-MODIFIED:20240405T143215Z
UID:10007007-1715760000-1715770800@driveshops.com
SUMMARY:Managing Shop Finances Day 5
DESCRIPTION:
URL:https://driveshops.com/events/mastering-shop-finances-5-5/
LOCATION:Online
CATEGORIES:Mastering Shop Finances,Workshop
END:VEVENT
BEGIN:VEVENT
DTSTART;TZID=America/Los_Angeles:20240515T080000
DTEND;TZID=America/Los_Angeles:20240515T110000
DTSTAMP:20260425T033404
CREATED:20231214T175903Z
LAST-MODIFIED:20231214T175903Z
UID:10007012-1715760000-1715770800@driveshops.com
SUMMARY:Building Your Dream Team 5/6
DESCRIPTION:
URL:https://driveshops.com/events/building-your-dream-team-5-6-3/
LOCATION:Online
CATEGORIES:Building Your Dream Team
ATTACH;FMTTYPE=image/png:https://driveshops.com/wp-content/uploads/2019/03/screen-shot-2019-05-20-at-12.10.22-pm-e1558471852915.png
END:VEVENT
BEGIN:VEVENT
DTSTART;TZID=America/Los_Angeles:20240515T080000
DTEND;TZID=America/Los_Angeles:20240515T110000
DTSTAMP:20260425T033404
CREATED:20231214T180143Z
LAST-MODIFIED:20231214T180143Z
UID:10007018-1715760000-1715770800@driveshops.com
SUMMARY:Essentials of Shop Management 5/6
DESCRIPTION:
URL:https://driveshops.com/events/essentials-of-shop-management-5-6-30/
CATEGORIES:Essentials of Shop Management,Workshop
ATTACH;FMTTYPE=image/png:https://driveshops.com/wp-content/uploads/2019/04/screen-shot-2019-05-21-at-10.17.01-am-e1558471790866.png
END:VEVENT
BEGIN:VEVENT
DTSTART;TZID=UTC:20240515T080000
DTEND;TZID=UTC:20240515T110000
DTSTAMP:20260425T033404
CREATED:20231214T180438Z
LAST-MODIFIED:20231214T180438Z
UID:10007024-1715760000-1715770800@driveshops.com
SUMMARY:Professional Service Advisor Sales 5/6
DESCRIPTION:
URL:https://driveshops.com/events/professional-service-advisor-sales-5-6-18/
LOCATION:Online
CATEGORIES:Professional Service Advisor Sales,Workshop
ATTACH;FMTTYPE=image/png:https://driveshops.com/wp-content/uploads/2019/04/screen-shot-2019-05-21-at-10.14.39-am-e1558470540769.png
END:VEVENT
BEGIN:VEVENT
DTSTART;TZID=America/Los_Angeles:20240516T080000
DTEND;TZID=America/Los_Angeles:20240516T110000
DTSTAMP:20260425T033404
CREATED:20231214T180704Z
LAST-MODIFIED:20231214T180704Z
UID:10007029-1715846400-1715857200@driveshops.com
SUMMARY:Planning For Success 4/5
DESCRIPTION:
URL:https://driveshops.com/events/planning-for-success-4-5-8/
LOCATION:Online
CATEGORIES:Planning for Success,Workshop
ATTACH;FMTTYPE=image/png:https://driveshops.com/wp-content/uploads/2019/04/screen-shot-2019-05-21-at-10.44.40-am-e1558471214538.png
END:VEVENT
BEGIN:VEVENT
DTSTART;TZID=America/Los_Angeles:20240516T080000
DTEND;TZID=America/Los_Angeles:20240516T110000
DTSTAMP:20260425T033404
CREATED:20240402T205256Z
LAST-MODIFIED:20240402T212749Z
UID:10007042-1715846400-1715857200@driveshops.com
SUMMARY:Managing an Effective Bookkeeping Area 6/6
DESCRIPTION:
URL:https://driveshops.com/events/managing-an-effective-bookkeeping-area-6-6/
LOCATION:Online
CATEGORIES:Managing an Effective Bookkeeping Area,Workshop
END:VEVENT
BEGIN:VEVENT
DTSTART;TZID=America/Los_Angeles:20240517T080000
DTEND;TZID=America/Los_Angeles:20240517T110000
DTSTAMP:20260425T033404
CREATED:20231214T175922Z
LAST-MODIFIED:20231214T175922Z
UID:10007013-1715932800-1715943600@driveshops.com
SUMMARY:Building Your Dream Team 6/6
DESCRIPTION:
URL:https://driveshops.com/events/building-your-dream-team-6-6-4/
LOCATION:Online
CATEGORIES:Building Your Dream Team
ATTACH;FMTTYPE=image/png:https://driveshops.com/wp-content/uploads/2019/03/screen-shot-2019-05-20-at-12.10.22-pm-e1558471852915.png
END:VEVENT
BEGIN:VEVENT
DTSTART;TZID=America/Los_Angeles:20240517T080000
DTEND;TZID=America/Los_Angeles:20240517T110000
DTSTAMP:20260425T033404
CREATED:20231214T180151Z
LAST-MODIFIED:20231214T180151Z
UID:10007019-1715932800-1715943600@driveshops.com
SUMMARY:Essentials of Shop Management 6/6
DESCRIPTION:
URL:https://driveshops.com/events/essentials-of-shop-management-6-6-31/
LOCATION:Online
CATEGORIES:Essentials of Shop Management,Workshop
ATTACH;FMTTYPE=image/png:https://driveshops.com/wp-content/uploads/2019/04/screen-shot-2019-05-21-at-10.17.01-am-e1558471790866.png
END:VEVENT
BEGIN:VEVENT
DTSTART;TZID=UTC:20240517T080000
DTEND;TZID=UTC:20240517T110000
DTSTAMP:20260425T033404
CREATED:20231214T180451Z
LAST-MODIFIED:20231214T180451Z
UID:10007025-1715932800-1715943600@driveshops.com
SUMMARY:Professional Service Advisor Sales 6/6
DESCRIPTION:
URL:https://driveshops.com/events/professional-service-advisor-sales-6-6-18/
LOCATION:Online
CATEGORIES:Professional Service Advisor Sales,Workshop
ATTACH;FMTTYPE=image/png:https://driveshops.com/wp-content/uploads/2019/04/screen-shot-2019-05-21-at-10.14.39-am-e1558470540769.png
END:VEVENT
BEGIN:VEVENT
DTSTART;TZID=America/Denver:20240517T080000
DTEND;TZID=America/Denver:20240517T110000
DTSTAMP:20260425T033404
CREATED:20240405T133446Z
LAST-MODIFIED:20240405T143210Z
UID:10007043-1715932800-1715943600@driveshops.com
SUMMARY:Managing Shop Finances Day 6
DESCRIPTION:
URL:https://driveshops.com/events/managing-shop-finances-day-6/
LOCATION:Online
CATEGORIES:Mastering Shop Finances,Workshop
END:VEVENT
BEGIN:VEVENT
DTSTART;TZID=America/Los_Angeles:20240521T080000
DTEND;TZID=America/Los_Angeles:20240521T110000
DTSTAMP:20260425T033404
CREATED:20231214T180719Z
LAST-MODIFIED:20231214T180719Z
UID:10007030-1716278400-1716289200@driveshops.com
SUMMARY:Planning For Success 5/5
DESCRIPTION:
URL:https://driveshops.com/events/planning-for-success-5-5-8/
LOCATION:Online
CATEGORIES:Planning for Success,Workshop
ATTACH;FMTTYPE=image/png:https://driveshops.com/wp-content/uploads/2019/04/screen-shot-2019-05-21-at-10.44.40-am-e1558471214538.png
END:VEVENT
BEGIN:VEVENT
DTSTART;TZID=America/Los_Angeles:20240715T080000
DTEND;TZID=America/Los_Angeles:20240715T110000
DTSTAMP:20260425T033404
CREATED:20240425T154947Z
LAST-MODIFIED:20240425T154947Z
UID:10007055-1721030400-1721041200@driveshops.com
SUMMARY:Building Your Dream Team Day 1 of 6
DESCRIPTION:
URL:https://driveshops.com/events/building-your-dream-team-day-1-of-6/
LOCATION:Online
CATEGORIES:Building Your Dream Team
ATTACH;FMTTYPE=image/png:https://driveshops.com/wp-content/uploads/2019/03/screen-shot-2019-05-20-at-12.10.22-pm-e1558471852915.png
END:VEVENT
BEGIN:VEVENT
DTSTART;TZID=America/Los_Angeles:20240715T080000
DTEND;TZID=America/Los_Angeles:20240715T110000
DTSTAMP:20260425T033404
CREATED:20240425T163939Z
LAST-MODIFIED:20240425T163939Z
UID:10007096-1721030400-1721041200@driveshops.com
SUMMARY:Professional Service Advisor Sales Day 1 of 6
DESCRIPTION:
URL:https://driveshops.com/events/professional-service-advisor-sales-day-1-of-6/
LOCATION:Online
CATEGORIES:Professional Service Advisor Sales,Workshop
ATTACH;FMTTYPE=image/png:https://driveshops.com/wp-content/uploads/2019/04/screen-shot-2019-05-21-at-10.14.39-am-e1558470540769.png
END:VEVENT
BEGIN:VEVENT
DTSTART;TZID=America/Los_Angeles:20240715T080000
DTEND;TZID=America/Los_Angeles:20240715T110000
DTSTAMP:20260425T033404
CREATED:20240425T170335Z
LAST-MODIFIED:20240425T170808Z
UID:10007114-1721030400-1721041200@driveshops.com
SUMMARY:How to Read and Use Financial Statements Day 1 of 6
DESCRIPTION:
URL:https://driveshops.com/events/how-to-read-and-use-financial-statements-day-1-of-6/
LOCATION:Online
CATEGORIES:How to Read and Use Financial Statements,Workshop
END:VEVENT
BEGIN:VEVENT
DTSTART;TZID=UTC:20240716T080000
DTEND;TZID=UTC:20240716T110000
DTSTAMP:20260425T033404
CREATED:20240425T172306Z
LAST-MODIFIED:20240425T172328Z
UID:10007126-1721116800-1721127600@driveshops.com
SUMMARY:How to Train Your Team Day 1 of 3
DESCRIPTION:
URL:https://driveshops.com/events/how-to-train-your-team-day-1-of-4/
CATEGORIES:How to Train Your Team,Workshop
ATTACH;FMTTYPE=image/png:https://driveshops.com/wp-content/uploads/2019/11/httyt_11.26.19-01.png
END:VEVENT
BEGIN:VEVENT
DTSTART;TZID=America/Los_Angeles:20240716T080000
DTEND;TZID=America/Los_Angeles:20240716T110000
DTSTAMP:20260425T033404
CREATED:20240425T173152Z
LAST-MODIFIED:20240425T173152Z
UID:10007130-1721116800-1721127600@driveshops.com
SUMMARY:Planning For Success Day 1 of 5
DESCRIPTION:
URL:https://driveshops.com/events/planning-for-success-day-1-of-5/
LOCATION:Online
CATEGORIES:Planning for Success,Workshop
ATTACH;FMTTYPE=image/png:https://driveshops.com/wp-content/uploads/2019/04/screen-shot-2019-05-21-at-10.44.40-am-e1558471214538.png
END:VEVENT
BEGIN:VEVENT
DTSTART;TZID=America/Denver:20240716T080000
DTEND;TZID=America/Denver:20240716T110000
DTSTAMP:20260425T033404
CREATED:20240425T183506Z
LAST-MODIFIED:20240425T183506Z
UID:10007151-1721116800-1721127600@driveshops.com
SUMMARY:Developing Shop Playbooks Day 1 of 5
DESCRIPTION:
URL:https://driveshops.com/events/developing-shop-playbooks-day-1-of-5/
LOCATION:Online
CATEGORIES:Developing Shop Playbooks,Workshop
ATTACH;FMTTYPE=image/png:https://driveshops.com/wp-content/uploads/2019/09/screen-shot-2019-09-04-at-11.16.56-am.png
END:VEVENT
BEGIN:VEVENT
DTSTART;TZID=America/Los_Angeles:20240717T080000
DTEND;TZID=America/Los_Angeles:20240717T110000
DTSTAMP:20260425T033404
CREATED:20240425T154913Z
LAST-MODIFIED:20240425T154913Z
UID:10007054-1721203200-1721214000@driveshops.com
SUMMARY:Building Your Dream Team Day 2 of 6
DESCRIPTION:
URL:https://driveshops.com/events/building-your-dream-team-day-2-of-6/
LOCATION:Online
CATEGORIES:Building Your Dream Team
ATTACH;FMTTYPE=image/png:https://driveshops.com/wp-content/uploads/2019/03/screen-shot-2019-05-20-at-12.10.22-pm-e1558471852915.png
END:VEVENT
BEGIN:VEVENT
DTSTART;TZID=America/Los_Angeles:20240717T080000
DTEND;TZID=America/Los_Angeles:20240717T110000
DTSTAMP:20260425T033404
CREATED:20240425T164002Z
LAST-MODIFIED:20240425T164002Z
UID:10007097-1721203200-1721214000@driveshops.com
SUMMARY:Professional Service Advisor Sales Day 2 of 6
DESCRIPTION:
URL:https://driveshops.com/events/professional-service-advisor-sales-day-2-of-6/
LOCATION:Online
CATEGORIES:Professional Service Advisor Sales,Workshop
ATTACH;FMTTYPE=image/png:https://driveshops.com/wp-content/uploads/2019/04/screen-shot-2019-05-21-at-10.14.39-am-e1558470540769.png
END:VEVENT
BEGIN:VEVENT
DTSTART;TZID=America/Los_Angeles:20240717T080000
DTEND;TZID=America/Los_Angeles:20240717T110000
DTSTAMP:20260425T033404
CREATED:20240425T165957Z
LAST-MODIFIED:20240425T170745Z
UID:10007115-1721203200-1721214000@driveshops.com
SUMMARY:How to Read and Use Financial Statements Day 2 of 6
DESCRIPTION:
URL:https://driveshops.com/events/how-to-read-and-use-financial-statements-day-2-of-6/
LOCATION:Online
CATEGORIES:How to Read and Use Financial Statements,Workshop
END:VEVENT
BEGIN:VEVENT
DTSTART;TZID=UTC:20240718T080000
DTEND;TZID=UTC:20240718T110000
DTSTAMP:20260425T033404
CREATED:20240425T172346Z
LAST-MODIFIED:20240425T172346Z
UID:10007127-1721289600-1721300400@driveshops.com
SUMMARY:How to Train Your Team Day 2 of 3
DESCRIPTION:
URL:https://driveshops.com/events/how-to-train-your-team-day-2-of-3/
CATEGORIES:How to Train Your Team,Workshop
ATTACH;FMTTYPE=image/png:https://driveshops.com/wp-content/uploads/2019/11/httyt_11.26.19-01.png
END:VEVENT
BEGIN:VEVENT
DTSTART;TZID=America/Los_Angeles:20240718T080000
DTEND;TZID=America/Los_Angeles:20240718T110000
DTSTAMP:20260425T033404
CREATED:20240425T173215Z
LAST-MODIFIED:20240425T173215Z
UID:10007131-1721289600-1721300400@driveshops.com
SUMMARY:Planning For Success Day 2 of 5
DESCRIPTION:
URL:https://driveshops.com/events/planning-for-success-day-2-of-5/
LOCATION:Online
CATEGORIES:Planning for Success,Workshop
ATTACH;FMTTYPE=image/png:https://driveshops.com/wp-content/uploads/2019/04/screen-shot-2019-05-21-at-10.44.40-am-e1558471214538.png
END:VEVENT
BEGIN:VEVENT
DTSTART;TZID=America/Denver:20240718T080000
DTEND;TZID=America/Denver:20240718T110000
DTSTAMP:20260425T033404
CREATED:20240425T183515Z
LAST-MODIFIED:20240425T183515Z
UID:10007152-1721289600-1721300400@driveshops.com
SUMMARY:Developing Shop Playbooks Day 2 of 5
DESCRIPTION:
URL:https://driveshops.com/events/developing-shop-playbooks-day-2-of-5/
LOCATION:Online
CATEGORIES:Developing Shop Playbooks,Workshop
ATTACH;FMTTYPE=image/png:https://driveshops.com/wp-content/uploads/2019/09/screen-shot-2019-09-04-at-11.16.56-am.png
END:VEVENT
BEGIN:VEVENT
DTSTART;TZID=America/Los_Angeles:20240719T080000
DTEND;TZID=America/Los_Angeles:20240719T110000
DTSTAMP:20260425T033404
CREATED:20240425T154827Z
LAST-MODIFIED:20240425T154827Z
UID:10007053-1721376000-1721386800@driveshops.com
SUMMARY:Building Your Dream Team Day 3 of 6
DESCRIPTION:
URL:https://driveshops.com/events/building-your-dream-team-day-3-of-6/
LOCATION:Online
CATEGORIES:Building Your Dream Team
ATTACH;FMTTYPE=image/png:https://driveshops.com/wp-content/uploads/2019/03/screen-shot-2019-05-20-at-12.10.22-pm-e1558471852915.png
END:VEVENT
END:VCALENDAR