BEGIN:VCALENDAR
VERSION:2.0
PRODID:-//DRIVE - ECPv6.15.18//NONSGML v1.0//EN
CALSCALE:GREGORIAN
METHOD:PUBLISH
X-WR-CALNAME:DRIVE
X-ORIGINAL-URL:https://driveshops.com
X-WR-CALDESC:Events for DRIVE
REFRESH-INTERVAL;VALUE=DURATION:PT1H
X-Robots-Tag:noindex
X-PUBLISHED-TTL:PT1H
BEGIN:VTIMEZONE
TZID:America/Los_Angeles
BEGIN:DAYLIGHT
TZOFFSETFROM:-0800
TZOFFSETTO:-0700
TZNAME:PDT
DTSTART:20240310T100000
END:DAYLIGHT
BEGIN:STANDARD
TZOFFSETFROM:-0700
TZOFFSETTO:-0800
TZNAME:PST
DTSTART:20241103T090000
END:STANDARD
BEGIN:DAYLIGHT
TZOFFSETFROM:-0800
TZOFFSETTO:-0700
TZNAME:PDT
DTSTART:20250309T100000
END:DAYLIGHT
BEGIN:STANDARD
TZOFFSETFROM:-0700
TZOFFSETTO:-0800
TZNAME:PST
DTSTART:20251102T090000
END:STANDARD
BEGIN:DAYLIGHT
TZOFFSETFROM:-0800
TZOFFSETTO:-0700
TZNAME:PDT
DTSTART:20260308T100000
END:DAYLIGHT
BEGIN:STANDARD
TZOFFSETFROM:-0700
TZOFFSETTO:-0800
TZNAME:PST
DTSTART:20261101T090000
END:STANDARD
BEGIN:DAYLIGHT
TZOFFSETFROM:-0800
TZOFFSETTO:-0700
TZNAME:PDT
DTSTART:20270314T100000
END:DAYLIGHT
BEGIN:STANDARD
TZOFFSETFROM:-0700
TZOFFSETTO:-0800
TZNAME:PST
DTSTART:20271107T090000
END:STANDARD
END:VTIMEZONE
BEGIN:VTIMEZONE
TZID:UTC
BEGIN:STANDARD
TZOFFSETFROM:+0000
TZOFFSETTO:+0000
TZNAME:UTC
DTSTART:20240101T000000
END:STANDARD
END:VTIMEZONE
BEGIN:VTIMEZONE
TZID:America/Denver
BEGIN:DAYLIGHT
TZOFFSETFROM:-0700
TZOFFSETTO:-0600
TZNAME:MDT
DTSTART:20240310T090000
END:DAYLIGHT
BEGIN:STANDARD
TZOFFSETFROM:-0600
TZOFFSETTO:-0700
TZNAME:MST
DTSTART:20241103T080000
END:STANDARD
BEGIN:DAYLIGHT
TZOFFSETFROM:-0700
TZOFFSETTO:-0600
TZNAME:MDT
DTSTART:20250309T090000
END:DAYLIGHT
BEGIN:STANDARD
TZOFFSETFROM:-0600
TZOFFSETTO:-0700
TZNAME:MST
DTSTART:20251102T080000
END:STANDARD
BEGIN:DAYLIGHT
TZOFFSETFROM:-0700
TZOFFSETTO:-0600
TZNAME:MDT
DTSTART:20260308T090000
END:DAYLIGHT
BEGIN:STANDARD
TZOFFSETFROM:-0600
TZOFFSETTO:-0700
TZNAME:MST
DTSTART:20261101T080000
END:STANDARD
END:VTIMEZONE
BEGIN:VEVENT
DTSTART;TZID=America/Los_Angeles:20260212T080000
DTEND;TZID=America/Los_Angeles:20260212T110000
DTSTAMP:20260423T171714
CREATED:20260123T182510Z
LAST-MODIFIED:20260123T182556Z
UID:10007704-1770883200-1770894000@driveshops.com
SUMMARY:Essentials of Shop Management  Day 6 of 6
DESCRIPTION:
URL:https://driveshops.com/events/essentials-of-shop-management-day-5-of-6-14/
LOCATION:Online
CATEGORIES:Essentials of Shop Management,Workshop
ATTACH;FMTTYPE=image/png:https://driveshops.com/wp-content/uploads/2019/04/screen-shot-2019-05-21-at-10.17.01-am-e1558471790866.png
END:VEVENT
BEGIN:VEVENT
DTSTART;TZID=America/Los_Angeles:20260211T080000
DTEND;TZID=America/Los_Angeles:20260211T110000
DTSTAMP:20260423T171714
CREATED:20260123T181552Z
LAST-MODIFIED:20260123T181552Z
UID:10007703-1770796800-1770807600@driveshops.com
SUMMARY:Essentials of Shop Management  Day 5 of 6
DESCRIPTION:
URL:https://driveshops.com/events/essentials-of-shop-management-day-5-of-6-13/
LOCATION:Online
CATEGORIES:Essentials of Shop Management,Workshop
ATTACH;FMTTYPE=image/png:https://driveshops.com/wp-content/uploads/2019/04/screen-shot-2019-05-21-at-10.17.01-am-e1558471790866.png
END:VEVENT
BEGIN:VEVENT
DTSTART;TZID=America/Los_Angeles:20260210T080000
DTEND;TZID=America/Los_Angeles:20260210T110000
DTSTAMP:20260423T171714
CREATED:20260123T181449Z
LAST-MODIFIED:20260123T181449Z
UID:10007702-1770710400-1770721200@driveshops.com
SUMMARY:Essentials of Shop Management  Day 4 of 6
DESCRIPTION:
URL:https://driveshops.com/events/essentials-of-shop-management-day-4-of-6-13/
LOCATION:Online
CATEGORIES:Essentials of Shop Management,Workshop
ATTACH;FMTTYPE=image/png:https://driveshops.com/wp-content/uploads/2019/04/screen-shot-2019-05-21-at-10.17.01-am-e1558471790866.png
END:VEVENT
BEGIN:VEVENT
DTSTART;TZID=America/Los_Angeles:20260205T080000
DTEND;TZID=America/Los_Angeles:20260205T110000
DTSTAMP:20260423T171714
CREATED:20260123T181330Z
LAST-MODIFIED:20260123T181330Z
UID:10007701-1770278400-1770289200@driveshops.com
SUMMARY:Essentials of Shop Management  Day 3 of 6
DESCRIPTION:
URL:https://driveshops.com/events/essentials-of-shop-management-day-3-of-6-13/
LOCATION:Online
CATEGORIES:Essentials of Shop Management,Workshop
ATTACH;FMTTYPE=image/png:https://driveshops.com/wp-content/uploads/2019/04/screen-shot-2019-05-21-at-10.17.01-am-e1558471790866.png
END:VEVENT
BEGIN:VEVENT
DTSTART;TZID=America/Los_Angeles:20260204T080000
DTEND;TZID=America/Los_Angeles:20260204T110000
DTSTAMP:20260423T171714
CREATED:20260123T181250Z
LAST-MODIFIED:20260123T181250Z
UID:10007700-1770192000-1770202800@driveshops.com
SUMMARY:Essentials of Shop Management  Day 2 of 6
DESCRIPTION:
URL:https://driveshops.com/events/essentials-of-shop-management-day-2-of-6-13/
LOCATION:Online
CATEGORIES:Essentials of Shop Management,Workshop
ATTACH;FMTTYPE=image/png:https://driveshops.com/wp-content/uploads/2019/04/screen-shot-2019-05-21-at-10.17.01-am-e1558471790866.png
END:VEVENT
BEGIN:VEVENT
DTSTART;TZID=America/Los_Angeles:20260203T080000
DTEND;TZID=America/Los_Angeles:20260203T110000
DTSTAMP:20260423T171714
CREATED:20260123T181404Z
LAST-MODIFIED:20260123T181404Z
UID:10007699-1770105600-1770116400@driveshops.com
SUMMARY:Essentials of Shop Management  Day 1 of 6
DESCRIPTION:
URL:https://driveshops.com/events/essentials-of-shop-management-day-1-of-6-14/
LOCATION:Online
CATEGORIES:Essentials of Shop Management,Workshop
ATTACH;FMTTYPE=image/png:https://driveshops.com/wp-content/uploads/2019/04/screen-shot-2019-05-21-at-10.17.01-am-e1558471790866.png
END:VEVENT
BEGIN:VEVENT
DTSTART;TZID=America/Los_Angeles:20260203T080000
DTEND;TZID=America/Los_Angeles:20260203T110000
DTSTAMP:20260423T171714
CREATED:20260123T181126Z
LAST-MODIFIED:20260123T181126Z
UID:10007698-1770105600-1770116400@driveshops.com
SUMMARY:Essentials of Shop Management  Day 1 of 6
DESCRIPTION:
URL:https://driveshops.com/events/essentials-of-shop-management-day-1-of-6-13/
LOCATION:Online
CATEGORIES:Essentials of Shop Management,Workshop
ATTACH;FMTTYPE=image/png:https://driveshops.com/wp-content/uploads/2019/04/screen-shot-2019-05-21-at-10.17.01-am-e1558471790866.png
END:VEVENT
BEGIN:VEVENT
DTSTART;TZID=America/Los_Angeles:20260122T080000
DTEND;TZID=America/Los_Angeles:20260122T110000
DTSTAMP:20260423T171714
CREATED:20250320T123116Z
LAST-MODIFIED:20250417T144626Z
UID:10007669-1769068800-1769079600@driveshops.com
SUMMARY:Risk Management Day 4 of 4
DESCRIPTION:
URL:https://driveshops.com/events/risk-management-day-4-of-4-2/
LOCATION:Online
CATEGORIES:Risk Management,Workshop
END:VEVENT
BEGIN:VEVENT
DTSTART;TZID=America/Los_Angeles:20260120T080000
DTEND;TZID=America/Los_Angeles:20260120T110000
DTSTAMP:20260423T171714
CREATED:20250320T122900Z
LAST-MODIFIED:20250320T123202Z
UID:10007668-1768896000-1768906800@driveshops.com
SUMMARY:Risk Management Day 3 of 4
DESCRIPTION:
URL:https://driveshops.com/events/risk-management-day-3-of-4-2/
LOCATION:Online
CATEGORIES:Risk Management,Workshop
ATTACH;FMTTYPE=image/png:https://driveshops.com/wp-content/uploads/2019/04/screen-shot-2019-05-21-at-10.25.56-am-e1558471321731.png
END:VEVENT
BEGIN:VEVENT
DTSTART;TZID=America/Los_Angeles:20260115T080000
DTEND;TZID=America/Los_Angeles:20260115T110000
DTSTAMP:20260423T171714
CREATED:20250320T122126Z
LAST-MODIFIED:20250320T123159Z
UID:10007667-1768464000-1768474800@driveshops.com
SUMMARY:Risk Management Day 2 of 4
DESCRIPTION:
URL:https://driveshops.com/events/risk-management-day-2-of-4-2/
LOCATION:Online
CATEGORIES:Risk Management,Workshop
ATTACH;FMTTYPE=image/png:https://driveshops.com/wp-content/uploads/2019/04/screen-shot-2019-05-21-at-10.25.56-am-e1558471321731.png
END:VEVENT
BEGIN:VEVENT
DTSTART;TZID=America/Los_Angeles:20260113T080000
DTEND;TZID=America/Los_Angeles:20260113T110000
DTSTAMP:20260423T171714
CREATED:20250320T122052Z
LAST-MODIFIED:20250320T123154Z
UID:10007666-1768291200-1768302000@driveshops.com
SUMMARY:Risk Management Day 1 of 4
DESCRIPTION:
URL:https://driveshops.com/events/risk-management-day-1-of-4-2/
LOCATION:Online
CATEGORIES:Risk Management,Workshop
ATTACH;FMTTYPE=image/png:https://driveshops.com/wp-content/uploads/2019/04/screen-shot-2019-05-21-at-10.25.56-am-e1558471321731.png
END:VEVENT
BEGIN:VEVENT
DTSTART;TZID=UTC:20251218T080000
DTEND;TZID=UTC:20251218T110000
DTSTAMP:20260423T171714
CREATED:20250320T120231Z
LAST-MODIFIED:20250417T181731Z
UID:10007652-1766044800-1766055600@driveshops.com
SUMMARY:Employee Benefit Solutions Day 3 of 3
DESCRIPTION:
URL:https://driveshops.com/events/employee-benefit-solutions-day-3-of-3-2/
LOCATION:Online
CATEGORIES:Employee Benefit Solutions,Workshop
END:VEVENT
BEGIN:VEVENT
DTSTART;TZID=UTC:20251217T080000
DTEND;TZID=UTC:20251217T110000
DTSTAMP:20260423T171714
CREATED:20250320T120219Z
LAST-MODIFIED:20250417T181709Z
UID:10007651-1765958400-1765969200@driveshops.com
SUMMARY:Employee Benefit Solutions Day 2 of 3
DESCRIPTION:
URL:https://driveshops.com/events/employee-benefit-solutions-day-2-of-3-2/
LOCATION:Online
CATEGORIES:Employee Benefit Solutions,Workshop
END:VEVENT
BEGIN:VEVENT
DTSTART;TZID=UTC:20251216T080000
DTEND;TZID=UTC:20251216T110000
DTSTAMP:20260423T171714
CREATED:20250320T120204Z
LAST-MODIFIED:20250417T181633Z
UID:10007650-1765872000-1765882800@driveshops.com
SUMMARY:Employee Benefit Solutions Day 1 of 3
DESCRIPTION:
URL:https://driveshops.com/events/employee-benefit-solutions-day-1-of-3-2/
LOCATION:Online
CATEGORIES:Employee Benefit Solutions,Workshop
END:VEVENT
BEGIN:VEVENT
DTSTART;TZID=America/Denver:20251211T080000
DTEND;TZID=America/Denver:20251211T110000
DTSTAMP:20260423T171714
CREATED:20250320T120004Z
LAST-MODIFIED:20250416T170606Z
UID:10007649-1765440000-1765450800@driveshops.com
SUMMARY:Managing Shop Finances Day 6 of 6
DESCRIPTION:
URL:https://driveshops.com/events/managing-shop-finances-day-6-of-6-3/
LOCATION:Online
CATEGORIES:Mastering Shop Finances,Workshop
END:VEVENT
BEGIN:VEVENT
DTSTART;TZID=UTC:20251211T080000
DTEND;TZID=UTC:20251211T110000
DTSTAMP:20260423T171714
CREATED:20250319T194816Z
LAST-MODIFIED:20250416T170843Z
UID:10007634-1765440000-1765450800@driveshops.com
SUMMARY:Reputation Management Day 3 of 3
DESCRIPTION:
URL:https://driveshops.com/events/reputation-management-day-3-of-3-4/
LOCATION:Online
CATEGORIES:Public Relations,Workshop
END:VEVENT
BEGIN:VEVENT
DTSTART;TZID=America/Los_Angeles:20251211T080000
DTEND;TZID=America/Los_Angeles:20251211T110000
DTSTAMP:20260423T171714
CREATED:20250319T183744Z
LAST-MODIFIED:20250416T170852Z
UID:10007588-1765440000-1765450800@driveshops.com
SUMMARY:Essentials of Shop Management Day 6 of 6
DESCRIPTION:
URL:https://driveshops.com/events/essentials-of-shop-management-day-6-of-6-10/
LOCATION:Online
CATEGORIES:Essentials of Shop Management,Workshop
END:VEVENT
BEGIN:VEVENT
DTSTART;TZID=America/Los_Angeles:20251211T080000
DTEND;TZID=America/Los_Angeles:20251211T110000
DTSTAMP:20260423T171714
CREATED:20250318T184539Z
LAST-MODIFIED:20250416T170903Z
UID:10007504-1765440000-1765450800@driveshops.com
SUMMARY:How to Increase Your Profits Day 4 of 4
DESCRIPTION:
URL:https://driveshops.com/events/how-to-increase-your-profits-day-4-of-4-9/
LOCATION:Online
CATEGORIES:How To Increase Your Profits,Workshop
END:VEVENT
BEGIN:VEVENT
DTSTART;TZID=America/Denver:20251210T080000
DTEND;TZID=America/Denver:20251210T110000
DTSTAMP:20260423T171714
CREATED:20250320T115950Z
LAST-MODIFIED:20250416T170615Z
UID:10007648-1765353600-1765364400@driveshops.com
SUMMARY:Managing Shop Finances Day 5 of 6
DESCRIPTION:
URL:https://driveshops.com/events/managing-shop-finances-day-5-of-6-3/
LOCATION:Online
CATEGORIES:Mastering Shop Finances,Workshop
END:VEVENT
BEGIN:VEVENT
DTSTART;TZID=UTC:20251210T080000
DTEND;TZID=UTC:20251210T110000
DTSTAMP:20260423T171714
CREATED:20250319T194802Z
LAST-MODIFIED:20250416T170917Z
UID:10007633-1765353600-1765364400@driveshops.com
SUMMARY:Reputation Management Day 2 of 3
DESCRIPTION:
URL:https://driveshops.com/events/reputation-management-day-2-of-3-4/
LOCATION:Online
CATEGORIES:Public Relations,Workshop
END:VEVENT
BEGIN:VEVENT
DTSTART;TZID=America/Los_Angeles:20251210T080000
DTEND;TZID=America/Los_Angeles:20251210T110000
DTSTAMP:20260423T171714
CREATED:20250319T183737Z
LAST-MODIFIED:20250416T170930Z
UID:10007587-1765353600-1765364400@driveshops.com
SUMMARY:Essentials of Shop Management Day 5 of 6
DESCRIPTION:
URL:https://driveshops.com/events/essentials-of-shop-management-day-5-of-6-11/
CATEGORIES:Essentials of Shop Management,Workshop
END:VEVENT
BEGIN:VEVENT
DTSTART;TZID=America/Los_Angeles:20251210T080000
DTEND;TZID=America/Los_Angeles:20251210T110000
DTSTAMP:20260423T171714
CREATED:20250319T173518Z
LAST-MODIFIED:20250416T171019Z
UID:10007554-1765353600-1765364400@driveshops.com
SUMMARY:Succession & Exit Planning Day 5 of 5
DESCRIPTION:
URL:https://driveshops.com/events/succession-exit-planning-day-5-of-5-3/
LOCATION:Online
CATEGORIES:Succession & Exit Planning,Workshop
END:VEVENT
BEGIN:VEVENT
DTSTART;TZID=America/Los_Angeles:20251210T080000
DTEND;TZID=America/Los_Angeles:20251210T110000
DTSTAMP:20260423T171714
CREATED:20250318T183313Z
LAST-MODIFIED:20250416T171029Z
UID:10007492-1765353600-1765364400@driveshops.com
SUMMARY:Master and Control The Front of Your Shop Day 5 of 5
DESCRIPTION:
URL:https://driveshops.com/events/controlling-the-front-day-5-of-5-7/
LOCATION:Online
CATEGORIES:Master and Control the Front of Your Shop,Workshop
END:VEVENT
BEGIN:VEVENT
DTSTART;TZID=America/Denver:20251209T080000
DTEND;TZID=America/Denver:20251209T110000
DTSTAMP:20260423T171714
CREATED:20250320T115937Z
LAST-MODIFIED:20250320T115937Z
UID:10007647-1765267200-1765278000@driveshops.com
SUMMARY:Managing Shop Finances Day 4 of 6
DESCRIPTION:
URL:https://driveshops.com/events/managing-shop-finances-day-4-of-6-3/
LOCATION:Online
CATEGORIES:Mastering Shop Finances,Workshop
END:VEVENT
BEGIN:VEVENT
DTSTART;TZID=UTC:20251209T080000
DTEND;TZID=UTC:20251209T110000
DTSTAMP:20260423T171714
CREATED:20250319T194751Z
LAST-MODIFIED:20250416T171044Z
UID:10007632-1765267200-1765278000@driveshops.com
SUMMARY:Reputation Management Day 1 of 3
DESCRIPTION:
URL:https://driveshops.com/events/reputation-management-day-1-of-3-4/
LOCATION:Online
CATEGORIES:Public Relations,Workshop
END:VEVENT
BEGIN:VEVENT
DTSTART;TZID=America/Los_Angeles:20251209T080000
DTEND;TZID=America/Los_Angeles:20251209T110000
DTSTAMP:20260423T171714
CREATED:20250319T183729Z
LAST-MODIFIED:20250416T171054Z
UID:10007586-1765267200-1765278000@driveshops.com
SUMMARY:Essentials of Shop Management Day 4 of 6
DESCRIPTION:
URL:https://driveshops.com/events/essentials-of-shop-management-day-4-of-6-11/
LOCATION:Online
CATEGORIES:Essentials of Shop Management,Workshop
END:VEVENT
BEGIN:VEVENT
DTSTART;TZID=America/Los_Angeles:20251209T080000
DTEND;TZID=America/Los_Angeles:20251209T110000
DTSTAMP:20260423T171714
CREATED:20250319T173510Z
LAST-MODIFIED:20250416T171103Z
UID:10007553-1765267200-1765278000@driveshops.com
SUMMARY:Succession & Exit Planning Day 4 of 5
DESCRIPTION:
URL:https://driveshops.com/events/succession-exit-planning-day-4-of-5-3/
LOCATION:Online
CATEGORIES:Succession & Exit Planning,Workshop
END:VEVENT
BEGIN:VEVENT
DTSTART;TZID=America/Los_Angeles:20251209T080000
DTEND;TZID=America/Los_Angeles:20251209T110000
DTSTAMP:20260423T171714
CREATED:20250318T184524Z
LAST-MODIFIED:20250416T171531Z
UID:10007503-1765267200-1765278000@driveshops.com
SUMMARY:How to Increase Your Profits Day 3 of 4
DESCRIPTION:
URL:https://driveshops.com/events/how-to-increase-your-profits-day-3-of-4-9/
LOCATION:Online
CATEGORIES:How To Increase Your Profits,Workshop
END:VEVENT
BEGIN:VEVENT
DTSTART;TZID=America/Los_Angeles:20251209T080000
DTEND;TZID=America/Los_Angeles:20251209T110000
DTSTAMP:20260423T171714
CREATED:20250318T183235Z
LAST-MODIFIED:20250416T171237Z
UID:10007491-1765267200-1765278000@driveshops.com
SUMMARY:Master and Control The Front of Your Shop Day 4 of 5
DESCRIPTION:
URL:https://driveshops.com/events/controlling-the-front-day-4-of-5-6/
LOCATION:Online
CATEGORIES:Master and Control the Front of Your Shop,Workshop
END:VEVENT
BEGIN:VEVENT
DTSTART;TZID=America/Denver:20251204T080000
DTEND;TZID=America/Denver:20251204T110000
DTSTAMP:20260423T171714
CREATED:20250320T115920Z
LAST-MODIFIED:20250320T115920Z
UID:10007646-1764835200-1764846000@driveshops.com
SUMMARY:Managing Shop Finances Day 3 of 6
DESCRIPTION:
URL:https://driveshops.com/events/managing-shop-finances-day-3-of-6-3/
LOCATION:Online
CATEGORIES:Mastering Shop Finances,Workshop
END:VEVENT
END:VCALENDAR