BEGIN:VCALENDAR
VERSION:2.0
PRODID:-//DRIVE - ECPv6.15.18//NONSGML v1.0//EN
CALSCALE:GREGORIAN
METHOD:PUBLISH
X-WR-CALNAME:DRIVE
X-ORIGINAL-URL:https://driveshops.com
X-WR-CALDESC:Events for DRIVE
REFRESH-INTERVAL;VALUE=DURATION:PT1H
X-Robots-Tag:noindex
X-PUBLISHED-TTL:PT1H
BEGIN:VTIMEZONE
TZID:America/Los_Angeles
BEGIN:DAYLIGHT
TZOFFSETFROM:-0800
TZOFFSETTO:-0700
TZNAME:PDT
DTSTART:20250309T100000
END:DAYLIGHT
BEGIN:STANDARD
TZOFFSETFROM:-0700
TZOFFSETTO:-0800
TZNAME:PST
DTSTART:20251102T090000
END:STANDARD
BEGIN:DAYLIGHT
TZOFFSETFROM:-0800
TZOFFSETTO:-0700
TZNAME:PDT
DTSTART:20260308T100000
END:DAYLIGHT
BEGIN:STANDARD
TZOFFSETFROM:-0700
TZOFFSETTO:-0800
TZNAME:PST
DTSTART:20261101T090000
END:STANDARD
BEGIN:DAYLIGHT
TZOFFSETFROM:-0800
TZOFFSETTO:-0700
TZNAME:PDT
DTSTART:20270314T100000
END:DAYLIGHT
BEGIN:STANDARD
TZOFFSETFROM:-0700
TZOFFSETTO:-0800
TZNAME:PST
DTSTART:20271107T090000
END:STANDARD
END:VTIMEZONE
BEGIN:VTIMEZONE
TZID:UTC
BEGIN:STANDARD
TZOFFSETFROM:+0000
TZOFFSETTO:+0000
TZNAME:UTC
DTSTART:20250101T000000
END:STANDARD
END:VTIMEZONE
BEGIN:VTIMEZONE
TZID:America/Los_Angeles
BEGIN:DAYLIGHT
TZOFFSETFROM:-0800
TZOFFSETTO:-0700
TZNAME:PDT
DTSTART:20250309T100000
END:DAYLIGHT
BEGIN:STANDARD
TZOFFSETFROM:-0700
TZOFFSETTO:-0800
TZNAME:PST
DTSTART:20251102T090000
END:STANDARD
BEGIN:DAYLIGHT
TZOFFSETFROM:-0800
TZOFFSETTO:-0700
TZNAME:PDT
DTSTART:20260308T100000
END:DAYLIGHT
BEGIN:STANDARD
TZOFFSETFROM:-0700
TZOFFSETTO:-0800
TZNAME:PST
DTSTART:20261101T090000
END:STANDARD
BEGIN:DAYLIGHT
TZOFFSETFROM:-0800
TZOFFSETTO:-0700
TZNAME:PDT
DTSTART:20270314T100000
END:DAYLIGHT
BEGIN:STANDARD
TZOFFSETFROM:-0700
TZOFFSETTO:-0800
TZNAME:PST
DTSTART:20271107T090000
END:STANDARD
END:VTIMEZONE
BEGIN:VTIMEZONE
TZID:America/Denver
BEGIN:DAYLIGHT
TZOFFSETFROM:-0700
TZOFFSETTO:-0600
TZNAME:MDT
DTSTART:20250309T090000
END:DAYLIGHT
BEGIN:STANDARD
TZOFFSETFROM:-0600
TZOFFSETTO:-0700
TZNAME:MST
DTSTART:20251102T080000
END:STANDARD
BEGIN:DAYLIGHT
TZOFFSETFROM:-0700
TZOFFSETTO:-0600
TZNAME:MDT
DTSTART:20260308T090000
END:DAYLIGHT
BEGIN:STANDARD
TZOFFSETFROM:-0600
TZOFFSETTO:-0700
TZNAME:MST
DTSTART:20261101T080000
END:STANDARD
BEGIN:DAYLIGHT
TZOFFSETFROM:-0700
TZOFFSETTO:-0600
TZNAME:MDT
DTSTART:20270314T090000
END:DAYLIGHT
BEGIN:STANDARD
TZOFFSETFROM:-0600
TZOFFSETTO:-0700
TZNAME:MST
DTSTART:20271107T080000
END:STANDARD
END:VTIMEZONE
BEGIN:VEVENT
DTSTART;TZID=America/Los_Angeles:20260609T080000
DTEND;TZID=America/Los_Angeles:20260609T110000
DTSTAMP:20260423T160918
CREATED:20260227T160741Z
LAST-MODIFIED:20260227T160741Z
UID:10007876-1780992000-1781002800@driveshops.com
SUMMARY:Expanding Your Auto Repair Shop Day 1 of 2
DESCRIPTION:
URL:https://driveshops.com/events/expanding-your-auto-repair-shop-day-1-of-2-4/
LOCATION:Online
CATEGORIES:Expanding Your Auto Shop
END:VEVENT
BEGIN:VEVENT
DTSTART;TZID=America/Los_Angeles:20260609T080000
DTEND;TZID=America/Los_Angeles:20260609T110000
DTSTAMP:20260423T160918
CREATED:20260227T144235Z
LAST-MODIFIED:20260227T144235Z
UID:10007799-1780992000-1781002800@driveshops.com
SUMMARY:Master and Control The Front of Your Shop Day 1 of 5
DESCRIPTION:
URL:https://driveshops.com/events/master-and-control-the-front-of-your-shop-day-1-of-5-2/
LOCATION:Online
CATEGORIES:Master and Control the Front of Your Shop,Workshop
END:VEVENT
BEGIN:VEVENT
DTSTART;TZID=America/Los_Angeles:20260514T080000
DTEND;TZID=America/Los_Angeles:20260514T110000
DTSTAMP:20260423T160918
CREATED:20260227T152713Z
LAST-MODIFIED:20260227T152713Z
UID:10007824-1778745600-1778756400@driveshops.com
SUMMARY:How to Increase Your Profits Day 3 of 3
DESCRIPTION:
URL:https://driveshops.com/events/how-to-increase-your-profits-day-3-of-3-2/
LOCATION:Online
CATEGORIES:How To Increase Your Profits,Workshop
END:VEVENT
BEGIN:VEVENT
DTSTART;TZID=UTC:20260514T080000
DTEND;TZID=UTC:20260514T110000
DTSTAMP:20260423T160918
CREATED:20260227T142524Z
LAST-MODIFIED:20260227T142524Z
UID:10007775-1778745600-1778756400@driveshops.com
SUMMARY:Professional Service Advisor Sales Day 6 of 6
DESCRIPTION:
URL:https://driveshops.com/events/professional-service-advisor-sales-day-6-of-6-11/
LOCATION:Online
CATEGORIES:Professional Service Advisor Sales,Workshop
END:VEVENT
BEGIN:VEVENT
DTSTART;TZID=America/Los_Angeles:20260514T080000
DTEND;TZID=America/Los_Angeles:20260514T110000
DTSTAMP:20260423T160918
CREATED:20260226T160150Z
LAST-MODIFIED:20260226T160150Z
UID:10007725-1778745600-1778756400@driveshops.com
SUMMARY:Essentials of Shop Management  Day 6 of 6
DESCRIPTION:
URL:https://driveshops.com/events/essentials-of-shop-management-day-6-of-6-14/
LOCATION:Online
CATEGORIES:Essentials of Shop Management,Workshop
ATTACH;FMTTYPE=image/png:https://driveshops.com/wp-content/uploads/2019/04/screen-shot-2019-05-21-at-10.17.01-am-e1558471790866.png
END:VEVENT
BEGIN:VEVENT
DTSTART;TZID=America/Los_Angeles:20260513T080000
DTEND;TZID=America/Los_Angeles:20260513T110000
DTSTAMP:20260423T160918
CREATED:20260227T154032Z
LAST-MODIFIED:20260227T154032Z
UID:10007840-1778659200-1778670000@driveshops.com
SUMMARY:Building Your Dream Team Day 5 of 5
DESCRIPTION:
URL:https://driveshops.com/events/building-your-dream-team-day-5-of-5-8/
LOCATION:Online
CATEGORIES:Building Your Dream Team
END:VEVENT
BEGIN:VEVENT
DTSTART;TZID=America/Los_Angeles:20260513T080000
DTEND;TZID=America/Los_Angeles:20260513T110000
DTSTAMP:20260423T160918
CREATED:20260227T152704Z
LAST-MODIFIED:20260227T152704Z
UID:10007823-1778659200-1778670000@driveshops.com
SUMMARY:How to Increase Your Profits Day 2 of 3
DESCRIPTION:
URL:https://driveshops.com/events/how-to-increase-your-profits-day-2-of-3-2/
LOCATION:Online
CATEGORIES:How To Increase Your Profits,Workshop
ATTACH;FMTTYPE=image/png:https://driveshops.com/wp-content/uploads/2019/04/screen-shot-2019-05-21-at-10.25.56-am-e1558471321731.png
END:VEVENT
BEGIN:VEVENT
DTSTART;TZID=UTC:20260513T080000
DTEND;TZID=UTC:20260513T110000
DTSTAMP:20260423T160918
CREATED:20260227T142511Z
LAST-MODIFIED:20260227T142511Z
UID:10007774-1778659200-1778670000@driveshops.com
SUMMARY:Professional Service Advisor Sales Day 5 of 6
DESCRIPTION:
URL:https://driveshops.com/events/professional-service-advisor-sales-day-5-of-6-11/
LOCATION:Online
CATEGORIES:Professional Service Advisor Sales,Workshop
END:VEVENT
BEGIN:VEVENT
DTSTART;TZID=America/Los_Angeles:20260513T080000
DTEND;TZID=America/Los_Angeles:20260513T110000
DTSTAMP:20260423T160918
CREATED:20260226T160140Z
LAST-MODIFIED:20260226T160140Z
UID:10007724-1778659200-1778670000@driveshops.com
SUMMARY:Essentials of Shop Management  Day 5 of 6
DESCRIPTION:
URL:https://driveshops.com/events/essentials-of-shop-management-day-5-of-6-17/
LOCATION:Online
CATEGORIES:Essentials of Shop Management,Workshop
ATTACH;FMTTYPE=image/png:https://driveshops.com/wp-content/uploads/2019/04/screen-shot-2019-05-21-at-10.17.01-am-e1558471790866.png
END:VEVENT
BEGIN:VEVENT
DTSTART;TZID=America/Los_Angeles:20260512T080000
DTEND;TZID=America/Los_Angeles:20260512T110000
DTSTAMP:20260423T160918
CREATED:20260227T154002Z
LAST-MODIFIED:20260227T154002Z
UID:10007839-1778572800-1778583600@driveshops.com
SUMMARY:Building Your Dream Team Day 4 of 5
DESCRIPTION:
URL:https://driveshops.com/events/building-your-dream-team-day-4-of-5-8/
LOCATION:Online
CATEGORIES:Building Your Dream Team
END:VEVENT
BEGIN:VEVENT
DTSTART;TZID=America/Los_Angeles:20260512T080000
DTEND;TZID=America/Los_Angeles:20260512T110000
DTSTAMP:20260423T160918
CREATED:20260227T152656Z
LAST-MODIFIED:20260227T152656Z
UID:10007822-1778572800-1778583600@driveshops.com
SUMMARY:How to Increase Your Profits Day 1 of 3
DESCRIPTION:
URL:https://driveshops.com/events/how-to-increase-your-profits-day-1-of-3-2/
LOCATION:Online
CATEGORIES:How To Increase Your Profits,Workshop
END:VEVENT
BEGIN:VEVENT
DTSTART;TZID=UTC:20260512T080000
DTEND;TZID=UTC:20260512T110000
DTSTAMP:20260423T160918
CREATED:20260227T142501Z
LAST-MODIFIED:20260227T142501Z
UID:10007773-1778572800-1778583600@driveshops.com
SUMMARY:Professional Service Advisor Sales Day 4 of 6
DESCRIPTION:
URL:https://driveshops.com/events/professional-service-advisor-sales-day-4-of-6-11/
LOCATION:Online
CATEGORIES:Professional Service Advisor Sales,Workshop
END:VEVENT
BEGIN:VEVENT
DTSTART;TZID=America/Los_Angeles:20260512T080000
DTEND;TZID=America/Los_Angeles:20260512T110000
DTSTAMP:20260423T160918
CREATED:20260226T160132Z
LAST-MODIFIED:20260226T160132Z
UID:10007723-1778572800-1778583600@driveshops.com
SUMMARY:Essentials of Shop Management  Day 4 of 6
DESCRIPTION:
URL:https://driveshops.com/events/essentials-of-shop-management-day-4-of-6-16/
LOCATION:Online
CATEGORIES:Essentials of Shop Management,Workshop
ATTACH;FMTTYPE=image/png:https://driveshops.com/wp-content/uploads/2019/04/screen-shot-2019-05-21-at-10.17.01-am-e1558471790866.png
END:VEVENT
BEGIN:VEVENT
DTSTART;TZID=America/Los_Angeles:20260507T080000
DTEND;TZID=America/Los_Angeles:20260507T110000
DTSTAMP:20260423T160918
CREATED:20260227T153952Z
LAST-MODIFIED:20260227T153952Z
UID:10007838-1778140800-1778151600@driveshops.com
SUMMARY:Building Your Dream Team Day 3 of 5
DESCRIPTION:
URL:https://driveshops.com/events/building-your-dream-team-day-3-of-5-8/
LOCATION:Online
CATEGORIES:Building Your Dream Team
END:VEVENT
BEGIN:VEVENT
DTSTART;TZID=America/Los_Angeles:20260507T080000
DTEND;TZID=America/Los_Angeles:20260507T110000
DTSTAMP:20260423T160918
CREATED:20260227T142452Z
LAST-MODIFIED:20260227T142452Z
UID:10007772-1778140800-1778151600@driveshops.com
SUMMARY:Professional Service Advisor Sales Day 3 of 6
DESCRIPTION:
URL:https://driveshops.com/events/professional-service-advisor-sales-day-3-of-6-11/
LOCATION:Online
CATEGORIES:Professional Service Advisor Sales,Workshop
ATTACH;FMTTYPE=image/png:https://driveshops.com/wp-content/uploads/2019/04/screen-shot-2019-05-21-at-10.14.39-am-e1558470540769.png
END:VEVENT
BEGIN:VEVENT
DTSTART;TZID=America/Los_Angeles:20260507T080000
DTEND;TZID=America/Los_Angeles:20260507T110000
DTSTAMP:20260423T160918
CREATED:20260226T160118Z
LAST-MODIFIED:20260226T160118Z
UID:10007722-1778140800-1778151600@driveshops.com
SUMMARY:Essentials of Shop Management  Day 3 of 6
DESCRIPTION:
URL:https://driveshops.com/events/essentials-of-shop-management-day-3-of-6-16/
LOCATION:Online
CATEGORIES:Essentials of Shop Management,Workshop
ATTACH;FMTTYPE=image/png:https://driveshops.com/wp-content/uploads/2019/04/screen-shot-2019-05-21-at-10.17.01-am-e1558471790866.png
END:VEVENT
BEGIN:VEVENT
DTSTART;TZID=America/Los_Angeles:20260506T080000
DTEND;TZID=America/Los_Angeles:20260506T110000
DTSTAMP:20260423T160918
CREATED:20260227T153944Z
LAST-MODIFIED:20260227T153944Z
UID:10007837-1778054400-1778065200@driveshops.com
SUMMARY:Building Your Dream Team Day 2 of 5
DESCRIPTION:
URL:https://driveshops.com/events/building-your-dream-team-day-2-of-5-8/
LOCATION:Online
CATEGORIES:Building Your Dream Team
END:VEVENT
BEGIN:VEVENT
DTSTART;TZID=America/Los_Angeles:20260506T080000
DTEND;TZID=America/Los_Angeles:20260506T110000
DTSTAMP:20260423T160918
CREATED:20260227T142444Z
LAST-MODIFIED:20260227T142444Z
UID:10007771-1778054400-1778065200@driveshops.com
SUMMARY:Professional Service Advisor Sales Day 2 of 6
DESCRIPTION:
URL:https://driveshops.com/events/professional-service-advisor-sales-day-2-of-6-11/
LOCATION:Online
CATEGORIES:Professional Service Advisor Sales,Workshop
END:VEVENT
BEGIN:VEVENT
DTSTART;TZID=America/Los_Angeles:20260506T080000
DTEND;TZID=America/Los_Angeles:20260506T110000
DTSTAMP:20260423T160918
CREATED:20260226T160111Z
LAST-MODIFIED:20260226T160111Z
UID:10007721-1778054400-1778065200@driveshops.com
SUMMARY:Essentials of Shop Management  Day 2 of 6
DESCRIPTION:
URL:https://driveshops.com/events/essentials-of-shop-management-day-2-of-6-16/
LOCATION:Online
CATEGORIES:Essentials of Shop Management,Workshop
ATTACH;FMTTYPE=image/png:https://driveshops.com/wp-content/uploads/2019/04/screen-shot-2019-05-21-at-10.17.01-am-e1558471790866.png
END:VEVENT
BEGIN:VEVENT
DTSTART;TZID=America/Los_Angeles:20260505T080000
DTEND;TZID=America/Los_Angeles:20260505T110000
DTSTAMP:20260423T160918
CREATED:20260227T153936Z
LAST-MODIFIED:20260227T153936Z
UID:10007836-1777968000-1777978800@driveshops.com
SUMMARY:Building Your Dream Team Day 1 of 5
DESCRIPTION:
URL:https://driveshops.com/events/building-your-dream-team-day-1-of-5-8/
LOCATION:Online
CATEGORIES:Building Your Dream Team
END:VEVENT
BEGIN:VEVENT
DTSTART;TZID=America/Los_Angeles:20260505T080000
DTEND;TZID=America/Los_Angeles:20260505T110000
DTSTAMP:20260423T160918
CREATED:20260227T142434Z
LAST-MODIFIED:20260227T142434Z
UID:10007770-1777968000-1777978800@driveshops.com
SUMMARY:Professional Service Advisor Sales Day 1 of 6
DESCRIPTION:
URL:https://driveshops.com/events/professional-service-advisor-sales-day-1-of-6-11/
LOCATION:Online
CATEGORIES:Professional Service Advisor Sales,Workshop
END:VEVENT
BEGIN:VEVENT
DTSTART;TZID=America/Los_Angeles:20260505T080000
DTEND;TZID=America/Los_Angeles:20260505T110000
DTSTAMP:20260423T160918
CREATED:20260226T160103Z
LAST-MODIFIED:20260226T160103Z
UID:10007720-1777968000-1777978800@driveshops.com
SUMMARY:Essentials of Shop Management  Day 1 of 6
DESCRIPTION:
URL:https://driveshops.com/events/essentials-of-shop-management-day-1-of-6-17/
LOCATION:Online
CATEGORIES:Essentials of Shop Management,Workshop
ATTACH;FMTTYPE=image/png:https://driveshops.com/wp-content/uploads/2019/04/screen-shot-2019-05-21-at-10.17.01-am-e1558471790866.png
END:VEVENT
BEGIN:VEVENT
DTSTART;TZID=America/Los_Angeles:20260430T080000
DTEND;TZID=America/Los_Angeles:20260430T170000
DTSTAMP:20260423T160918
CREATED:20260309T214832Z
LAST-MODIFIED:20260309T214832Z
UID:10008009-1777536000-1777568400@driveshops.com
SUMMARY:Leadership in Action Day 3 of 3
DESCRIPTION:
URL:https://driveshops.com/events/leadership-in-action-day-3-of-3/
CATEGORIES:Leadership
END:VEVENT
BEGIN:VEVENT
DTSTART;TZID=UTC:20260430T080000
DTEND;TZID=UTC:20260430T110000
DTSTAMP:20260423T160918
CREATED:20260306T181521Z
LAST-MODIFIED:20260306T181544Z
UID:10007983-1777536000-1777546800@driveshops.com
SUMMARY:Teamwork Strategies to Increase Efficiency Day 2 of 2
DESCRIPTION:
URL:https://driveshops.com/events/teamwork-strategies-to-increase-efficiency-day-2-of-2-4/
LOCATION:Online
CATEGORIES:Teamwork Strategies to Increase Efficiency,Workshop
ATTACH;FMTTYPE=image/png:https://driveshops.com/wp-content/uploads/2019/09/screen-shot-2019-09-04-at-11.31.36-am.png
END:VEVENT
BEGIN:VEVENT
DTSTART;TZID=America/Denver:20260430T080000
DTEND;TZID=America/Denver:20260430T110000
DTSTAMP:20260423T160918
CREATED:20260302T215223Z
LAST-MODIFIED:20260302T215223Z
UID:10007971-1777536000-1777546800@driveshops.com
SUMMARY:Developing Shop Playbooks Day 5 of 5
DESCRIPTION:
URL:https://driveshops.com/events/developing-shop-playbooks-day-5-of-5-7/
LOCATION:Online
CATEGORIES:Developing Shop Playbooks,Workshop
ATTACH;FMTTYPE=image/png:https://driveshops.com/wp-content/uploads/2019/09/screen-shot-2019-09-04-at-11.16.56-am.png
END:VEVENT
BEGIN:VEVENT
DTSTART;TZID=America/Los_Angeles:20260430T080000
DTEND;TZID=America/Los_Angeles:20260430T110000
DTSTAMP:20260423T160918
CREATED:20260227T194848Z
LAST-MODIFIED:20260227T194848Z
UID:10007937-1777536000-1777546800@driveshops.com
SUMMARY:Managing an Effective Bookkeeping Area Day 6 of 6
DESCRIPTION:
URL:https://driveshops.com/events/managing-an-effective-bookkeeping-area-day-6-of-6-5/
LOCATION:Online
CATEGORIES:Managing an Effective Bookkeeping Area,Workshop
END:VEVENT
BEGIN:VEVENT
DTSTART;TZID=America/Los_Angeles:20260430T080000
DTEND;TZID=America/Los_Angeles:20260430T110000
DTSTAMP:20260423T160918
CREATED:20260227T144056Z
LAST-MODIFIED:20260227T144056Z
UID:10007798-1777536000-1777546800@driveshops.com
SUMMARY:Master and Control The Front of Your Shop Day 5 of 5
DESCRIPTION:
URL:https://driveshops.com/events/master-and-control-the-front-of-your-shop-day-5-of-5/
LOCATION:Online
CATEGORIES:Master and Control the Front of Your Shop,Workshop
END:VEVENT
BEGIN:VEVENT
DTSTART;TZID=America/Los_Angeles:20260429T080000
DTEND;TZID=America/Los_Angeles:20260429T170000
DTSTAMP:20260423T160918
CREATED:20260309T214835Z
LAST-MODIFIED:20260309T214835Z
UID:10008008-1777449600-1777482000@driveshops.com
SUMMARY:Leadership in Action Day 2 of 3
DESCRIPTION:
URL:https://driveshops.com/events/leadership-in-action-day-2-of-3/
CATEGORIES:Leadership
END:VEVENT
BEGIN:VEVENT
DTSTART;TZID=America/Denver:20260429T080000
DTEND;TZID=America/Denver:20260429T110000
DTSTAMP:20260423T160918
CREATED:20260302T215208Z
LAST-MODIFIED:20260302T215208Z
UID:10007970-1777449600-1777460400@driveshops.com
SUMMARY:Developing Shop Playbooks Day 4 of 5
DESCRIPTION:
URL:https://driveshops.com/events/developing-shop-playbooks-day-4-of-5-7/
LOCATION:Online
CATEGORIES:Developing Shop Playbooks,Workshop
ATTACH;FMTTYPE=image/png:https://driveshops.com/wp-content/uploads/2019/09/screen-shot-2019-09-04-at-11.16.56-am.png
END:VEVENT
BEGIN:VEVENT
DTSTART;TZID=America/Los_Angeles:20260429T080000
DTEND;TZID=America/Los_Angeles:20260429T110000
DTSTAMP:20260423T160918
CREATED:20260227T194816Z
LAST-MODIFIED:20260227T194816Z
UID:10007936-1777449600-1777460400@driveshops.com
SUMMARY:Managing an Effective Bookkeeping Area Day 5 of 6
DESCRIPTION:
URL:https://driveshops.com/events/managing-an-effective-bookkeeping-area-day-5-of-6-5/
CATEGORIES:Managing an Effective Bookkeeping Area,Workshop
END:VEVENT
END:VCALENDAR