BEGIN:VCALENDAR
VERSION:2.0
PRODID:-//DRIVE - ECPv6.15.18//NONSGML v1.0//EN
CALSCALE:GREGORIAN
METHOD:PUBLISH
X-ORIGINAL-URL:https://driveshops.com
X-WR-CALDESC:Events for DRIVE
REFRESH-INTERVAL;VALUE=DURATION:PT1H
X-Robots-Tag:noindex
X-PUBLISHED-TTL:PT1H
BEGIN:VTIMEZONE
TZID:America/Denver
BEGIN:DAYLIGHT
TZOFFSETFROM:-0700
TZOFFSETTO:-0600
TZNAME:MDT
DTSTART:20230312T090000
END:DAYLIGHT
BEGIN:STANDARD
TZOFFSETFROM:-0600
TZOFFSETTO:-0700
TZNAME:MST
DTSTART:20231105T080000
END:STANDARD
BEGIN:DAYLIGHT
TZOFFSETFROM:-0700
TZOFFSETTO:-0600
TZNAME:MDT
DTSTART:20240310T090000
END:DAYLIGHT
BEGIN:STANDARD
TZOFFSETFROM:-0600
TZOFFSETTO:-0700
TZNAME:MST
DTSTART:20241103T080000
END:STANDARD
BEGIN:DAYLIGHT
TZOFFSETFROM:-0700
TZOFFSETTO:-0600
TZNAME:MDT
DTSTART:20250309T090000
END:DAYLIGHT
BEGIN:STANDARD
TZOFFSETFROM:-0600
TZOFFSETTO:-0700
TZNAME:MST
DTSTART:20251102T080000
END:STANDARD
BEGIN:DAYLIGHT
TZOFFSETFROM:-0700
TZOFFSETTO:-0600
TZNAME:MDT
DTSTART:20260308T090000
END:DAYLIGHT
BEGIN:STANDARD
TZOFFSETFROM:-0600
TZOFFSETTO:-0700
TZNAME:MST
DTSTART:20261101T080000
END:STANDARD
END:VTIMEZONE
BEGIN:VTIMEZONE
TZID:America/Los_Angeles
BEGIN:DAYLIGHT
TZOFFSETFROM:-0800
TZOFFSETTO:-0700
TZNAME:PDT
DTSTART:20230312T100000
END:DAYLIGHT
BEGIN:STANDARD
TZOFFSETFROM:-0700
TZOFFSETTO:-0800
TZNAME:PST
DTSTART:20231105T090000
END:STANDARD
BEGIN:DAYLIGHT
TZOFFSETFROM:-0800
TZOFFSETTO:-0700
TZNAME:PDT
DTSTART:20240310T100000
END:DAYLIGHT
BEGIN:STANDARD
TZOFFSETFROM:-0700
TZOFFSETTO:-0800
TZNAME:PST
DTSTART:20241103T090000
END:STANDARD
BEGIN:DAYLIGHT
TZOFFSETFROM:-0800
TZOFFSETTO:-0700
TZNAME:PDT
DTSTART:20250309T100000
END:DAYLIGHT
BEGIN:STANDARD
TZOFFSETFROM:-0700
TZOFFSETTO:-0800
TZNAME:PST
DTSTART:20251102T090000
END:STANDARD
BEGIN:DAYLIGHT
TZOFFSETFROM:-0800
TZOFFSETTO:-0700
TZNAME:PDT
DTSTART:20260308T100000
END:DAYLIGHT
BEGIN:STANDARD
TZOFFSETFROM:-0700
TZOFFSETTO:-0800
TZNAME:PST
DTSTART:20261101T090000
END:STANDARD
END:VTIMEZONE
BEGIN:VTIMEZONE
TZID:UTC
BEGIN:STANDARD
TZOFFSETFROM:+0000
TZOFFSETTO:+0000
TZNAME:UTC
DTSTART:20230101T000000
END:STANDARD
END:VTIMEZONE
BEGIN:VEVENT
DTSTART;TZID=America/Denver:20241206T080000
DTEND;TZID=America/Denver:20241206T110000
DTSTAMP:20260425T092416
CREATED:20240405T144657Z
LAST-MODIFIED:20240405T144657Z
UID:10007046-1733472000-1733482800@driveshops.com
SUMMARY:Managing Shop Finances Day 3
DESCRIPTION:
URL:https://driveshops.com/events/managing-shop-finances-day-3/
LOCATION:Online
CATEGORIES:Mastering Shop Finances,Workshop
END:VEVENT
BEGIN:VEVENT
DTSTART;TZID=America/Los_Angeles:20241206T080000
DTEND;TZID=America/Los_Angeles:20241206T110000
DTSTAMP:20260425T092416
CREATED:20240425T162132Z
LAST-MODIFIED:20240425T162132Z
UID:10007089-1733472000-1733482800@driveshops.com
SUMMARY:Essentials of Shop Management Day 3 of 6
DESCRIPTION:
URL:https://driveshops.com/events/essentials-of-shop-management-day-3-of-6-4/
LOCATION:Online
CATEGORIES:Essentials of Shop Management,Workshop
ATTACH;FMTTYPE=image/png:https://driveshops.com/wp-content/uploads/2019/04/screen-shot-2019-05-21-at-10.17.01-am-e1558471790866.png
END:VEVENT
BEGIN:VEVENT
DTSTART;TZID=America/Los_Angeles:20241206T080000
DTEND;TZID=America/Los_Angeles:20241206T110000
DTSTAMP:20260425T092416
CREATED:20240425T194958Z
LAST-MODIFIED:20240425T194958Z
UID:10007198-1733472000-1733482800@driveshops.com
SUMMARY:Controlling The Front Day 3 of 5
DESCRIPTION:
URL:https://driveshops.com/events/controlling-the-front-day-3-of-5-3/
LOCATION:Online
CATEGORIES:Controlling The Front,Workshop
ATTACH;FMTTYPE=image/png:https://driveshops.com/wp-content/uploads/2019/04/screen-shot-2019-05-21-at-10.21.47-am-e1558471774230.png
END:VEVENT
BEGIN:VEVENT
DTSTART;TZID=America/Denver:20241209T080000
DTEND;TZID=America/Denver:20241209T110000
DTSTAMP:20260425T092416
CREATED:20240405T144712Z
LAST-MODIFIED:20240405T144712Z
UID:10007047-1733731200-1733742000@driveshops.com
SUMMARY:Managing Shop Finances Day 4
DESCRIPTION:
URL:https://driveshops.com/events/managing-shop-finances-day-4/
LOCATION:Online
CATEGORIES:Mastering Shop Finances,Workshop
END:VEVENT
BEGIN:VEVENT
DTSTART;TZID=America/Los_Angeles:20241209T080000
DTEND;TZID=America/Los_Angeles:20241209T110000
DTSTAMP:20260425T092416
CREATED:20240425T162145Z
LAST-MODIFIED:20240425T162145Z
UID:10007090-1733731200-1733742000@driveshops.com
SUMMARY:Essentials of Shop Management Day 4 of 6
DESCRIPTION:
URL:https://driveshops.com/events/essentials-of-shop-management-day-4-of-6-4/
LOCATION:Online
CATEGORIES:Essentials of Shop Management,Workshop
ATTACH;FMTTYPE=image/png:https://driveshops.com/wp-content/uploads/2019/04/screen-shot-2019-05-21-at-10.17.01-am-e1558471790866.png
END:VEVENT
BEGIN:VEVENT
DTSTART;TZID=America/Los_Angeles:20241209T080000
DTEND;TZID=America/Los_Angeles:20241209T110000
DTSTAMP:20260425T092416
CREATED:20240425T195015Z
LAST-MODIFIED:20240425T195015Z
UID:10007199-1733731200-1733742000@driveshops.com
SUMMARY:Controlling The Front Day 4 of 5
DESCRIPTION:
URL:https://driveshops.com/events/controlling-the-front-day-4-of-5-3/
LOCATION:Online
CATEGORIES:Controlling The Front,Workshop
ATTACH;FMTTYPE=image/png:https://driveshops.com/wp-content/uploads/2019/04/screen-shot-2019-05-21-at-10.21.47-am-e1558471774230.png
END:VEVENT
BEGIN:VEVENT
DTSTART;TZID=UTC:20241210T080000
DTEND;TZID=UTC:20241210T110000
DTSTAMP:20260425T092416
CREATED:20240425T180147Z
LAST-MODIFIED:20240425T180147Z
UID:10007142-1733817600-1733828400@driveshops.com
SUMMARY:Marketing Design Day 3 of 3
DESCRIPTION:
URL:https://driveshops.com/events/marketing-design-day-3-of-3/
CATEGORIES:Marketing Design
END:VEVENT
BEGIN:VEVENT
DTSTART;TZID=America/Los_Angeles:20241210T080000
DTEND;TZID=America/Los_Angeles:20241210T110000
DTSTAMP:20260425T092416
CREATED:20240425T200300Z
LAST-MODIFIED:20240425T200300Z
UID:10007211-1733817600-1733828400@driveshops.com
SUMMARY:How to Increase Your Profits Day 3 of 4
DESCRIPTION:
URL:https://driveshops.com/events/how-to-increase-your-profits-day-3-of-4-3/
LOCATION:Online
CATEGORIES:How To Increase Your Profits,Workshop
ATTACH;FMTTYPE=image/png:https://driveshops.com/wp-content/uploads/2019/04/screen-shot-2019-05-21-at-10.25.56-am-e1558471321731.png
END:VEVENT
BEGIN:VEVENT
DTSTART;TZID=UTC:20241210T080000
DTEND;TZID=UTC:20241210T110000
DTSTAMP:20260425T092417
CREATED:20240425T205435Z
LAST-MODIFIED:20240425T205435Z
UID:10007229-1733817600-1733828400@driveshops.com
SUMMARY:Reputation Management Day 3 of 3
DESCRIPTION:
URL:https://driveshops.com/events/reputation-management-day-3-of-3-2/
LOCATION:Online
CATEGORIES:Public Relations,Workshop
ATTACH;FMTTYPE=image/png:https://driveshops.com/wp-content/uploads/2019/04/prw-e1564077485189.png
END:VEVENT
BEGIN:VEVENT
DTSTART;TZID=America/Denver:20241211T080000
DTEND;TZID=America/Denver:20241211T110000
DTSTAMP:20260425T092417
CREATED:20240405T144729Z
LAST-MODIFIED:20240405T144729Z
UID:10007048-1733904000-1733914800@driveshops.com
SUMMARY:Managing Shop Finances Day 5
DESCRIPTION:
URL:https://driveshops.com/events/managing-shop-finances-day-5/
LOCATION:Online
CATEGORIES:Mastering Shop Finances,Workshop
END:VEVENT
BEGIN:VEVENT
DTSTART;TZID=America/Los_Angeles:20241211T080000
DTEND;TZID=America/Los_Angeles:20241211T110000
DTSTAMP:20260425T092417
CREATED:20240425T162155Z
LAST-MODIFIED:20240425T162155Z
UID:10007091-1733904000-1733914800@driveshops.com
SUMMARY:Essentials of Shop Management Day 5 of 6
DESCRIPTION:
URL:https://driveshops.com/events/essentials-of-shop-management-day-5-of-6-4/
CATEGORIES:Essentials of Shop Management,Workshop
ATTACH;FMTTYPE=image/png:https://driveshops.com/wp-content/uploads/2019/04/screen-shot-2019-05-21-at-10.17.01-am-e1558471790866.png
END:VEVENT
BEGIN:VEVENT
DTSTART;TZID=America/Los_Angeles:20241211T080000
DTEND;TZID=America/Los_Angeles:20241211T110000
DTSTAMP:20260425T092417
CREATED:20240425T195025Z
LAST-MODIFIED:20240425T195025Z
UID:10007200-1733904000-1733914800@driveshops.com
SUMMARY:Controlling The Front Day 5 of 5
DESCRIPTION:
URL:https://driveshops.com/events/controlling-the-front-day-5-of-5-3/
LOCATION:Online
CATEGORIES:Controlling The Front,Workshop
ATTACH;FMTTYPE=image/png:https://driveshops.com/wp-content/uploads/2019/04/screen-shot-2019-05-21-at-10.21.47-am-e1558471774230.png
END:VEVENT
BEGIN:VEVENT
DTSTART;TZID=America/Los_Angeles:20241212T080000
DTEND;TZID=America/Los_Angeles:20241212T110000
DTSTAMP:20260425T092417
CREATED:20240425T200307Z
LAST-MODIFIED:20240425T200307Z
UID:10007212-1733990400-1734001200@driveshops.com
SUMMARY:How to Increase Your Profits Day 4 of 4
DESCRIPTION:
URL:https://driveshops.com/events/how-to-increase-your-profits-day-4-of-4-3/
LOCATION:Online
CATEGORIES:How To Increase Your Profits,Workshop
ATTACH;FMTTYPE=image/png:https://driveshops.com/wp-content/uploads/2019/04/screen-shot-2019-05-21-at-10.25.56-am-e1558471321731.png
END:VEVENT
BEGIN:VEVENT
DTSTART;TZID=America/Denver:20241213T080000
DTEND;TZID=America/Denver:20241213T110000
DTSTAMP:20260425T092417
CREATED:20240405T144745Z
LAST-MODIFIED:20240405T144745Z
UID:10007049-1734076800-1734087600@driveshops.com
SUMMARY:Managing Shop Finances Day 6
DESCRIPTION:
URL:https://driveshops.com/events/managing-shop-finances-day-6-2/
LOCATION:Online
CATEGORIES:Mastering Shop Finances,Workshop
END:VEVENT
BEGIN:VEVENT
DTSTART;TZID=America/Los_Angeles:20241213T080000
DTEND;TZID=America/Los_Angeles:20241213T110000
DTSTAMP:20260425T092417
CREATED:20240425T162216Z
LAST-MODIFIED:20240425T162216Z
UID:10007092-1734076800-1734087600@driveshops.com
SUMMARY:Essentials of Shop Management Day 6 of 6
DESCRIPTION:
URL:https://driveshops.com/events/essentials-of-shop-management-day-6-of-6-3/
LOCATION:Online
CATEGORIES:Essentials of Shop Management,Workshop
ATTACH;FMTTYPE=image/png:https://driveshops.com/wp-content/uploads/2019/04/screen-shot-2019-05-21-at-10.17.01-am-e1558471790866.png
END:VEVENT
BEGIN:VEVENT
DTSTART;TZID=America/Los_Angeles:20250106T080000
DTEND;TZID=America/Los_Angeles:20250106T110000
DTSTAMP:20260425T092417
CREATED:20241115T161222Z
LAST-MODIFIED:20241115T161222Z
UID:10007256-1736150400-1736161200@driveshops.com
SUMMARY:Essentials of Shop Management  Day 1 of 6
DESCRIPTION:
URL:https://driveshops.com/events/essentials-of-shop-management-day-1-of-6-5/
LOCATION:Online
CATEGORIES:Essentials of Shop Management,Workshop
ATTACH;FMTTYPE=image/png:https://driveshops.com/wp-content/uploads/2019/04/screen-shot-2019-05-21-at-10.17.01-am-e1558471790866.png
END:VEVENT
BEGIN:VEVENT
DTSTART;TZID=America/Los_Angeles:20250106T080000
DTEND;TZID=America/Los_Angeles:20250106T110000
DTSTAMP:20260425T092417
CREATED:20241115T162228Z
LAST-MODIFIED:20241115T162228Z
UID:10007263-1736150400-1736161200@driveshops.com
SUMMARY:Planning For Success Day 1 of 5
DESCRIPTION:
URL:https://driveshops.com/events/planning-for-success-day-1-of-5-3/
LOCATION:Online
CATEGORIES:Planning for Success,Workshop
ATTACH;FMTTYPE=image/png:https://driveshops.com/wp-content/uploads/2019/04/screen-shot-2019-05-21-at-10.44.40-am-e1558471214538.png
END:VEVENT
BEGIN:VEVENT
DTSTART;TZID=America/Denver:20250106T080000
DTEND;TZID=America/Denver:20250106T110000
DTSTAMP:20260425T092417
CREATED:20241115T162507Z
LAST-MODIFIED:20241115T162507Z
UID:10007264-1736150400-1736161200@driveshops.com
SUMMARY:Managing Change Day 1 of 5
DESCRIPTION:Understand the basic principles of successful change.\nUnderstand how to make changes that result in a more profitable and successful business.\nPractice the procedure of making changes until it is mastered.
URL:https://driveshops.com/events/managing-change-day-1-of-5-2/
LOCATION:Online
CATEGORIES:Managing Change,Workshop
ATTACH;FMTTYPE=image/png:https://driveshops.com/wp-content/uploads/2019/04/screen-shot-2019-05-21-at-10.47.53-am-e1558471201812.png
END:VEVENT
BEGIN:VEVENT
DTSTART;TZID=America/Los_Angeles:20250106T080000
DTEND;TZID=America/Los_Angeles:20250106T110000
DTSTAMP:20260425T092417
CREATED:20241115T163514Z
LAST-MODIFIED:20241115T163514Z
UID:10007269-1736150400-1736161200@driveshops.com
SUMMARY:Building Your Dream Team Day 1 of 5
DESCRIPTION:
URL:https://driveshops.com/events/building-your-dream-team-day-1-of-5/
LOCATION:Online
CATEGORIES:Building Your Dream Team
ATTACH;FMTTYPE=image/png:https://driveshops.com/wp-content/uploads/2019/03/screen-shot-2019-05-20-at-12.10.22-pm-e1558471852915.png
END:VEVENT
BEGIN:VEVENT
DTSTART;TZID=America/Los_Angeles:20250107T080000
DTEND;TZID=America/Los_Angeles:20250107T110000
DTSTAMP:20260425T092417
CREATED:20241115T163916Z
LAST-MODIFIED:20241115T163916Z
UID:10007274-1736236800-1736247600@driveshops.com
SUMMARY:Marketing Your Shop Day 1 of 4
DESCRIPTION:
URL:https://driveshops.com/events/marketing-your-shop-day-1-of-4/
LOCATION:Online
CATEGORIES:Marketing Your Shop
END:VEVENT
BEGIN:VEVENT
DTSTART;TZID=America/Los_Angeles:20250107T080000
DTEND;TZID=America/Los_Angeles:20250107T110000
DTSTAMP:20260425T092417
CREATED:20241115T170609Z
LAST-MODIFIED:20241115T170609Z
UID:10007278-1736236800-1736247600@driveshops.com
SUMMARY:How to Master Training Workshop Day 1 of 3
DESCRIPTION:
URL:https://driveshops.com/events/how-to-master-training-workshop-day-1-of-3-2/
LOCATION:Online
CATEGORIES:How to Master Training,Workshop
ORGANIZER;CN="Tony Wisler":MAILTO:scheduling@driveshops.com
END:VEVENT
BEGIN:VEVENT
DTSTART;TZID=America/Los_Angeles:20250107T080000
DTEND;TZID=America/Los_Angeles:20250107T110000
DTSTAMP:20260425T092417
CREATED:20241115T170838Z
LAST-MODIFIED:20241115T170926Z
UID:10007281-1736236800-1736247600@driveshops.com
SUMMARY:Keys To Understanding Your Financial Reports Day 1 of 3
DESCRIPTION:
URL:https://driveshops.com/events/key-to-understanding-your-financial-reports-day-1-of-3-2/
LOCATION:DRIVE HQ\, 324 S Myrtle Ave\, Monrovia\, CA\, 91016\, United States
CATEGORIES:The Key to Understanding Your Financial Reports,Workshop
ATTACH;FMTTYPE=image/png:https://driveshops.com/wp-content/uploads/2019/04/screen-shot-2019-05-21-at-10.04.39-am-e1558471807663.png
END:VEVENT
BEGIN:VEVENT
DTSTART;TZID=America/Los_Angeles:20250108T080000
DTEND;TZID=America/Los_Angeles:20250108T110000
DTSTAMP:20260425T092417
CREATED:20241115T161155Z
LAST-MODIFIED:20241115T161155Z
UID:10007255-1736323200-1736334000@driveshops.com
SUMMARY:Essentials of Shop Management Day 2 of 6
DESCRIPTION:
URL:https://driveshops.com/events/essentials-of-shop-management-day-2-of-6-5/
LOCATION:Online
CATEGORIES:Essentials of Shop Management,Workshop
ATTACH;FMTTYPE=image/png:https://driveshops.com/wp-content/uploads/2019/04/screen-shot-2019-05-21-at-10.17.01-am-e1558471790866.png
END:VEVENT
BEGIN:VEVENT
DTSTART;TZID=America/Los_Angeles:20250108T080000
DTEND;TZID=America/Los_Angeles:20250108T110000
DTSTAMP:20260425T092417
CREATED:20241115T161905Z
LAST-MODIFIED:20241115T161905Z
UID:10007259-1736323200-1736334000@driveshops.com
SUMMARY:Planning For Success Day 2 of 5
DESCRIPTION:
URL:https://driveshops.com/events/planning-for-success-day-2-of-5-3/
LOCATION:Online
CATEGORIES:Planning for Success,Workshop
ATTACH;FMTTYPE=image/png:https://driveshops.com/wp-content/uploads/2019/04/screen-shot-2019-05-21-at-10.44.40-am-e1558471214538.png
END:VEVENT
BEGIN:VEVENT
DTSTART;TZID=America/Denver:20250108T080000
DTEND;TZID=America/Denver:20250108T110000
DTSTAMP:20260425T092417
CREATED:20241115T162518Z
LAST-MODIFIED:20241115T162518Z
UID:10007265-1736323200-1736334000@driveshops.com
SUMMARY:Managing Change Day 2 of 5
DESCRIPTION:Understand the basic principles of successful change.\nUnderstand how to make changes that result in a more profitable and successful business.\nPractice the procedure of making changes until it is mastered.
URL:https://driveshops.com/events/managing-change-day-2-of-5-2/
LOCATION:Online
CATEGORIES:Managing Change,Workshop
ATTACH;FMTTYPE=image/png:https://driveshops.com/wp-content/uploads/2019/04/screen-shot-2019-05-21-at-10.47.53-am-e1558471201812.png
END:VEVENT
BEGIN:VEVENT
DTSTART;TZID=America/Los_Angeles:20250108T080000
DTEND;TZID=America/Los_Angeles:20250108T110000
DTSTAMP:20260425T092417
CREATED:20241115T163523Z
LAST-MODIFIED:20241115T163523Z
UID:10007270-1736323200-1736334000@driveshops.com
SUMMARY:Building Your Dream Team Day 2 of 5
DESCRIPTION:
URL:https://driveshops.com/events/building-your-dream-team-day-2-of-5/
LOCATION:Online
CATEGORIES:Building Your Dream Team
ATTACH;FMTTYPE=image/png:https://driveshops.com/wp-content/uploads/2019/03/screen-shot-2019-05-20-at-12.10.22-pm-e1558471852915.png
END:VEVENT
BEGIN:VEVENT
DTSTART;TZID=America/Los_Angeles:20250109T080000
DTEND;TZID=America/Los_Angeles:20250109T110000
DTSTAMP:20260425T092417
CREATED:20241115T163929Z
LAST-MODIFIED:20241115T164123Z
UID:10007275-1736409600-1736420400@driveshops.com
SUMMARY:Marketing Your Shop Day 2 of 4
DESCRIPTION:
URL:https://driveshops.com/events/marketing-your-shop-day-2-of-5-3/
LOCATION:Online
CATEGORIES:Marketing Your Shop
END:VEVENT
BEGIN:VEVENT
DTSTART;TZID=America/Los_Angeles:20250109T080000
DTEND;TZID=America/Los_Angeles:20250109T110000
DTSTAMP:20260425T092417
CREATED:20241115T170632Z
LAST-MODIFIED:20241115T170632Z
UID:10007279-1736409600-1736420400@driveshops.com
SUMMARY:How to Master Training Workshop Day 2 of 3
DESCRIPTION:
URL:https://driveshops.com/events/how-to-master-training-workshop-day-2-of-3-2/
LOCATION:Online
CATEGORIES:How to Master Training,Workshop
ORGANIZER;CN="Tony Wisler":MAILTO:scheduling@driveshops.com
END:VEVENT
BEGIN:VEVENT
DTSTART;TZID=America/Los_Angeles:20250109T080000
DTEND;TZID=America/Los_Angeles:20250109T110000
DTSTAMP:20260425T092417
CREATED:20241115T170848Z
LAST-MODIFIED:20241115T170933Z
UID:10007282-1736409600-1736420400@driveshops.com
SUMMARY:Keys To Understanding Your Financial Reports Day 2 of 3
DESCRIPTION:
URL:https://driveshops.com/events/key-to-understanding-your-financial-reports-day-2-of-3-2/
LOCATION:DRIVE HQ\, 324 S Myrtle Ave\, Monrovia\, CA\, 91016\, United States
CATEGORIES:The Key to Understanding Your Financial Reports,Workshop
ATTACH;FMTTYPE=image/png:https://driveshops.com/wp-content/uploads/2019/04/screen-shot-2019-05-21-at-10.04.39-am-e1558471807663.png
END:VEVENT
BEGIN:VEVENT
DTSTART;TZID=America/Los_Angeles:20250110T080000
DTEND;TZID=America/Los_Angeles:20250110T110000
DTSTAMP:20260425T092417
CREATED:20241115T161138Z
LAST-MODIFIED:20241115T161138Z
UID:10007254-1736496000-1736506800@driveshops.com
SUMMARY:Essentials of Shop Management Day 3 of 6
DESCRIPTION:
URL:https://driveshops.com/events/essentials-of-shop-management-day-3-of-6-5/
LOCATION:Online
CATEGORIES:Essentials of Shop Management,Workshop
ATTACH;FMTTYPE=image/png:https://driveshops.com/wp-content/uploads/2019/04/screen-shot-2019-05-21-at-10.17.01-am-e1558471790866.png
END:VEVENT
END:VCALENDAR