BEGIN:VCALENDAR
VERSION:2.0
PRODID:-//DRIVE - ECPv6.15.18//NONSGML v1.0//EN
CALSCALE:GREGORIAN
METHOD:PUBLISH
X-WR-CALNAME:DRIVE
X-ORIGINAL-URL:https://driveshops.com
X-WR-CALDESC:Events for DRIVE
REFRESH-INTERVAL;VALUE=DURATION:PT1H
X-Robots-Tag:noindex
X-PUBLISHED-TTL:PT1H
BEGIN:VTIMEZONE
TZID:America/Denver
BEGIN:DAYLIGHT
TZOFFSETFROM:-0700
TZOFFSETTO:-0600
TZNAME:MDT
DTSTART:20240310T090000
END:DAYLIGHT
BEGIN:STANDARD
TZOFFSETFROM:-0600
TZOFFSETTO:-0700
TZNAME:MST
DTSTART:20241103T080000
END:STANDARD
BEGIN:DAYLIGHT
TZOFFSETFROM:-0700
TZOFFSETTO:-0600
TZNAME:MDT
DTSTART:20250309T090000
END:DAYLIGHT
BEGIN:STANDARD
TZOFFSETFROM:-0600
TZOFFSETTO:-0700
TZNAME:MST
DTSTART:20251102T080000
END:STANDARD
BEGIN:DAYLIGHT
TZOFFSETFROM:-0700
TZOFFSETTO:-0600
TZNAME:MDT
DTSTART:20260308T090000
END:DAYLIGHT
BEGIN:STANDARD
TZOFFSETFROM:-0600
TZOFFSETTO:-0700
TZNAME:MST
DTSTART:20261101T080000
END:STANDARD
END:VTIMEZONE
BEGIN:VTIMEZONE
TZID:America/Los_Angeles
BEGIN:DAYLIGHT
TZOFFSETFROM:-0800
TZOFFSETTO:-0700
TZNAME:PDT
DTSTART:20240310T100000
END:DAYLIGHT
BEGIN:STANDARD
TZOFFSETFROM:-0700
TZOFFSETTO:-0800
TZNAME:PST
DTSTART:20241103T090000
END:STANDARD
BEGIN:DAYLIGHT
TZOFFSETFROM:-0800
TZOFFSETTO:-0700
TZNAME:PDT
DTSTART:20250309T100000
END:DAYLIGHT
BEGIN:STANDARD
TZOFFSETFROM:-0700
TZOFFSETTO:-0800
TZNAME:PST
DTSTART:20251102T090000
END:STANDARD
BEGIN:DAYLIGHT
TZOFFSETFROM:-0800
TZOFFSETTO:-0700
TZNAME:PDT
DTSTART:20260308T100000
END:DAYLIGHT
BEGIN:STANDARD
TZOFFSETFROM:-0700
TZOFFSETTO:-0800
TZNAME:PST
DTSTART:20261101T090000
END:STANDARD
END:VTIMEZONE
BEGIN:VTIMEZONE
TZID:UTC
BEGIN:STANDARD
TZOFFSETFROM:+0000
TZOFFSETTO:+0000
TZNAME:UTC
DTSTART:20240101T000000
END:STANDARD
END:VTIMEZONE
BEGIN:VEVENT
DTSTART;TZID=America/Denver:20250110T080000
DTEND;TZID=America/Denver:20250110T110000
DTSTAMP:20260425T094200
CREATED:20241115T162533Z
LAST-MODIFIED:20241115T162533Z
UID:10007266-1736496000-1736506800@driveshops.com
SUMMARY:Managing Change Day 3 of 5
DESCRIPTION:Understand the basic principles of successful change.\nUnderstand how to make changes that result in a more profitable and successful business.\nPractice the procedure of making changes until it is mastered.
URL:https://driveshops.com/events/managing-change-day-3-of-5-2/
LOCATION:Online
CATEGORIES:Managing Change,Workshop
ATTACH;FMTTYPE=image/png:https://driveshops.com/wp-content/uploads/2019/04/screen-shot-2019-05-21-at-10.47.53-am-e1558471201812.png
END:VEVENT
BEGIN:VEVENT
DTSTART;TZID=America/Los_Angeles:20250110T080000
DTEND;TZID=America/Los_Angeles:20250110T110000
DTSTAMP:20260425T094200
CREATED:20241115T163535Z
LAST-MODIFIED:20241115T163535Z
UID:10007271-1736496000-1736506800@driveshops.com
SUMMARY:Building Your Dream Team Day 3 of 5
DESCRIPTION:
URL:https://driveshops.com/events/building-your-dream-team-day-3-of-5/
LOCATION:Online
CATEGORIES:Building Your Dream Team
ATTACH;FMTTYPE=image/png:https://driveshops.com/wp-content/uploads/2019/03/screen-shot-2019-05-20-at-12.10.22-pm-e1558471852915.png
END:VEVENT
BEGIN:VEVENT
DTSTART;TZID=America/Los_Angeles:20250113T080000
DTEND;TZID=America/Los_Angeles:20250113T110000
DTSTAMP:20260425T094200
CREATED:20241115T161118Z
LAST-MODIFIED:20241115T161118Z
UID:10007253-1736755200-1736766000@driveshops.com
SUMMARY:Essentials of Shop Management Day 4 of 6
DESCRIPTION:
URL:https://driveshops.com/events/essentials-of-shop-management-day-4-of-6-5/
LOCATION:Online
CATEGORIES:Essentials of Shop Management,Workshop
ATTACH;FMTTYPE=image/png:https://driveshops.com/wp-content/uploads/2019/04/screen-shot-2019-05-21-at-10.17.01-am-e1558471790866.png
END:VEVENT
BEGIN:VEVENT
DTSTART;TZID=America/Los_Angeles:20250113T080000
DTEND;TZID=America/Los_Angeles:20250113T110000
DTSTAMP:20260425T094200
CREATED:20241115T161924Z
LAST-MODIFIED:20241115T161924Z
UID:10007260-1736755200-1736766000@driveshops.com
SUMMARY:Planning For Success Day 4 of 5
DESCRIPTION:
URL:https://driveshops.com/events/planning-for-success-day-4-of-5-3/
LOCATION:Online
CATEGORIES:Planning for Success,Workshop
ATTACH;FMTTYPE=image/png:https://driveshops.com/wp-content/uploads/2019/04/screen-shot-2019-05-21-at-10.44.40-am-e1558471214538.png
END:VEVENT
BEGIN:VEVENT
DTSTART;TZID=America/Denver:20250113T080000
DTEND;TZID=America/Denver:20250113T110000
DTSTAMP:20260425T094200
CREATED:20241115T162555Z
LAST-MODIFIED:20241115T162555Z
UID:10007267-1736755200-1736766000@driveshops.com
SUMMARY:Managing Change Day 4 of 5
DESCRIPTION:Understand the basic principles of successful change.\nUnderstand how to make changes that result in a more profitable and successful business.\nPractice the procedure of making changes until it is mastered.
URL:https://driveshops.com/events/managing-change-day-4-of-5-2/
LOCATION:Online
CATEGORIES:Managing Change,Workshop
ATTACH;FMTTYPE=image/png:https://driveshops.com/wp-content/uploads/2019/04/screen-shot-2019-05-21-at-10.47.53-am-e1558471201812.png
END:VEVENT
BEGIN:VEVENT
DTSTART;TZID=America/Los_Angeles:20250113T080000
DTEND;TZID=America/Los_Angeles:20250113T110000
DTSTAMP:20260425T094200
CREATED:20241115T163545Z
LAST-MODIFIED:20241115T163545Z
UID:10007272-1736755200-1736766000@driveshops.com
SUMMARY:Building Your Dream Team Day 4 of 5
DESCRIPTION:
URL:https://driveshops.com/events/building-your-dream-team-day-4-of-5/
LOCATION:Online
CATEGORIES:Building Your Dream Team
ATTACH;FMTTYPE=image/png:https://driveshops.com/wp-content/uploads/2019/03/screen-shot-2019-05-20-at-12.10.22-pm-e1558471852915.png
END:VEVENT
BEGIN:VEVENT
DTSTART;TZID=America/Los_Angeles:20250114T080000
DTEND;TZID=America/Los_Angeles:20250114T110000
DTSTAMP:20260425T094200
CREATED:20241115T163947Z
LAST-MODIFIED:20241115T164130Z
UID:10007276-1736841600-1736852400@driveshops.com
SUMMARY:Marketing Your Shop Day 3 of 4
DESCRIPTION:
URL:https://driveshops.com/events/marketing-your-shop-day-3-of-5-3/
LOCATION:Online
CATEGORIES:Marketing Your Shop
END:VEVENT
BEGIN:VEVENT
DTSTART;TZID=America/Los_Angeles:20250114T080000
DTEND;TZID=America/Los_Angeles:20250114T110000
DTSTAMP:20260425T094200
CREATED:20241115T170654Z
LAST-MODIFIED:20241115T170654Z
UID:10007280-1736841600-1736852400@driveshops.com
SUMMARY:How to Master Training Workshop Day 3 of 3
DESCRIPTION:
URL:https://driveshops.com/events/how-to-master-training-workshop-day-3-of-3-2/
LOCATION:Online
CATEGORIES:How to Master Training,Workshop
ORGANIZER;CN="Tony Wisler":MAILTO:scheduling@driveshops.com
END:VEVENT
BEGIN:VEVENT
DTSTART;TZID=America/Los_Angeles:20250114T080000
DTEND;TZID=America/Los_Angeles:20250114T110000
DTSTAMP:20260425T094200
CREATED:20241115T170900Z
LAST-MODIFIED:20241115T170943Z
UID:10007283-1736841600-1736852400@driveshops.com
SUMMARY:Keys To Understanding Your Financial Reports Day 3 of 3
DESCRIPTION:
URL:https://driveshops.com/events/key-to-understanding-your-financial-reports-day-3-of-3-2/
LOCATION:DRIVE HQ\, 324 S Myrtle Ave\, Monrovia\, CA\, 91016\, United States
CATEGORIES:The Key to Understanding Your Financial Reports,Workshop
ATTACH;FMTTYPE=image/png:https://driveshops.com/wp-content/uploads/2019/04/screen-shot-2019-05-21-at-10.04.39-am-e1558471807663.png
END:VEVENT
BEGIN:VEVENT
DTSTART;TZID=America/Los_Angeles:20250115T080000
DTEND;TZID=America/Los_Angeles:20250115T110000
DTSTAMP:20260425T094200
CREATED:20241115T161102Z
LAST-MODIFIED:20241115T161102Z
UID:10007252-1736928000-1736938800@driveshops.com
SUMMARY:Essentials of Shop Management Day 5 of 6
DESCRIPTION:
URL:https://driveshops.com/events/essentials-of-shop-management-day-5-of-6-5/
CATEGORIES:Essentials of Shop Management,Workshop
ATTACH;FMTTYPE=image/png:https://driveshops.com/wp-content/uploads/2019/04/screen-shot-2019-05-21-at-10.17.01-am-e1558471790866.png
END:VEVENT
BEGIN:VEVENT
DTSTART;TZID=America/Los_Angeles:20250115T080000
DTEND;TZID=America/Los_Angeles:20250115T110000
DTSTAMP:20260425T094200
CREATED:20241115T161940Z
LAST-MODIFIED:20241115T161940Z
UID:10007261-1736928000-1736938800@driveshops.com
SUMMARY:Planning For Success Day 5 of 5
DESCRIPTION:
URL:https://driveshops.com/events/planning-for-success-day-5-of-5-3/
LOCATION:Online
CATEGORIES:Planning for Success,Workshop
ATTACH;FMTTYPE=image/png:https://driveshops.com/wp-content/uploads/2019/04/screen-shot-2019-05-21-at-10.44.40-am-e1558471214538.png
END:VEVENT
BEGIN:VEVENT
DTSTART;TZID=America/Denver:20250115T080000
DTEND;TZID=America/Denver:20250115T110000
DTSTAMP:20260425T094200
CREATED:20241115T162643Z
LAST-MODIFIED:20241115T162643Z
UID:10007268-1736928000-1736938800@driveshops.com
SUMMARY:Managing Change Day 5 of 5
DESCRIPTION:Understand the basic principles of successful change.\nUnderstand how to make changes that result in a more profitable and successful business.\nPractice the procedure of making changes until it is mastered.
URL:https://driveshops.com/events/managing-change-day-5-of-5-2/
LOCATION:Online
CATEGORIES:Managing Change,Workshop
ATTACH;FMTTYPE=image/png:https://driveshops.com/wp-content/uploads/2019/04/screen-shot-2019-05-21-at-10.47.53-am-e1558471201812.png
END:VEVENT
BEGIN:VEVENT
DTSTART;TZID=America/Los_Angeles:20250115T080000
DTEND;TZID=America/Los_Angeles:20250115T110000
DTSTAMP:20260425T094200
CREATED:20241115T163605Z
LAST-MODIFIED:20241115T163605Z
UID:10007273-1736928000-1736938800@driveshops.com
SUMMARY:Building Your Dream Team Day 5 of 5
DESCRIPTION:
URL:https://driveshops.com/events/building-your-dream-team-day-5-of-5/
LOCATION:Online
CATEGORIES:Building Your Dream Team
ATTACH;FMTTYPE=image/png:https://driveshops.com/wp-content/uploads/2019/03/screen-shot-2019-05-20-at-12.10.22-pm-e1558471852915.png
END:VEVENT
BEGIN:VEVENT
DTSTART;TZID=America/Los_Angeles:20250116T080000
DTEND;TZID=America/Los_Angeles:20250116T110000
DTSTAMP:20260425T094200
CREATED:20241115T164012Z
LAST-MODIFIED:20241115T164236Z
UID:10007277-1737014400-1737025200@driveshops.com
SUMMARY:Marketing Your Shop Day 4 of 4
DESCRIPTION:
URL:https://driveshops.com/events/marketing-your-shop-day-4-of-5-3/
LOCATION:Online
CATEGORIES:Marketing Your Shop
END:VEVENT
BEGIN:VEVENT
DTSTART;TZID=America/Los_Angeles:20250117T080000
DTEND;TZID=America/Los_Angeles:20250117T110000
DTSTAMP:20260425T094200
CREATED:20241115T161040Z
LAST-MODIFIED:20241115T161040Z
UID:10007251-1737100800-1737111600@driveshops.com
SUMMARY:Essentials of Shop Management Day 6 of 6
DESCRIPTION:
URL:https://driveshops.com/events/essentials-of-shop-management-day-6-of-6-4/
LOCATION:Online
CATEGORIES:Essentials of Shop Management,Workshop
ATTACH;FMTTYPE=image/png:https://driveshops.com/wp-content/uploads/2019/04/screen-shot-2019-05-21-at-10.17.01-am-e1558471790866.png
END:VEVENT
BEGIN:VEVENT
DTSTART;TZID=America/Los_Angeles:20250121T080000
DTEND;TZID=America/Los_Angeles:20250121T110000
DTSTAMP:20260425T094200
CREATED:20241115T172942Z
LAST-MODIFIED:20241115T172942Z
UID:10007284-1737446400-1737457200@driveshops.com
SUMMARY:Professional Service Advisor Sales Day 1 of 6
DESCRIPTION:
URL:https://driveshops.com/events/professional-service-advisor-sales-day-1-of-6-4/
LOCATION:Online
CATEGORIES:Professional Service Advisor Sales,Workshop
ATTACH;FMTTYPE=image/png:https://driveshops.com/wp-content/uploads/2019/04/screen-shot-2019-05-21-at-10.14.39-am-e1558470540769.png
END:VEVENT
BEGIN:VEVENT
DTSTART;TZID=America/Los_Angeles:20250122T080000
DTEND;TZID=America/Los_Angeles:20250122T110000
DTSTAMP:20260425T094200
CREATED:20241115T172952Z
LAST-MODIFIED:20241115T172952Z
UID:10007285-1737532800-1737543600@driveshops.com
SUMMARY:Professional Service Advisor Sales Day 2 of 6
DESCRIPTION:
URL:https://driveshops.com/events/professional-service-advisor-sales-day-2-of-6-4/
LOCATION:Online
CATEGORIES:Professional Service Advisor Sales,Workshop
ATTACH;FMTTYPE=image/png:https://driveshops.com/wp-content/uploads/2019/04/screen-shot-2019-05-21-at-10.14.39-am-e1558470540769.png
END:VEVENT
BEGIN:VEVENT
DTSTART;TZID=America/Los_Angeles:20250124T080000
DTEND;TZID=America/Los_Angeles:20250124T110000
DTSTAMP:20260425T094201
CREATED:20241115T173003Z
LAST-MODIFIED:20241115T173003Z
UID:10007286-1737705600-1737716400@driveshops.com
SUMMARY:Professional Service Advisor Sales Day 3 of 6
DESCRIPTION:
URL:https://driveshops.com/events/professional-service-advisor-sales-day-3-of-6-4/
LOCATION:Online
CATEGORIES:Professional Service Advisor Sales,Workshop
ATTACH;FMTTYPE=image/png:https://driveshops.com/wp-content/uploads/2019/04/screen-shot-2019-05-21-at-10.14.39-am-e1558470540769.png
END:VEVENT
BEGIN:VEVENT
DTSTART;TZID=UTC:20250127T080000
DTEND;TZID=UTC:20250127T110000
DTSTAMP:20260425T094201
CREATED:20241115T173017Z
LAST-MODIFIED:20241115T173017Z
UID:10007287-1737964800-1737975600@driveshops.com
SUMMARY:Professional Service Advisor Sales Day 4 of 6
DESCRIPTION:
URL:https://driveshops.com/events/professional-service-advisor-sales-day-4-of-6-4/
LOCATION:Online
CATEGORIES:Professional Service Advisor Sales,Workshop
ATTACH;FMTTYPE=image/png:https://driveshops.com/wp-content/uploads/2019/04/screen-shot-2019-05-21-at-10.14.39-am-e1558470540769.png
END:VEVENT
BEGIN:VEVENT
DTSTART;TZID=UTC:20250129T080000
DTEND;TZID=UTC:20250129T110000
DTSTAMP:20260425T094201
CREATED:20241115T173036Z
LAST-MODIFIED:20241115T173036Z
UID:10007288-1738137600-1738148400@driveshops.com
SUMMARY:Professional Service Advisor Sales Day 5 of 6
DESCRIPTION:
URL:https://driveshops.com/events/professional-service-advisor-sales-day-5-of-6-4/
LOCATION:Online
CATEGORIES:Professional Service Advisor Sales,Workshop
ATTACH;FMTTYPE=image/png:https://driveshops.com/wp-content/uploads/2019/04/screen-shot-2019-05-21-at-10.14.39-am-e1558470540769.png
END:VEVENT
BEGIN:VEVENT
DTSTART;TZID=UTC:20250131T080000
DTEND;TZID=UTC:20250131T110000
DTSTAMP:20260425T094201
CREATED:20241115T173101Z
LAST-MODIFIED:20241115T173101Z
UID:10007289-1738310400-1738321200@driveshops.com
SUMMARY:Professional Service Advisor Sales Day 6 of 6
DESCRIPTION:
URL:https://driveshops.com/events/professional-service-advisor-sales-day-6-of-6-4/
LOCATION:Online
CATEGORIES:Professional Service Advisor Sales,Workshop
ATTACH;FMTTYPE=image/png:https://driveshops.com/wp-content/uploads/2019/04/screen-shot-2019-05-21-at-10.14.39-am-e1558470540769.png
END:VEVENT
BEGIN:VEVENT
DTSTART;TZID=America/Los_Angeles:20250203T080000
DTEND;TZID=America/Los_Angeles:20250203T110000
DTSTAMP:20260425T094201
CREATED:20241115T174131Z
LAST-MODIFIED:20241115T174131Z
UID:10007290-1738569600-1738580400@driveshops.com
SUMMARY:Getting Your Point Across Day 1 of 6
DESCRIPTION:
URL:https://driveshops.com/events/getting-your-point-across-day-1-of-6-2/
LOCATION:Online
CATEGORIES:Getting Your Point Across,Workshop
ORGANIZER;CN="Tony Wisler":MAILTO:scheduling@driveshops.com
END:VEVENT
BEGIN:VEVENT
DTSTART;TZID=America/Los_Angeles:20250203T080000
DTEND;TZID=America/Los_Angeles:20250203T110000
DTSTAMP:20260425T094201
CREATED:20241115T174452Z
LAST-MODIFIED:20241115T174452Z
UID:10007296-1738569600-1738580400@driveshops.com
SUMMARY:Succession & Exit Planning Day 1 of 6
DESCRIPTION:
URL:https://driveshops.com/events/succession-exit-planning-day-1-of-6-2/
LOCATION:Online
CATEGORIES:Succession & Exit Planning,Workshop
ATTACH;FMTTYPE=image/png:https://driveshops.com/wp-content/uploads/2019/04/screen-shot-2019-05-21-at-10.36.20-am-e1558471267564.png
END:VEVENT
BEGIN:VEVENT
DTSTART;TZID=America/Los_Angeles:20250204T080000
DTEND;TZID=America/Los_Angeles:20250204T110000
DTSTAMP:20260425T094201
CREATED:20241115T180627Z
LAST-MODIFIED:20241115T180653Z
UID:10007312-1738656000-1738666800@driveshops.com
SUMMARY:How to Increase Your Profits Day 1 of 4
DESCRIPTION:
URL:https://driveshops.com/events/how-to-increase-your-profits-day-1-of-4-4/
LOCATION:Online
CATEGORIES:How To Increase Your Profits,Workshop
ATTACH;FMTTYPE=image/png:https://driveshops.com/wp-content/uploads/2019/04/screen-shot-2019-05-21-at-10.25.56-am-e1558471321731.png
END:VEVENT
BEGIN:VEVENT
DTSTART;TZID=America/Los_Angeles:20250204T080000
DTEND;TZID=America/Los_Angeles:20250204T110000
DTSTAMP:20260425T094201
CREATED:20241115T181247Z
LAST-MODIFIED:20241115T181510Z
UID:10007316-1738656000-1738666800@driveshops.com
SUMMARY:Mastering Social Media Day 1 of 3
DESCRIPTION:
URL:https://driveshops.com/events/mastering-social-media-1-3-5/
LOCATION:Online
CATEGORIES:Mastering Social Media
END:VEVENT
BEGIN:VEVENT
DTSTART;TZID=America/Los_Angeles:20250205T080000
DTEND;TZID=America/Los_Angeles:20250205T110000
DTSTAMP:20260425T094201
CREATED:20241115T174146Z
LAST-MODIFIED:20241115T174146Z
UID:10007291-1738742400-1738753200@driveshops.com
SUMMARY:Getting Your Point Across Day 2 of 6
DESCRIPTION:
URL:https://driveshops.com/events/getting-your-point-across-day-2-of-6-2/
LOCATION:Online
CATEGORIES:Getting Your Point Across,Workshop
ORGANIZER;CN="Tony Wisler":MAILTO:scheduling@driveshops.com
END:VEVENT
BEGIN:VEVENT
DTSTART;TZID=America/Los_Angeles:20250205T080000
DTEND;TZID=America/Los_Angeles:20250205T110000
DTSTAMP:20260425T094201
CREATED:20241115T174512Z
LAST-MODIFIED:20241115T174512Z
UID:10007297-1738742400-1738753200@driveshops.com
SUMMARY:Succession & Exit Planning Day 2 of 6
DESCRIPTION:
URL:https://driveshops.com/events/succession-exit-planning-day-2-of-6-2/
LOCATION:Online
CATEGORIES:Succession & Exit Planning,Workshop
ATTACH;FMTTYPE=image/png:https://driveshops.com/wp-content/uploads/2019/04/screen-shot-2019-05-21-at-10.36.20-am-e1558471267564.png
END:VEVENT
BEGIN:VEVENT
DTSTART;TZID=America/Los_Angeles:20250206T080000
DTEND;TZID=America/Los_Angeles:20250206T110000
DTSTAMP:20260425T094201
CREATED:20241115T180709Z
LAST-MODIFIED:20241115T180709Z
UID:10007313-1738828800-1738839600@driveshops.com
SUMMARY:How to Increase Your Profits Day 2 of 4
DESCRIPTION:
URL:https://driveshops.com/events/how-to-increase-your-profits-day-2-of-4-4/
LOCATION:Online
CATEGORIES:How To Increase Your Profits,Workshop
ATTACH;FMTTYPE=image/png:https://driveshops.com/wp-content/uploads/2019/04/screen-shot-2019-05-21-at-10.25.56-am-e1558471321731.png
END:VEVENT
BEGIN:VEVENT
DTSTART;TZID=America/Los_Angeles:20250206T080000
DTEND;TZID=America/Los_Angeles:20250206T110000
DTSTAMP:20260425T094201
CREATED:20241115T181331Z
LAST-MODIFIED:20241115T181417Z
UID:10007317-1738828800-1738839600@driveshops.com
SUMMARY:Mastering Social Media Day 2 of 3
DESCRIPTION:
URL:https://driveshops.com/events/mastering-social-media-day-2-of-3/
LOCATION:Online
CATEGORIES:Mastering Social Media
END:VEVENT
BEGIN:VEVENT
DTSTART;TZID=America/Los_Angeles:20250207T080000
DTEND;TZID=America/Los_Angeles:20250207T110000
DTSTAMP:20260425T094201
CREATED:20241115T174204Z
LAST-MODIFIED:20241115T174204Z
UID:10007292-1738915200-1738926000@driveshops.com
SUMMARY:Getting Your Point Across Day 3 of 6
DESCRIPTION:
URL:https://driveshops.com/events/getting-your-point-across-day-3-of-6-2/
LOCATION:Online
CATEGORIES:Getting Your Point Across,Workshop
ORGANIZER;CN="Tony Wisler":MAILTO:scheduling@driveshops.com
END:VEVENT
END:VCALENDAR