BEGIN:VCALENDAR
VERSION:2.0
PRODID:-//DRIVE - ECPv6.15.18//NONSGML v1.0//EN
CALSCALE:GREGORIAN
METHOD:PUBLISH
X-WR-CALNAME:DRIVE
X-ORIGINAL-URL:https://driveshops.com
X-WR-CALDESC:Events for DRIVE
REFRESH-INTERVAL;VALUE=DURATION:PT1H
X-Robots-Tag:noindex
X-PUBLISHED-TTL:PT1H
BEGIN:VTIMEZONE
TZID:America/Los_Angeles
BEGIN:DAYLIGHT
TZOFFSETFROM:-0800
TZOFFSETTO:-0700
TZNAME:PDT
DTSTART:20230312T100000
END:DAYLIGHT
BEGIN:STANDARD
TZOFFSETFROM:-0700
TZOFFSETTO:-0800
TZNAME:PST
DTSTART:20231105T090000
END:STANDARD
BEGIN:DAYLIGHT
TZOFFSETFROM:-0800
TZOFFSETTO:-0700
TZNAME:PDT
DTSTART:20240310T100000
END:DAYLIGHT
BEGIN:STANDARD
TZOFFSETFROM:-0700
TZOFFSETTO:-0800
TZNAME:PST
DTSTART:20241103T090000
END:STANDARD
BEGIN:DAYLIGHT
TZOFFSETFROM:-0800
TZOFFSETTO:-0700
TZNAME:PDT
DTSTART:20250309T100000
END:DAYLIGHT
BEGIN:STANDARD
TZOFFSETFROM:-0700
TZOFFSETTO:-0800
TZNAME:PST
DTSTART:20251102T090000
END:STANDARD
END:VTIMEZONE
BEGIN:VTIMEZONE
TZID:America/Denver
BEGIN:DAYLIGHT
TZOFFSETFROM:-0700
TZOFFSETTO:-0600
TZNAME:MDT
DTSTART:20230312T090000
END:DAYLIGHT
BEGIN:STANDARD
TZOFFSETFROM:-0600
TZOFFSETTO:-0700
TZNAME:MST
DTSTART:20231105T080000
END:STANDARD
BEGIN:DAYLIGHT
TZOFFSETFROM:-0700
TZOFFSETTO:-0600
TZNAME:MDT
DTSTART:20240310T090000
END:DAYLIGHT
BEGIN:STANDARD
TZOFFSETFROM:-0600
TZOFFSETTO:-0700
TZNAME:MST
DTSTART:20241103T080000
END:STANDARD
BEGIN:DAYLIGHT
TZOFFSETFROM:-0700
TZOFFSETTO:-0600
TZNAME:MDT
DTSTART:20250309T090000
END:DAYLIGHT
BEGIN:STANDARD
TZOFFSETFROM:-0600
TZOFFSETTO:-0700
TZNAME:MST
DTSTART:20251102T080000
END:STANDARD
END:VTIMEZONE
BEGIN:VTIMEZONE
TZID:UTC
BEGIN:STANDARD
TZOFFSETFROM:+0000
TZOFFSETTO:+0000
TZNAME:UTC
DTSTART:20230101T000000
END:STANDARD
END:VTIMEZONE
BEGIN:VEVENT
DTSTART;TZID=America/Los_Angeles:20240228T080000
DTEND;TZID=America/Los_Angeles:20240228T110000
DTSTAMP:20260425T044757
CREATED:20231213T144604Z
LAST-MODIFIED:20231213T150517Z
UID:10006961-1709107200-1709118000@driveshops.com
SUMMARY:Building Your Dream Team 2/6
DESCRIPTION:
URL:https://driveshops.com/events/building-your-dream-team-2-5-13/
LOCATION:Online
CATEGORIES:Building Your Dream Team
ATTACH;FMTTYPE=image/png:https://driveshops.com/wp-content/uploads/2019/03/screen-shot-2019-05-20-at-12.10.22-pm-e1558471852915.png
END:VEVENT
BEGIN:VEVENT
DTSTART;TZID=America/Los_Angeles:20240301T080000
DTEND;TZID=America/Los_Angeles:20240301T110000
DTSTAMP:20260425T044757
CREATED:20231213T144656Z
LAST-MODIFIED:20231213T150508Z
UID:10006962-1709280000-1709290800@driveshops.com
SUMMARY:Building Your Dream Team 3/6
DESCRIPTION:
URL:https://driveshops.com/events/building-your-dream-team-3-5-13/
LOCATION:Online
CATEGORIES:Building Your Dream Team
ATTACH;FMTTYPE=image/png:https://driveshops.com/wp-content/uploads/2019/03/screen-shot-2019-05-20-at-12.10.22-pm-e1558471852915.png
END:VEVENT
BEGIN:VEVENT
DTSTART;TZID=America/Los_Angeles:20240301T083000
DTEND;TZID=America/Los_Angeles:20240301T160000
DTSTAMP:20260425T044757
CREATED:20230718T195723Z
LAST-MODIFIED:20230718T195723Z
UID:10006944-1709281800-1709308800@driveshops.com
SUMMARY:Essentials of Shop Management 1/3
DESCRIPTION:
URL:https://driveshops.com/events/essentials-of-shop-management-1-3/
LOCATION:DRIVE HQ\, 324 S Myrtle Ave\, Monrovia\, CA\, 91016\, United States
CATEGORIES:Essentials of Shop Management,Workshop
ATTACH;FMTTYPE=image/png:https://driveshops.com/wp-content/uploads/2019/04/screen-shot-2019-05-21-at-10.17.01-am-e1558471790866.png
END:VEVENT
BEGIN:VEVENT
DTSTART;TZID=America/Los_Angeles:20240302T083000
DTEND;TZID=America/Los_Angeles:20240302T160000
DTSTAMP:20260425T044757
CREATED:20230718T191505Z
LAST-MODIFIED:20230718T191505Z
UID:10006925-1709368200-1709395200@driveshops.com
SUMMARY:Essentials of Shop Management 2/3
DESCRIPTION:
URL:https://driveshops.com/events/essentials-of-shop-management-2-3-2/
LOCATION:DRIVE HQ\, 324 S Myrtle Ave\, Monrovia\, CA\, 91016\, United States
CATEGORIES:Essentials of Shop Management,Workshop
ATTACH;FMTTYPE=image/png:https://driveshops.com/wp-content/uploads/2019/04/screen-shot-2019-05-21-at-10.17.01-am-e1558471790866.png
END:VEVENT
BEGIN:VEVENT
DTSTART;TZID=America/Los_Angeles:20240303T083000
DTEND;TZID=America/Los_Angeles:20240303T160000
DTSTAMP:20260425T044757
CREATED:20230718T191534Z
LAST-MODIFIED:20230718T191534Z
UID:10006926-1709454600-1709481600@driveshops.com
SUMMARY:Essentials of Shop Management 3/3
DESCRIPTION:
URL:https://driveshops.com/events/essentials-of-shop-management-3-3-3/
LOCATION:DRIVE HQ\, 324 S Myrtle Ave\, Monrovia\, CA\, 91016\, United States
CATEGORIES:Essentials of Shop Management,Workshop
ATTACH;FMTTYPE=image/png:https://driveshops.com/wp-content/uploads/2019/04/screen-shot-2019-05-21-at-10.17.01-am-e1558471790866.png
END:VEVENT
BEGIN:VEVENT
DTSTART;TZID=America/Los_Angeles:20240304T080000
DTEND;TZID=America/Los_Angeles:20240304T110000
DTSTAMP:20260425T044757
CREATED:20231213T144747Z
LAST-MODIFIED:20231213T150159Z
UID:10006963-1709539200-1709550000@driveshops.com
SUMMARY:Building Your Dream Team 4/6
DESCRIPTION:
URL:https://driveshops.com/events/building-your-dream-team-4-5-14/
LOCATION:Online
CATEGORIES:Building Your Dream Team
ATTACH;FMTTYPE=image/png:https://driveshops.com/wp-content/uploads/2019/03/screen-shot-2019-05-20-at-12.10.22-pm-e1558471852915.png
END:VEVENT
BEGIN:VEVENT
DTSTART;TZID=America/Los_Angeles:20240304T080000
DTEND;TZID=America/Los_Angeles:20240304T110000
DTSTAMP:20260425T044757
CREATED:20231213T151901Z
LAST-MODIFIED:20231213T151901Z
UID:10006971-1709539200-1709550000@driveshops.com
SUMMARY:Professional Service Advisor Sales 1/6
DESCRIPTION:
URL:https://driveshops.com/events/professional-service-advisor-sales-1-6-15/
LOCATION:Online
CATEGORIES:Professional Service Advisor Sales,Workshop
ATTACH;FMTTYPE=image/png:https://driveshops.com/wp-content/uploads/2019/04/screen-shot-2019-05-21-at-10.14.39-am-e1558470540769.png
END:VEVENT
BEGIN:VEVENT
DTSTART;TZID=America/Los_Angeles:20240305T080000
DTEND;TZID=America/Los_Angeles:20240305T110000
DTSTAMP:20260425T044757
CREATED:20230718T193644Z
LAST-MODIFIED:20230718T193644Z
UID:10006930-1709625600-1709636400@driveshops.com
SUMMARY:How to Train Your Team 1/3
DESCRIPTION:
URL:https://driveshops.com/events/how-to-train-your-team-1-3-3/
LOCATION:Online
CATEGORIES:How to Train Your Team,Workshop
ATTACH;FMTTYPE=image/png:https://driveshops.com/wp-content/uploads/2019/11/httyt_11.26.19-01.png
END:VEVENT
BEGIN:VEVENT
DTSTART;TZID=America/Los_Angeles:20240306T080000
DTEND;TZID=America/Los_Angeles:20240306T110000
DTSTAMP:20260425T044757
CREATED:20231213T144843Z
LAST-MODIFIED:20231213T150143Z
UID:10006964-1709712000-1709722800@driveshops.com
SUMMARY:Building Your Dream Team 5/6
DESCRIPTION:
URL:https://driveshops.com/events/building-your-dream-team-5-5-15/
LOCATION:Online
CATEGORIES:Building Your Dream Team
ATTACH;FMTTYPE=image/png:https://driveshops.com/wp-content/uploads/2019/03/screen-shot-2019-05-20-at-12.10.22-pm-e1558471852915.png
END:VEVENT
BEGIN:VEVENT
DTSTART;TZID=America/Los_Angeles:20240306T080000
DTEND;TZID=America/Los_Angeles:20240306T110000
DTSTAMP:20260425T044758
CREATED:20231213T151848Z
LAST-MODIFIED:20231213T151848Z
UID:10006970-1709712000-1709722800@driveshops.com
SUMMARY:Professional Service Advisor Sales 2/6
DESCRIPTION:
URL:https://driveshops.com/events/professional-service-advisor-sales-2-6-16/
LOCATION:Online
CATEGORIES:Professional Service Advisor Sales,Workshop
ATTACH;FMTTYPE=image/png:https://driveshops.com/wp-content/uploads/2019/04/screen-shot-2019-05-21-at-10.14.39-am-e1558470540769.png
END:VEVENT
BEGIN:VEVENT
DTSTART;TZID=America/Los_Angeles:20240307T080000
DTEND;TZID=America/Los_Angeles:20240307T110000
DTSTAMP:20260425T044758
CREATED:20230718T193723Z
LAST-MODIFIED:20230718T193723Z
UID:10006931-1709798400-1709809200@driveshops.com
SUMMARY:How to Train Your Team 2/3
DESCRIPTION:
URL:https://driveshops.com/events/how-to-train-your-team-2-3-3/
LOCATION:Online
CATEGORIES:How to Train Your Team,Workshop
ATTACH;FMTTYPE=image/png:https://driveshops.com/wp-content/uploads/2019/11/httyt_11.26.19-01.png
END:VEVENT
BEGIN:VEVENT
DTSTART;TZID=America/Los_Angeles:20240308T080000
DTEND;TZID=America/Los_Angeles:20240308T110000
DTSTAMP:20260425T044758
CREATED:20231213T150045Z
LAST-MODIFIED:20231213T150626Z
UID:10006965-1709884800-1709895600@driveshops.com
SUMMARY:Building Your Dream Team 6/6
DESCRIPTION:
URL:https://driveshops.com/events/building-your-dream-team-6-6-3/
LOCATION:Online
CATEGORIES:Building Your Dream Team
ATTACH;FMTTYPE=image/png:https://driveshops.com/wp-content/uploads/2019/03/screen-shot-2019-05-20-at-12.10.22-pm-e1558471852915.png
END:VEVENT
BEGIN:VEVENT
DTSTART;TZID=America/Los_Angeles:20240308T080000
DTEND;TZID=America/Los_Angeles:20240308T110000
DTSTAMP:20260425T044758
CREATED:20231213T151835Z
LAST-MODIFIED:20231213T151835Z
UID:10006969-1709884800-1709895600@driveshops.com
SUMMARY:Professional Service Advisor Sales 3/6
DESCRIPTION:
URL:https://driveshops.com/events/professional-service-advisor-sales-3-6-16/
LOCATION:Online
CATEGORIES:Professional Service Advisor Sales,Workshop
ATTACH;FMTTYPE=image/png:https://driveshops.com/wp-content/uploads/2019/04/screen-shot-2019-05-21-at-10.14.39-am-e1558470540769.png
END:VEVENT
BEGIN:VEVENT
DTSTART;TZID=America/Denver:20240311T080000
DTEND;TZID=America/Denver:20240311T110000
DTSTAMP:20260425T044758
CREATED:20230718T194057Z
LAST-MODIFIED:20230718T194057Z
UID:10006933-1710144000-1710154800@driveshops.com
SUMMARY:Managing Change 1/5
DESCRIPTION:Understand the basic principles of successful change.\nUnderstand how to make changes that result in a more profitable and successful business.\nPractice the procedure of making changes until it is mastered.
URL:https://driveshops.com/events/managing-change-1-5-6/
LOCATION:Online
CATEGORIES:Managing Change,Workshop
ATTACH;FMTTYPE=image/png:https://driveshops.com/wp-content/uploads/2019/04/screen-shot-2019-05-21-at-10.47.53-am-e1558471201812.png
END:VEVENT
BEGIN:VEVENT
DTSTART;TZID=America/Denver:20240311T080000
DTEND;TZID=America/Denver:20240311T110000
DTSTAMP:20260425T044758
CREATED:20230718T194530Z
LAST-MODIFIED:20231214T170502Z
UID:10006938-1710144000-1710154800@driveshops.com
SUMMARY:Mastering Shop Finances 1/5
DESCRIPTION:
URL:https://driveshops.com/events/mastering-shop-finances-1-6-4/
LOCATION:Online
CATEGORIES:Mastering Shop Finances,Workshop
ATTACH;FMTTYPE=image/png:https://driveshops.com/wp-content/uploads/2019/12/mastering-shop-finances_12.04.19-01.png
END:VEVENT
BEGIN:VEVENT
DTSTART;TZID=America/Denver:20240311T080000
DTEND;TZID=America/Denver:20240311T110000
DTSTAMP:20260425T044758
CREATED:20230718T201406Z
LAST-MODIFIED:20230718T201406Z
UID:10006945-1710144000-1710154800@driveshops.com
SUMMARY:Sales Training for Collision Shops 1/5
DESCRIPTION:
URL:https://driveshops.com/events/sales-training-for-collision-shops-1-5-6/
LOCATION:Online
CATEGORIES:Sales Training for Collision Shops,Workshop
ATTACH;FMTTYPE=image/png:https://driveshops.com/wp-content/uploads/2019/04/screen-shot-2019-05-21-at-10.29.28-am-e1558471305153.png
END:VEVENT
BEGIN:VEVENT
DTSTART;TZID=UTC:20240311T080000
DTEND;TZID=UTC:20240311T110000
DTSTAMP:20260425T044758
CREATED:20231213T151816Z
LAST-MODIFIED:20231213T151816Z
UID:10006968-1710144000-1710154800@driveshops.com
SUMMARY:Professional Service Advisor Sales 4/6
DESCRIPTION:
URL:https://driveshops.com/events/professional-service-advisor-sales-4-6-17/
LOCATION:Online
CATEGORIES:Professional Service Advisor Sales,Workshop
ATTACH;FMTTYPE=image/png:https://driveshops.com/wp-content/uploads/2019/04/screen-shot-2019-05-21-at-10.14.39-am-e1558470540769.png
END:VEVENT
BEGIN:VEVENT
DTSTART;TZID=America/Denver:20240312T080000
DTEND;TZID=America/Denver:20240312T110000
DTSTAMP:20260425T044758
CREATED:20230718T193749Z
LAST-MODIFIED:20230718T193749Z
UID:10006932-1710230400-1710241200@driveshops.com
SUMMARY:How to Train Your Team 3/3
DESCRIPTION:
URL:https://driveshops.com/events/how-to-train-your-team-3-3-3/
LOCATION:Online
CATEGORIES:How to Train Your Team,Workshop
ATTACH;FMTTYPE=image/png:https://driveshops.com/wp-content/uploads/2019/11/httyt_11.26.19-01.png
END:VEVENT
BEGIN:VEVENT
DTSTART;TZID=America/Denver:20240313T080000
DTEND;TZID=America/Denver:20240313T110000
DTSTAMP:20260425T044758
CREATED:20230718T194118Z
LAST-MODIFIED:20230718T194118Z
UID:10006934-1710316800-1710327600@driveshops.com
SUMMARY:Managing Change 2/5
DESCRIPTION:Understand the basic principles of successful change.\nUnderstand how to make changes that result in a more profitable and successful business.\nPractice the procedure of making changes until it is mastered.
URL:https://driveshops.com/events/managing-change-2-5-6/
LOCATION:Online
CATEGORIES:Managing Change,Workshop
ATTACH;FMTTYPE=image/png:https://driveshops.com/wp-content/uploads/2019/04/screen-shot-2019-05-21-at-10.47.53-am-e1558471201812.png
END:VEVENT
BEGIN:VEVENT
DTSTART;TZID=America/Denver:20240313T080000
DTEND;TZID=America/Denver:20240313T110000
DTSTAMP:20260425T044758
CREATED:20230718T194556Z
LAST-MODIFIED:20231214T170510Z
UID:10006939-1710316800-1710327600@driveshops.com
SUMMARY:Mastering Shop Finances 2/5
DESCRIPTION:
URL:https://driveshops.com/events/mastering-shop-finances-2-6-4/
LOCATION:Online
CATEGORIES:Mastering Shop Finances,Workshop
ATTACH;FMTTYPE=image/png:https://driveshops.com/wp-content/uploads/2019/12/mastering-shop-finances_12.04.19-01.png
END:VEVENT
BEGIN:VEVENT
DTSTART;TZID=America/Denver:20240313T080000
DTEND;TZID=America/Denver:20240313T110000
DTSTAMP:20260425T044758
CREATED:20230718T201429Z
LAST-MODIFIED:20230718T201429Z
UID:10006946-1710316800-1710327600@driveshops.com
SUMMARY:Sales Training for Collision Shops 2/5
DESCRIPTION:
URL:https://driveshops.com/events/sales-training-for-collision-shops-2-5-6/
LOCATION:Online
CATEGORIES:Sales Training for Collision Shops,Workshop
ATTACH;FMTTYPE=image/png:https://driveshops.com/wp-content/uploads/2019/04/screen-shot-2019-05-21-at-10.29.28-am-e1558471305153.png
END:VEVENT
BEGIN:VEVENT
DTSTART;TZID=UTC:20240313T080000
DTEND;TZID=UTC:20240313T110000
DTSTAMP:20260425T044758
CREATED:20231213T151800Z
LAST-MODIFIED:20231213T151800Z
UID:10006967-1710316800-1710327600@driveshops.com
SUMMARY:Professional Service Advisor Sales 5/6
DESCRIPTION:
URL:https://driveshops.com/events/professional-service-advisor-sales-5-6-17/
LOCATION:Online
CATEGORIES:Professional Service Advisor Sales,Workshop
ATTACH;FMTTYPE=image/png:https://driveshops.com/wp-content/uploads/2019/04/screen-shot-2019-05-21-at-10.14.39-am-e1558470540769.png
END:VEVENT
BEGIN:VEVENT
DTSTART;TZID=America/Denver:20240315T080000
DTEND;TZID=America/Denver:20240315T110000
DTSTAMP:20260425T044758
CREATED:20230718T194145Z
LAST-MODIFIED:20230718T194145Z
UID:10006935-1710489600-1710500400@driveshops.com
SUMMARY:Managing Change 3/5
DESCRIPTION:Understand the basic principles of successful change.\nUnderstand how to make changes that result in a more profitable and successful business.\nPractice the procedure of making changes until it is mastered.
URL:https://driveshops.com/events/managing-change-3-5-6/
LOCATION:Online
CATEGORIES:Managing Change,Workshop
ATTACH;FMTTYPE=image/png:https://driveshops.com/wp-content/uploads/2019/04/screen-shot-2019-05-21-at-10.47.53-am-e1558471201812.png
END:VEVENT
BEGIN:VEVENT
DTSTART;TZID=America/Denver:20240315T080000
DTEND;TZID=America/Denver:20240315T110000
DTSTAMP:20260425T044758
CREATED:20230718T194619Z
LAST-MODIFIED:20231214T170518Z
UID:10006940-1710489600-1710500400@driveshops.com
SUMMARY:Mastering Shop Finances 3/5
DESCRIPTION:
URL:https://driveshops.com/events/mastering-shop-finances-3-6-4/
LOCATION:Online
CATEGORIES:Mastering Shop Finances,Workshop
ATTACH;FMTTYPE=image/png:https://driveshops.com/wp-content/uploads/2019/12/mastering-shop-finances_12.04.19-01.png
END:VEVENT
BEGIN:VEVENT
DTSTART;TZID=America/Denver:20240315T080000
DTEND;TZID=America/Denver:20240315T110000
DTSTAMP:20260425T044758
CREATED:20230718T201450Z
LAST-MODIFIED:20230718T201450Z
UID:10006947-1710489600-1710500400@driveshops.com
SUMMARY:Sales Training for Collision Shops 3/5
DESCRIPTION:
URL:https://driveshops.com/events/sales-training-for-collision-shops-3-5-7/
LOCATION:Online
CATEGORIES:Sales Training for Collision Shops,Workshop
ATTACH;FMTTYPE=image/png:https://driveshops.com/wp-content/uploads/2019/04/screen-shot-2019-05-21-at-10.29.28-am-e1558471305153.png
END:VEVENT
BEGIN:VEVENT
DTSTART;TZID=UTC:20240315T080000
DTEND;TZID=UTC:20240315T110000
DTSTAMP:20260425T044758
CREATED:20231213T151742Z
LAST-MODIFIED:20231213T151742Z
UID:10006966-1710489600-1710500400@driveshops.com
SUMMARY:Professional Service Advisor Sales 6/6
DESCRIPTION:
URL:https://driveshops.com/events/professional-service-advisor-sales-6-6-17/
LOCATION:Online
CATEGORIES:Professional Service Advisor Sales,Workshop
ATTACH;FMTTYPE=image/png:https://driveshops.com/wp-content/uploads/2019/04/screen-shot-2019-05-21-at-10.14.39-am-e1558470540769.png
END:VEVENT
BEGIN:VEVENT
DTSTART;TZID=America/Denver:20240318T080000
DTEND;TZID=America/Denver:20240318T110000
DTSTAMP:20260425T044758
CREATED:20230718T194645Z
LAST-MODIFIED:20231214T170526Z
UID:10006941-1710748800-1710759600@driveshops.com
SUMMARY:Mastering Shop Finances 4/5
DESCRIPTION:
URL:https://driveshops.com/events/mastering-shop-finances-4-6-4/
LOCATION:Online
CATEGORIES:Mastering Shop Finances,Workshop
ATTACH;FMTTYPE=image/png:https://driveshops.com/wp-content/uploads/2019/12/mastering-shop-finances_12.04.19-01.png
END:VEVENT
BEGIN:VEVENT
DTSTART;TZID=America/Denver:20240318T080000
DTEND;TZID=America/Denver:20240318T110000
DTSTAMP:20260425T044758
CREATED:20230718T201526Z
LAST-MODIFIED:20230718T201526Z
UID:10006948-1710748800-1710759600@driveshops.com
SUMMARY:Sales Training for Collision Shops 4/5
DESCRIPTION:
URL:https://driveshops.com/events/sales-training-for-collision-shops-4-5-5/
LOCATION:Online
CATEGORIES:Sales Training for Collision Shops,Workshop
ATTACH;FMTTYPE=image/png:https://driveshops.com/wp-content/uploads/2019/04/screen-shot-2019-05-21-at-10.29.28-am-e1558471305153.png
END:VEVENT
BEGIN:VEVENT
DTSTART;TZID=America/Denver:20240318T080000
DTEND;TZID=America/Denver:20240318T110000
DTSTAMP:20260425T044758
CREATED:20230718T201804Z
LAST-MODIFIED:20230718T201804Z
UID:10006950-1710748800-1710759600@driveshops.com
SUMMARY:Developing Shop Playbooks 1/5
DESCRIPTION:
URL:https://driveshops.com/events/developing-shop-playbooks-1-5-3/
LOCATION:Online
CATEGORIES:Developing Shop Playbooks,Workshop
ATTACH;FMTTYPE=image/png:https://driveshops.com/wp-content/uploads/2019/09/screen-shot-2019-09-04-at-11.16.56-am.png
END:VEVENT
BEGIN:VEVENT
DTSTART;TZID=America/Denver:20240320T080000
DTEND;TZID=America/Denver:20240320T110000
DTSTAMP:20260425T044758
CREATED:20230718T194217Z
LAST-MODIFIED:20230718T194217Z
UID:10006936-1710921600-1710932400@driveshops.com
SUMMARY:Managing Change 4/5
DESCRIPTION:Understand the basic principles of successful change.\nUnderstand how to make changes that result in a more profitable and successful business.\nPractice the procedure of making changes until it is mastered.
URL:https://driveshops.com/events/managing-change-4-5-6/
LOCATION:Online
CATEGORIES:Managing Change,Workshop
ATTACH;FMTTYPE=image/png:https://driveshops.com/wp-content/uploads/2019/04/screen-shot-2019-05-21-at-10.47.53-am-e1558471201812.png
END:VEVENT
END:VCALENDAR