BEGIN:VCALENDAR
VERSION:2.0
PRODID:-//DRIVE - ECPv6.15.18//NONSGML v1.0//EN
CALSCALE:GREGORIAN
METHOD:PUBLISH
X-WR-CALNAME:DRIVE
X-ORIGINAL-URL:https://driveshops.com
X-WR-CALDESC:Events for DRIVE
REFRESH-INTERVAL;VALUE=DURATION:PT1H
X-Robots-Tag:noindex
X-PUBLISHED-TTL:PT1H
BEGIN:VTIMEZONE
TZID:UTC
BEGIN:STANDARD
TZOFFSETFROM:+0000
TZOFFSETTO:+0000
TZNAME:UTC
DTSTART:20240101T000000
END:STANDARD
END:VTIMEZONE
BEGIN:VTIMEZONE
TZID:America/Los_Angeles
BEGIN:DAYLIGHT
TZOFFSETFROM:-0800
TZOFFSETTO:-0700
TZNAME:PDT
DTSTART:20240310T100000
END:DAYLIGHT
BEGIN:STANDARD
TZOFFSETFROM:-0700
TZOFFSETTO:-0800
TZNAME:PST
DTSTART:20241103T090000
END:STANDARD
BEGIN:DAYLIGHT
TZOFFSETFROM:-0800
TZOFFSETTO:-0700
TZNAME:PDT
DTSTART:20250309T100000
END:DAYLIGHT
BEGIN:STANDARD
TZOFFSETFROM:-0700
TZOFFSETTO:-0800
TZNAME:PST
DTSTART:20251102T090000
END:STANDARD
BEGIN:DAYLIGHT
TZOFFSETFROM:-0800
TZOFFSETTO:-0700
TZNAME:PDT
DTSTART:20260308T100000
END:DAYLIGHT
BEGIN:STANDARD
TZOFFSETFROM:-0700
TZOFFSETTO:-0800
TZNAME:PST
DTSTART:20261101T090000
END:STANDARD
END:VTIMEZONE
BEGIN:VTIMEZONE
TZID:America/Denver
BEGIN:DAYLIGHT
TZOFFSETFROM:-0700
TZOFFSETTO:-0600
TZNAME:MDT
DTSTART:20240310T090000
END:DAYLIGHT
BEGIN:STANDARD
TZOFFSETFROM:-0600
TZOFFSETTO:-0700
TZNAME:MST
DTSTART:20241103T080000
END:STANDARD
BEGIN:DAYLIGHT
TZOFFSETFROM:-0700
TZOFFSETTO:-0600
TZNAME:MDT
DTSTART:20250309T090000
END:DAYLIGHT
BEGIN:STANDARD
TZOFFSETFROM:-0600
TZOFFSETTO:-0700
TZNAME:MST
DTSTART:20251102T080000
END:STANDARD
BEGIN:DAYLIGHT
TZOFFSETFROM:-0700
TZOFFSETTO:-0600
TZNAME:MDT
DTSTART:20260308T090000
END:DAYLIGHT
BEGIN:STANDARD
TZOFFSETFROM:-0600
TZOFFSETTO:-0700
TZNAME:MST
DTSTART:20261101T080000
END:STANDARD
END:VTIMEZONE
BEGIN:VEVENT
DTSTART;TZID=UTC:20250514T080000
DTEND;TZID=UTC:20250514T110000
DTSTAMP:20260424T053638
CREATED:20250127T172036Z
LAST-MODIFIED:20250127T172036Z
UID:10007428-1747209600-1747220400@driveshops.com
SUMMARY:Professional Service Advisor Sales Day 5 of 6
DESCRIPTION:
URL:https://driveshops.com/events/professional-service-advisor-sales-day-5-of-6-6/
LOCATION:Online
CATEGORIES:Professional Service Advisor Sales,Workshop
ATTACH;FMTTYPE=image/png:https://driveshops.com/wp-content/uploads/2019/04/screen-shot-2019-05-21-at-10.14.39-am-e1558470540769.png
END:VEVENT
BEGIN:VEVENT
DTSTART;TZID=America/Los_Angeles:20250514T080000
DTEND;TZID=America/Los_Angeles:20250514T110000
DTSTAMP:20260424T053638
CREATED:20250127T172538Z
LAST-MODIFIED:20250127T172538Z
UID:10007434-1747209600-1747220400@driveshops.com
SUMMARY:Succession & Exit Planning Day 5 of 5
DESCRIPTION:
URL:https://driveshops.com/events/succession-exit-planning-day-5-of-5/
LOCATION:Online
CATEGORIES:Succession & Exit Planning,Workshop
ATTACH;FMTTYPE=image/png:https://driveshops.com/wp-content/uploads/2019/04/screen-shot-2019-05-21-at-10.36.20-am-e1558471267564.png
END:VEVENT
BEGIN:VEVENT
DTSTART;TZID=America/Los_Angeles:20250514T080000
DTEND;TZID=America/Los_Angeles:20250514T110000
DTSTAMP:20260424T053638
CREATED:20250127T172856Z
LAST-MODIFIED:20250127T172856Z
UID:10007439-1747209600-1747220400@driveshops.com
SUMMARY:Building Your Dream Team Day 5 of 5
DESCRIPTION:
URL:https://driveshops.com/events/building-your-dream-team-day-5-of-5-3/
LOCATION:Online
CATEGORIES:Building Your Dream Team
ATTACH;FMTTYPE=image/png:https://driveshops.com/wp-content/uploads/2019/03/screen-shot-2019-05-20-at-12.10.22-pm-e1558471852915.png
END:VEVENT
BEGIN:VEVENT
DTSTART;TZID=America/Los_Angeles:20250515T080000
DTEND;TZID=America/Los_Angeles:20250515T110000
DTSTAMP:20260424T053638
CREATED:20250127T171824Z
LAST-MODIFIED:20250319T182334Z
UID:10007423-1747296000-1747306800@driveshops.com
SUMMARY:Essentials of Shop Management Day 6 of 6
DESCRIPTION:
URL:https://driveshops.com/events/essentials-of-shop-management-day-6-of-6-6/
LOCATION:Online
CATEGORIES:Essentials of Shop Management,Workshop
ATTACH;FMTTYPE=image/png:https://driveshops.com/wp-content/uploads/2019/04/screen-shot-2019-05-21-at-10.17.01-am-e1558471790866.png
END:VEVENT
BEGIN:VEVENT
DTSTART;TZID=UTC:20250515T080000
DTEND;TZID=UTC:20250515T110000
DTSTAMP:20260424T053638
CREATED:20250127T172054Z
LAST-MODIFIED:20250319T184033Z
UID:10007429-1747296000-1747306800@driveshops.com
SUMMARY:Professional Service Advisor Sales Day 6 of 6
DESCRIPTION:
URL:https://driveshops.com/events/professional-service-advisor-sales-day-6-of-6-6/
LOCATION:Online
CATEGORIES:Professional Service Advisor Sales,Workshop
ATTACH;FMTTYPE=image/png:https://driveshops.com/wp-content/uploads/2019/04/screen-shot-2019-05-21-at-10.14.39-am-e1558470540769.png
END:VEVENT
BEGIN:VEVENT
DTSTART;TZID=America/Los_Angeles:20250515T080000
DTEND;TZID=America/Los_Angeles:20250515T110000
DTSTAMP:20260424T053638
CREATED:20250319T190121Z
LAST-MODIFIED:20250319T190121Z
UID:10007623-1747296000-1747306800@driveshops.com
SUMMARY:Expanding Your Auto Repair Shop Day 2 of 2
DESCRIPTION:
URL:https://driveshops.com/events/expanding-your-auto-repair-shop-day-2-of-2/
LOCATION:Online
CATEGORIES:Expanding Your Auto Shop
END:VEVENT
BEGIN:VEVENT
DTSTART;TZID=America/Los_Angeles:20250603T080000
DTEND;TZID=America/Los_Angeles:20250603T110000
DTSTAMP:20260424T053638
CREATED:20250127T174713Z
LAST-MODIFIED:20250318T185235Z
UID:10007449-1748937600-1748948400@driveshops.com
SUMMARY:How to Read and Use Financial Statements Day 1 of 6
DESCRIPTION:
URL:https://driveshops.com/events/how-to-read-and-use-financial-statements-day-1-of-6-4/
LOCATION:Online
CATEGORIES:How to Read and Use Financial Statements,Workshop
END:VEVENT
BEGIN:VEVENT
DTSTART;TZID=America/Los_Angeles:20250603T080000
DTEND;TZID=America/Los_Angeles:20250603T110000
DTSTAMP:20260424T053638
CREATED:20250127T175120Z
LAST-MODIFIED:20250127T175120Z
UID:10007455-1748937600-1748948400@driveshops.com
SUMMARY:How to Increase Your Profits Day 1 of 4
DESCRIPTION:
URL:https://driveshops.com/events/how-to-increase-your-profits-day-1-of-4-6/
LOCATION:Online
CATEGORIES:How To Increase Your Profits,Workshop
ATTACH;FMTTYPE=image/png:https://driveshops.com/wp-content/uploads/2019/04/screen-shot-2019-05-21-at-10.25.56-am-e1558471321731.png
END:VEVENT
BEGIN:VEVENT
DTSTART;TZID=America/Los_Angeles:20250603T080000
DTEND;TZID=America/Los_Angeles:20250603T110000
DTSTAMP:20260424T053638
CREATED:20250127T175318Z
LAST-MODIFIED:20250415T184951Z
UID:10007459-1748937600-1748948400@driveshops.com
SUMMARY:Master and Control the Front of Your Shop Day 1 of 5
DESCRIPTION:
URL:https://driveshops.com/events/controlling-the-front-for-collision-shops-day-1-of-5-2/
LOCATION:Online
CATEGORIES:Master and Control the Front of Your Shop,Workshop
ATTACH;FMTTYPE=image/png:https://driveshops.com/wp-content/uploads/2019/04/screen-shot-2019-05-21-at-10.29.28-am-e1558471305153.png
END:VEVENT
BEGIN:VEVENT
DTSTART;TZID=America/Los_Angeles:20250604T080000
DTEND;TZID=America/Los_Angeles:20250604T110000
DTSTAMP:20260424T053638
CREATED:20250127T174727Z
LAST-MODIFIED:20250127T174727Z
UID:10007450-1749024000-1749034800@driveshops.com
SUMMARY:How to Read and Use Financial Statements Day 2 of 6
DESCRIPTION:
URL:https://driveshops.com/events/how-to-read-and-use-financial-statements-day-2-of-6-4/
LOCATION:Online
CATEGORIES:How to Read and Use Financial Statements,Workshop
END:VEVENT
BEGIN:VEVENT
DTSTART;TZID=America/Los_Angeles:20250604T080000
DTEND;TZID=America/Los_Angeles:20250604T110000
DTSTAMP:20260424T053638
CREATED:20250127T175331Z
LAST-MODIFIED:20250415T185125Z
UID:10007460-1749024000-1749034800@driveshops.com
SUMMARY:Master and Control The Front of Your Shop Day 2 of 5
DESCRIPTION:
URL:https://driveshops.com/events/controlling-the-front-for-collision-shops-day-2-of-5-2/
LOCATION:Online
CATEGORIES:Master and Control the Front of Your Shop,Workshop
ATTACH;FMTTYPE=image/png:https://driveshops.com/wp-content/uploads/2019/04/screen-shot-2019-05-21-at-10.29.28-am-e1558471305153.png
END:VEVENT
BEGIN:VEVENT
DTSTART;TZID=America/Los_Angeles:20250605T080000
DTEND;TZID=America/Los_Angeles:20250605T110000
DTSTAMP:20260424T053638
CREATED:20250127T174747Z
LAST-MODIFIED:20250318T185244Z
UID:10007451-1749110400-1749121200@driveshops.com
SUMMARY:How to Read and Use Financial Statements Day 3 of 6
DESCRIPTION:
URL:https://driveshops.com/events/how-to-read-and-use-financial-statements-day-3-of-6-4/
LOCATION:Online
CATEGORIES:How to Read and Use Financial Statements,Workshop
END:VEVENT
BEGIN:VEVENT
DTSTART;TZID=America/Los_Angeles:20250605T080000
DTEND;TZID=America/Los_Angeles:20250605T110000
DTSTAMP:20260424T053638
CREATED:20250127T175132Z
LAST-MODIFIED:20250127T175132Z
UID:10007456-1749110400-1749121200@driveshops.com
SUMMARY:How to Increase Your Profits Day 2 of 4
DESCRIPTION:
URL:https://driveshops.com/events/how-to-increase-your-profits-day-2-of-4-6/
LOCATION:Online
CATEGORIES:How To Increase Your Profits,Workshop
ATTACH;FMTTYPE=image/png:https://driveshops.com/wp-content/uploads/2019/04/screen-shot-2019-05-21-at-10.25.56-am-e1558471321731.png
END:VEVENT
BEGIN:VEVENT
DTSTART;TZID=America/Los_Angeles:20250605T080000
DTEND;TZID=America/Los_Angeles:20250605T110000
DTSTAMP:20260424T053638
CREATED:20250127T175352Z
LAST-MODIFIED:20250415T185203Z
UID:10007461-1749110400-1749121200@driveshops.com
SUMMARY:Master and Control The Front of Your Shop Day 3 of 5
DESCRIPTION:
URL:https://driveshops.com/events/controlling-the-front-for-collision-shops-day-3-of-5-2/
LOCATION:Online
CATEGORIES:Master and Control the Front of Your Shop,Workshop
ATTACH;FMTTYPE=image/png:https://driveshops.com/wp-content/uploads/2019/04/screen-shot-2019-05-21-at-10.29.28-am-e1558471305153.png
END:VEVENT
BEGIN:VEVENT
DTSTART;TZID=UTC:20250610T080000
DTEND;TZID=UTC:20250610T110000
DTSTAMP:20260424T053638
CREATED:20241223T143850Z
LAST-MODIFIED:20250417T165443Z
UID:10007331-1749542400-1749553200@driveshops.com
SUMMARY:Fundamentals of Wealth Day 1 of 5
DESCRIPTION:
URL:https://driveshops.com/events/fundamentals-of-wealth-day-1-of-5/
LOCATION:Online
CATEGORIES:Fundamentals of Wealth,Workshop
END:VEVENT
BEGIN:VEVENT
DTSTART;TZID=UTC:20250610T080000
DTEND;TZID=UTC:20250610T110000
DTSTAMP:20260424T053638
CREATED:20250127T174810Z
LAST-MODIFIED:20250318T185251Z
UID:10007452-1749542400-1749553200@driveshops.com
SUMMARY:How to Read and Use Financial Statements Day 4 of 6
DESCRIPTION:
URL:https://driveshops.com/events/how-to-read-and-use-financial-statements-day-4-of-6-4/
LOCATION:Online
CATEGORIES:How to Read and Use Financial Statements,Workshop
END:VEVENT
BEGIN:VEVENT
DTSTART;TZID=America/Los_Angeles:20250610T080000
DTEND;TZID=America/Los_Angeles:20250610T110000
DTSTAMP:20260424T053638
CREATED:20250127T175142Z
LAST-MODIFIED:20250127T175142Z
UID:10007457-1749542400-1749553200@driveshops.com
SUMMARY:How to Increase Your Profits Day 3 of 4
DESCRIPTION:
URL:https://driveshops.com/events/how-to-increase-your-profits-day-3-of-4-6/
LOCATION:Online
CATEGORIES:How To Increase Your Profits,Workshop
ATTACH;FMTTYPE=image/png:https://driveshops.com/wp-content/uploads/2019/04/screen-shot-2019-05-21-at-10.25.56-am-e1558471321731.png
END:VEVENT
BEGIN:VEVENT
DTSTART;TZID=America/Los_Angeles:20250610T080000
DTEND;TZID=America/Los_Angeles:20250610T110000
DTSTAMP:20260424T053638
CREATED:20250127T175407Z
LAST-MODIFIED:20250415T185233Z
UID:10007462-1749542400-1749553200@driveshops.com
SUMMARY:Master and Control The Front of Your Shop Day 4 of 4
DESCRIPTION:
URL:https://driveshops.com/events/controlling-the-front-for-collision-shops-day-4-of-4-2/
LOCATION:Online
CATEGORIES:Master and Control the Front of Your Shop,Workshop
ATTACH;FMTTYPE=image/png:https://driveshops.com/wp-content/uploads/2019/04/screen-shot-2019-05-21-at-10.29.28-am-e1558471305153.png
END:VEVENT
BEGIN:VEVENT
DTSTART;TZID=America/Denver:20250610T080000
DTEND;TZID=America/Denver:20250610T110000
DTSTAMP:20260424T053638
CREATED:20250127T175724Z
LAST-MODIFIED:20250417T174037Z
UID:10007464-1749542400-1749553200@driveshops.com
SUMMARY:Developing Shop Playbooks Day 1 of 5
DESCRIPTION:
URL:https://driveshops.com/events/developing-shop-playbooks-day-1-of-5-5/
LOCATION:Online
CATEGORIES:Developing Shop Playbooks,Workshop
END:VEVENT
BEGIN:VEVENT
DTSTART;TZID=UTC:20250610T080000
DTEND;TZID=UTC:20250610T110000
DTSTAMP:20260424T053638
CREATED:20250127T180009Z
LAST-MODIFIED:20250417T175824Z
UID:10007469-1749542400-1749553200@driveshops.com
SUMMARY:Power of Trust Day 1 of 3
DESCRIPTION:
URL:https://driveshops.com/events/power-of-trust-day-1-of-3-2/
LOCATION:Online
CATEGORIES:The Power of Trust,Workshop
END:VEVENT
BEGIN:VEVENT
DTSTART;TZID=UTC:20250610T080000
DTEND;TZID=UTC:20250610T110000
DTSTAMP:20260424T053638
CREATED:20250313T125901Z
LAST-MODIFIED:20250417T181445Z
UID:10007472-1749542400-1749553200@driveshops.com
SUMMARY:Employee Benefit Solutions Day 1 of 3
DESCRIPTION:
URL:https://driveshops.com/events/employee-benefit-solutions-day-1-of-3/
LOCATION:Online
CATEGORIES:Employee Benefit Solutions,Workshop
END:VEVENT
BEGIN:VEVENT
DTSTART;TZID=UTC:20250610T080000
DTEND;TZID=UTC:20250610T110000
DTSTAMP:20260424T053638
CREATED:20250417T165536Z
LAST-MODIFIED:20250417T165536Z
UID:10007511-1749542400-1749553200@driveshops.com
SUMMARY:Fundamentals of Wealth Day 1 of 5
DESCRIPTION:
URL:https://driveshops.com/events/fundamentals-of-wealth-day-1-of-5-3/
LOCATION:Online
CATEGORIES:Fundamentals of Wealth,Workshop
END:VEVENT
BEGIN:VEVENT
DTSTART;TZID=UTC:20250611T080000
DTEND;TZID=UTC:20250611T110000
DTSTAMP:20260424T053638
CREATED:20241223T143944Z
LAST-MODIFIED:20250417T165458Z
UID:10007332-1749628800-1749639600@driveshops.com
SUMMARY:Fundamentals of Wealth Day 2 of 5
DESCRIPTION:
URL:https://driveshops.com/events/fundamentals-of-wealth-day-2-of-4/
LOCATION:Online
CATEGORIES:Fundamentals of Wealth,Workshop
END:VEVENT
BEGIN:VEVENT
DTSTART;TZID=UTC:20250611T080000
DTEND;TZID=UTC:20250611T110000
DTSTAMP:20260424T053638
CREATED:20250127T174819Z
LAST-MODIFIED:20250127T174819Z
UID:10007453-1749628800-1749639600@driveshops.com
SUMMARY:How to Read and Use Financial Statements Day 5 of 6
DESCRIPTION:
URL:https://driveshops.com/events/how-to-read-and-use-financial-statements-day-5-of-6-4/
LOCATION:Online
CATEGORIES:How to Read and Use Financial Statements,Workshop
END:VEVENT
BEGIN:VEVENT
DTSTART;TZID=America/Los_Angeles:20250611T080000
DTEND;TZID=America/Los_Angeles:20250611T110000
DTSTAMP:20260424T053638
CREATED:20250127T175437Z
LAST-MODIFIED:20250415T185311Z
UID:10007463-1749628800-1749639600@driveshops.com
SUMMARY:Master and Control The Front of Your Shop Day 5 of 5
DESCRIPTION:
URL:https://driveshops.com/events/controlling-the-front-for-collision-shops-day-5-of-5-3/
LOCATION:Online
CATEGORIES:Master and Control the Front of Your Shop,Workshop
ATTACH;FMTTYPE=image/png:https://driveshops.com/wp-content/uploads/2019/04/screen-shot-2019-05-21-at-10.29.28-am-e1558471305153.png
END:VEVENT
BEGIN:VEVENT
DTSTART;TZID=America/Denver:20250611T080000
DTEND;TZID=America/Denver:20250611T110000
DTSTAMP:20260424T053638
CREATED:20250127T175736Z
LAST-MODIFIED:20250417T174046Z
UID:10007465-1749628800-1749639600@driveshops.com
SUMMARY:Developing Shop Playbooks Day 2 of 5
DESCRIPTION:
URL:https://driveshops.com/events/developing-shop-playbooks-day-2-of-5-5/
LOCATION:Online
CATEGORIES:Developing Shop Playbooks,Workshop
END:VEVENT
BEGIN:VEVENT
DTSTART;TZID=UTC:20250611T080000
DTEND;TZID=UTC:20250611T110000
DTSTAMP:20260424T053638
CREATED:20250127T180026Z
LAST-MODIFIED:20250417T175833Z
UID:10007470-1749628800-1749639600@driveshops.com
SUMMARY:Power of Trust Day 2 of 3
DESCRIPTION:
URL:https://driveshops.com/events/power-of-trust-day-2-of-3-2/
LOCATION:Online
CATEGORIES:The Power of Trust,Workshop
END:VEVENT
BEGIN:VEVENT
DTSTART;TZID=UTC:20250611T080000
DTEND;TZID=UTC:20250611T110000
DTSTAMP:20260424T053638
CREATED:20250313T130010Z
LAST-MODIFIED:20250417T181541Z
UID:10007473-1749628800-1749639600@driveshops.com
SUMMARY:Employee Benefit Solutions Day 2 of 3
DESCRIPTION:
URL:https://driveshops.com/events/employee-benefit-solutions-day-2-of-3/
LOCATION:Online
CATEGORIES:Employee Benefit Solutions,Workshop
END:VEVENT
BEGIN:VEVENT
DTSTART;TZID=UTC:20250612T080000
DTEND;TZID=UTC:20250612T110000
DTSTAMP:20260424T053638
CREATED:20241223T144023Z
LAST-MODIFIED:20250417T165507Z
UID:10007333-1749715200-1749726000@driveshops.com
SUMMARY:Fundamentals of Wealth Day 3 of 5
DESCRIPTION:
URL:https://driveshops.com/events/fundamentals-of-wealth-day-3-of-5/
LOCATION:Online
CATEGORIES:Fundamentals of Wealth,Workshop
END:VEVENT
BEGIN:VEVENT
DTSTART;TZID=UTC:20250612T080000
DTEND;TZID=UTC:20250612T110000
DTSTAMP:20260424T053638
CREATED:20250127T174831Z
LAST-MODIFIED:20250318T185301Z
UID:10007454-1749715200-1749726000@driveshops.com
SUMMARY:How to Read and Use Financial Statements Day 6 of 6
DESCRIPTION:
URL:https://driveshops.com/events/how-to-read-and-use-financial-statements-day-6-of-6-4/
LOCATION:Online
CATEGORIES:How to Read and Use Financial Statements,Workshop
END:VEVENT
END:VCALENDAR