BEGIN:VCALENDAR
VERSION:2.0
PRODID:-//DRIVE - ECPv6.15.18//NONSGML v1.0//EN
CALSCALE:GREGORIAN
METHOD:PUBLISH
X-ORIGINAL-URL:https://driveshops.com
X-WR-CALDESC:Events for DRIVE
REFRESH-INTERVAL;VALUE=DURATION:PT1H
X-Robots-Tag:noindex
X-PUBLISHED-TTL:PT1H
BEGIN:VTIMEZONE
TZID:America/Los_Angeles
BEGIN:DAYLIGHT
TZOFFSETFROM:-0800
TZOFFSETTO:-0700
TZNAME:PDT
DTSTART:20250309T100000
END:DAYLIGHT
BEGIN:STANDARD
TZOFFSETFROM:-0700
TZOFFSETTO:-0800
TZNAME:PST
DTSTART:20251102T090000
END:STANDARD
BEGIN:DAYLIGHT
TZOFFSETFROM:-0800
TZOFFSETTO:-0700
TZNAME:PDT
DTSTART:20260308T100000
END:DAYLIGHT
BEGIN:STANDARD
TZOFFSETFROM:-0700
TZOFFSETTO:-0800
TZNAME:PST
DTSTART:20261101T090000
END:STANDARD
BEGIN:DAYLIGHT
TZOFFSETFROM:-0800
TZOFFSETTO:-0700
TZNAME:PDT
DTSTART:20270314T100000
END:DAYLIGHT
BEGIN:STANDARD
TZOFFSETFROM:-0700
TZOFFSETTO:-0800
TZNAME:PST
DTSTART:20271107T090000
END:STANDARD
END:VTIMEZONE
BEGIN:VTIMEZONE
TZID:America/Los_Angeles
BEGIN:DAYLIGHT
TZOFFSETFROM:-0800
TZOFFSETTO:-0700
TZNAME:PDT
DTSTART:20250309T100000
END:DAYLIGHT
BEGIN:STANDARD
TZOFFSETFROM:-0700
TZOFFSETTO:-0800
TZNAME:PST
DTSTART:20251102T090000
END:STANDARD
BEGIN:DAYLIGHT
TZOFFSETFROM:-0800
TZOFFSETTO:-0700
TZNAME:PDT
DTSTART:20260308T100000
END:DAYLIGHT
BEGIN:STANDARD
TZOFFSETFROM:-0700
TZOFFSETTO:-0800
TZNAME:PST
DTSTART:20261101T090000
END:STANDARD
BEGIN:DAYLIGHT
TZOFFSETFROM:-0800
TZOFFSETTO:-0700
TZNAME:PDT
DTSTART:20270314T100000
END:DAYLIGHT
BEGIN:STANDARD
TZOFFSETFROM:-0700
TZOFFSETTO:-0800
TZNAME:PST
DTSTART:20271107T090000
END:STANDARD
END:VTIMEZONE
BEGIN:VTIMEZONE
TZID:UTC
BEGIN:STANDARD
TZOFFSETFROM:+0000
TZOFFSETTO:+0000
TZNAME:UTC
DTSTART:20250101T000000
END:STANDARD
END:VTIMEZONE
BEGIN:VTIMEZONE
TZID:America/Denver
BEGIN:DAYLIGHT
TZOFFSETFROM:-0700
TZOFFSETTO:-0600
TZNAME:MDT
DTSTART:20250309T090000
END:DAYLIGHT
BEGIN:STANDARD
TZOFFSETFROM:-0600
TZOFFSETTO:-0700
TZNAME:MST
DTSTART:20251102T080000
END:STANDARD
BEGIN:DAYLIGHT
TZOFFSETFROM:-0700
TZOFFSETTO:-0600
TZNAME:MDT
DTSTART:20260308T090000
END:DAYLIGHT
BEGIN:STANDARD
TZOFFSETFROM:-0600
TZOFFSETTO:-0700
TZNAME:MST
DTSTART:20261101T080000
END:STANDARD
BEGIN:DAYLIGHT
TZOFFSETFROM:-0700
TZOFFSETTO:-0600
TZNAME:MDT
DTSTART:20270314T090000
END:DAYLIGHT
BEGIN:STANDARD
TZOFFSETFROM:-0600
TZOFFSETTO:-0700
TZNAME:MST
DTSTART:20271107T080000
END:STANDARD
END:VTIMEZONE
BEGIN:VEVENT
DTSTART;TZID=America/Los_Angeles:20260707T080000
DTEND;TZID=America/Los_Angeles:20260707T110000
DTSTAMP:20260423T162029
CREATED:20260226T162831Z
LAST-MODIFIED:20260226T162831Z
UID:10007732-1783411200-1783422000@driveshops.com
SUMMARY:Essentials of Shop Management  Day 1 of 6
DESCRIPTION:
URL:https://driveshops.com/events/essentials-of-shop-management-day-1-of-6-19/
LOCATION:Online
CATEGORIES:Essentials of Shop Management,Workshop
ATTACH;FMTTYPE=image/png:https://driveshops.com/wp-content/uploads/2019/04/screen-shot-2019-05-21-at-10.17.01-am-e1558471790866.png
END:VEVENT
BEGIN:VEVENT
DTSTART;TZID=America/Los_Angeles:20260707T080000
DTEND;TZID=America/Los_Angeles:20260707T110000
DTSTAMP:20260423T162029
CREATED:20260309T212505Z
LAST-MODIFIED:20260309T212505Z
UID:10008001-1783411200-1783422000@driveshops.com
SUMMARY:Keys To Understanding Your Financial Reports Day 1 of 3
DESCRIPTION:
URL:https://driveshops.com/events/keys-to-understanding-your-financial-reports-day-1-of-3-3/
LOCATION:DRIVE HQ\, 324 S Myrtle Ave\, Monrovia\, CA\, 91016\, United States
CATEGORIES:The Key to Understanding Your Financial Reports,Workshop
END:VEVENT
BEGIN:VEVENT
DTSTART;TZID=America/Los_Angeles:20260708T080000
DTEND;TZID=America/Los_Angeles:20260708T110000
DTSTAMP:20260423T162029
CREATED:20260226T160658Z
LAST-MODIFIED:20260226T161628Z
UID:10007731-1783497600-1783508400@driveshops.com
SUMMARY:Essentials of Shop Management  Day 2 of 6
DESCRIPTION:
URL:https://driveshops.com/events/essentials-of-shop-management-day-6-of-6-15/
LOCATION:Online
CATEGORIES:Essentials of Shop Management,Workshop
ATTACH;FMTTYPE=image/png:https://driveshops.com/wp-content/uploads/2019/04/screen-shot-2019-05-21-at-10.17.01-am-e1558471790866.png
END:VEVENT
BEGIN:VEVENT
DTSTART;TZID=America/Los_Angeles:20260708T080000
DTEND;TZID=America/Los_Angeles:20260708T110000
DTSTAMP:20260423T162029
CREATED:20260309T212520Z
LAST-MODIFIED:20260309T212520Z
UID:10008002-1783497600-1783508400@driveshops.com
SUMMARY:Keys To Understanding Your Financial Reports Day 2 of 3
DESCRIPTION:
URL:https://driveshops.com/events/keys-to-understanding-your-financial-reports-day-2-of-3-3/
LOCATION:DRIVE HQ\, 324 S Myrtle Ave\, Monrovia\, CA\, 91016\, United States
CATEGORIES:The Key to Understanding Your Financial Reports,Workshop
END:VEVENT
BEGIN:VEVENT
DTSTART;TZID=America/Los_Angeles:20260709T080000
DTEND;TZID=America/Los_Angeles:20260709T110000
DTSTAMP:20260423T162029
CREATED:20260226T162843Z
LAST-MODIFIED:20260226T162843Z
UID:10007733-1783584000-1783594800@driveshops.com
SUMMARY:Essentials of Shop Management  Day 3 of 6
DESCRIPTION:
URL:https://driveshops.com/events/essentials-of-shop-management-day-3-of-6-17/
LOCATION:Online
CATEGORIES:Essentials of Shop Management,Workshop
ATTACH;FMTTYPE=image/png:https://driveshops.com/wp-content/uploads/2019/04/screen-shot-2019-05-21-at-10.17.01-am-e1558471790866.png
END:VEVENT
BEGIN:VEVENT
DTSTART;TZID=America/Los_Angeles:20260709T080000
DTEND;TZID=America/Los_Angeles:20260709T110000
DTSTAMP:20260423T162029
CREATED:20260309T212532Z
LAST-MODIFIED:20260309T212532Z
UID:10008003-1783584000-1783594800@driveshops.com
SUMMARY:Keys To Understanding Your Financial Reports Day 3 of 3
DESCRIPTION:
URL:https://driveshops.com/events/keys-to-understanding-your-financial-reports-day-3-of-3-3/
LOCATION:DRIVE HQ\, 324 S Myrtle Ave\, Monrovia\, CA\, 91016\, United States
CATEGORIES:The Key to Understanding Your Financial Reports,Workshop
END:VEVENT
BEGIN:VEVENT
DTSTART;TZID=America/Los_Angeles:20260714T080000
DTEND;TZID=America/Los_Angeles:20260714T080000
DTSTAMP:20260423T162029
CREATED:20260302T185455Z
LAST-MODIFIED:20260302T185455Z
UID:10007952-1784016000-1784016000@driveshops.com
SUMMARY:Employee Benefits Solutions for Shops Day 1 of 3
DESCRIPTION:
URL:https://driveshops.com/events/employee-benefits-solutions-for-shops-day-1-of-3/
LOCATION:CA
CATEGORIES:Employee Benefit Solutions
END:VEVENT
BEGIN:VEVENT
DTSTART;TZID=America/Los_Angeles:20260714T080000
DTEND;TZID=America/Los_Angeles:20260714T110000
DTSTAMP:20260423T162029
CREATED:20260226T161006Z
LAST-MODIFIED:20260226T161736Z
UID:10007729-1784016000-1784026800@driveshops.com
SUMMARY:Essentials of Shop Management  Day 4 of 6
DESCRIPTION:
URL:https://driveshops.com/events/essentials-of-shop-management-day-4-of-6-17/
LOCATION:Online
CATEGORIES:Essentials of Shop Management,Workshop
ATTACH;FMTTYPE=image/png:https://driveshops.com/wp-content/uploads/2019/04/screen-shot-2019-05-21-at-10.17.01-am-e1558471790866.png
END:VEVENT
BEGIN:VEVENT
DTSTART;TZID=America/Los_Angeles:20260714T080000
DTEND;TZID=America/Los_Angeles:20260714T110000
DTSTAMP:20260423T162029
CREATED:20260227T142625Z
LAST-MODIFIED:20260227T142625Z
UID:10007776-1784016000-1784026800@driveshops.com
SUMMARY:Professional Service Advisor Sales Day 1 of 6
DESCRIPTION:
URL:https://driveshops.com/events/professional-service-advisor-sales-day-1-of-6-12/
LOCATION:Online
CATEGORIES:Professional Service Advisor Sales,Workshop
END:VEVENT
BEGIN:VEVENT
DTSTART;TZID=America/Los_Angeles:20260714T080000
DTEND;TZID=America/Los_Angeles:20260714T110000
DTSTAMP:20260423T162029
CREATED:20260227T154251Z
LAST-MODIFIED:20260227T154251Z
UID:10007841-1784016000-1784026800@driveshops.com
SUMMARY:Building Your Dream Team Day 1 of 5
DESCRIPTION:
URL:https://driveshops.com/events/building-your-dream-team-day-1-of-5-9/
LOCATION:Online
CATEGORIES:Building Your Dream Team
END:VEVENT
BEGIN:VEVENT
DTSTART;TZID=America/Los_Angeles:20260715T080000
DTEND;TZID=America/Los_Angeles:20260715T080000
DTSTAMP:20260423T162029
CREATED:20260302T185630Z
LAST-MODIFIED:20260302T185630Z
UID:10007953-1784102400-1784102400@driveshops.com
SUMMARY:Employee Benefits Solutions for Shops Day 2 of 3
DESCRIPTION:
URL:https://driveshops.com/events/employee-benefits-solutions-for-shops-day-2-of-3/
LOCATION:CA
CATEGORIES:Employee Benefit Solutions
END:VEVENT
BEGIN:VEVENT
DTSTART;TZID=America/Los_Angeles:20260715T080000
DTEND;TZID=America/Los_Angeles:20260715T110000
DTSTAMP:20260423T162029
CREATED:20260226T161302Z
LAST-MODIFIED:20260226T161450Z
UID:10007730-1784102400-1784113200@driveshops.com
SUMMARY:Essentials of Shop Management  Day 5 of 6
DESCRIPTION:
URL:https://driveshops.com/events/essentials-of-shop-management-day-5-of-6-18/
LOCATION:Online
CATEGORIES:Essentials of Shop Management,Workshop
ATTACH;FMTTYPE=image/png:https://driveshops.com/wp-content/uploads/2019/04/screen-shot-2019-05-21-at-10.17.01-am-e1558471790866.png
END:VEVENT
BEGIN:VEVENT
DTSTART;TZID=America/Los_Angeles:20260715T080000
DTEND;TZID=America/Los_Angeles:20260715T110000
DTSTAMP:20260423T162029
CREATED:20260227T142633Z
LAST-MODIFIED:20260227T142633Z
UID:10007777-1784102400-1784113200@driveshops.com
SUMMARY:Professional Service Advisor Sales Day 2 of 6
DESCRIPTION:
URL:https://driveshops.com/events/professional-service-advisor-sales-day-2-of-6-12/
LOCATION:Online
CATEGORIES:Professional Service Advisor Sales,Workshop
END:VEVENT
BEGIN:VEVENT
DTSTART;TZID=America/Los_Angeles:20260715T080000
DTEND;TZID=America/Los_Angeles:20260715T110000
DTSTAMP:20260423T162029
CREATED:20260227T154258Z
LAST-MODIFIED:20260227T154258Z
UID:10007842-1784102400-1784113200@driveshops.com
SUMMARY:Building Your Dream Team Day 2 of 5
DESCRIPTION:
URL:https://driveshops.com/events/building-your-dream-team-day-2-of-5-9/
LOCATION:Online
CATEGORIES:Building Your Dream Team
END:VEVENT
BEGIN:VEVENT
DTSTART;TZID=America/Los_Angeles:20260716T080000
DTEND;TZID=America/Los_Angeles:20260716T080000
DTSTAMP:20260423T162029
CREATED:20260302T185643Z
LAST-MODIFIED:20260302T190004Z
UID:10007954-1784188800-1784188800@driveshops.com
SUMMARY:Employee Benefits Solutions for Shops Day 3 of 3
DESCRIPTION:
URL:https://driveshops.com/events/employee-benefits-solutions-for-shops-day-3-of-3/
LOCATION:CA
CATEGORIES:Employee Benefit Solutions
END:VEVENT
BEGIN:VEVENT
DTSTART;TZID=America/Los_Angeles:20260716T080000
DTEND;TZID=America/Los_Angeles:20260716T110000
DTSTAMP:20260423T162029
CREATED:20260226T162902Z
LAST-MODIFIED:20260226T162902Z
UID:10007734-1784188800-1784199600@driveshops.com
SUMMARY:Essentials of Shop Management  Day 6 of 6
DESCRIPTION:
URL:https://driveshops.com/events/essentials-of-shop-management-day-6-of-6-16/
LOCATION:Online
CATEGORIES:Essentials of Shop Management,Workshop
ATTACH;FMTTYPE=image/png:https://driveshops.com/wp-content/uploads/2019/04/screen-shot-2019-05-21-at-10.17.01-am-e1558471790866.png
END:VEVENT
BEGIN:VEVENT
DTSTART;TZID=America/Los_Angeles:20260716T080000
DTEND;TZID=America/Los_Angeles:20260716T110000
DTSTAMP:20260423T162029
CREATED:20260227T142641Z
LAST-MODIFIED:20260227T142641Z
UID:10007778-1784188800-1784199600@driveshops.com
SUMMARY:Professional Service Advisor Sales Day 3 of 6
DESCRIPTION:
URL:https://driveshops.com/events/professional-service-advisor-sales-day-3-of-6-12/
LOCATION:Online
CATEGORIES:Professional Service Advisor Sales,Workshop
ATTACH;FMTTYPE=image/png:https://driveshops.com/wp-content/uploads/2019/04/screen-shot-2019-05-21-at-10.14.39-am-e1558470540769.png
END:VEVENT
BEGIN:VEVENT
DTSTART;TZID=America/Los_Angeles:20260716T080000
DTEND;TZID=America/Los_Angeles:20260716T110000
DTSTAMP:20260423T162029
CREATED:20260227T154305Z
LAST-MODIFIED:20260227T154305Z
UID:10007843-1784188800-1784199600@driveshops.com
SUMMARY:Building Your Dream Team Day 3 of 5
DESCRIPTION:
URL:https://driveshops.com/events/building-your-dream-team-day-3-of-5-9/
LOCATION:Online
CATEGORIES:Building Your Dream Team
END:VEVENT
BEGIN:VEVENT
DTSTART;TZID=UTC:20260721T080000
DTEND;TZID=UTC:20260721T110000
DTSTAMP:20260423T162029
CREATED:20260227T142650Z
LAST-MODIFIED:20260227T142650Z
UID:10007779-1784620800-1784631600@driveshops.com
SUMMARY:Professional Service Advisor Sales Day 4 of 6
DESCRIPTION:
URL:https://driveshops.com/events/professional-service-advisor-sales-day-4-of-6-12/
LOCATION:Online
CATEGORIES:Professional Service Advisor Sales,Workshop
END:VEVENT
BEGIN:VEVENT
DTSTART;TZID=America/Los_Angeles:20260721T080000
DTEND;TZID=America/Los_Angeles:20260721T110000
DTSTAMP:20260423T162029
CREATED:20260227T154315Z
LAST-MODIFIED:20260227T154315Z
UID:10007844-1784620800-1784631600@driveshops.com
SUMMARY:Building Your Dream Team Day 4 of 5
DESCRIPTION:
URL:https://driveshops.com/events/building-your-dream-team-day-4-of-5-9/
LOCATION:Online
CATEGORIES:Building Your Dream Team
END:VEVENT
BEGIN:VEVENT
DTSTART;TZID=UTC:20260721T080000
DTEND;TZID=UTC:20260721T110000
DTSTAMP:20260423T162029
CREATED:20260227T175159Z
LAST-MODIFIED:20260227T175159Z
UID:10007895-1784620800-1784631600@driveshops.com
SUMMARY:How to Train Your Team Day 1 of 3
DESCRIPTION:
URL:https://driveshops.com/events/how-to-train-your-team-day-1-of-3-4/
LOCATION:CA
CATEGORIES:How to Train Your Team,Workshop
ATTACH;FMTTYPE=image/png:https://driveshops.com/wp-content/uploads/2019/11/httyt_11.26.19-01.png
END:VEVENT
BEGIN:VEVENT
DTSTART;TZID=America/Los_Angeles:20260721T080000
DTEND;TZID=America/Los_Angeles:20260721T110000
DTSTAMP:20260423T162029
CREATED:20260227T175752Z
LAST-MODIFIED:20260227T175752Z
UID:10007906-1784620800-1784631600@driveshops.com
SUMMARY:Planning For Success Day 1 of 5
DESCRIPTION:
URL:https://driveshops.com/events/planning-for-success-day-1-of-5-9/
LOCATION:Online
CATEGORIES:Planning for Success,Workshop
END:VEVENT
BEGIN:VEVENT
DTSTART;TZID=America/Denver:20260721T080000
DTEND;TZID=America/Denver:20260721T110000
DTSTAMP:20260423T162029
CREATED:20260302T215638Z
LAST-MODIFIED:20260302T215638Z
UID:10007972-1784620800-1784631600@driveshops.com
SUMMARY:Developing Shop Playbooks Day 1 of 5
DESCRIPTION:
URL:https://driveshops.com/events/developing-shop-playbooks-day-1-of-5-8/
LOCATION:Online
CATEGORIES:Developing Shop Playbooks,Workshop
END:VEVENT
BEGIN:VEVENT
DTSTART;TZID=UTC:20260722T080000
DTEND;TZID=UTC:20260722T110000
DTSTAMP:20260423T162029
CREATED:20260227T142700Z
LAST-MODIFIED:20260227T142700Z
UID:10007780-1784707200-1784718000@driveshops.com
SUMMARY:Professional Service Advisor Sales Day 5 of 6
DESCRIPTION:
URL:https://driveshops.com/events/professional-service-advisor-sales-day-5-of-6-12/
LOCATION:Online
CATEGORIES:Professional Service Advisor Sales,Workshop
END:VEVENT
BEGIN:VEVENT
DTSTART;TZID=America/Los_Angeles:20260722T080000
DTEND;TZID=America/Los_Angeles:20260722T110000
DTSTAMP:20260423T162029
CREATED:20260227T154335Z
LAST-MODIFIED:20260227T154335Z
UID:10007845-1784707200-1784718000@driveshops.com
SUMMARY:Building Your Dream Team Day 5 of 5
DESCRIPTION:
URL:https://driveshops.com/events/building-your-dream-team-day-5-of-5-9/
LOCATION:Online
CATEGORIES:Building Your Dream Team
END:VEVENT
BEGIN:VEVENT
DTSTART;TZID=UTC:20260722T080000
DTEND;TZID=UTC:20260722T110000
DTSTAMP:20260423T162029
CREATED:20260227T175207Z
LAST-MODIFIED:20260227T175207Z
UID:10007896-1784707200-1784718000@driveshops.com
SUMMARY:How to Train Your Team Day 2 of 3
DESCRIPTION:
URL:https://driveshops.com/events/how-to-train-your-team-day-2-of-3-5/
LOCATION:CA
CATEGORIES:How to Train Your Team,Workshop
ATTACH;FMTTYPE=image/png:https://driveshops.com/wp-content/uploads/2019/11/httyt_11.26.19-01.png
END:VEVENT
BEGIN:VEVENT
DTSTART;TZID=America/Los_Angeles:20260722T080000
DTEND;TZID=America/Los_Angeles:20260722T110000
DTSTAMP:20260423T162029
CREATED:20260227T175800Z
LAST-MODIFIED:20260227T175800Z
UID:10007907-1784707200-1784718000@driveshops.com
SUMMARY:Planning For Success Day 2 of 5
DESCRIPTION:
URL:https://driveshops.com/events/planning-for-success-day-2-of-5-9/
LOCATION:Online
CATEGORIES:Planning for Success,Workshop
ATTACH;FMTTYPE=image/png:https://driveshops.com/wp-content/uploads/2019/04/screen-shot-2019-05-21-at-10.44.40-am-e1558471214538.png
END:VEVENT
BEGIN:VEVENT
DTSTART;TZID=America/Denver:20260722T080000
DTEND;TZID=America/Denver:20260722T110000
DTSTAMP:20260423T162029
CREATED:20260302T220435Z
LAST-MODIFIED:20260302T220435Z
UID:10007973-1784707200-1784718000@driveshops.com
SUMMARY:Developing Shop Playbooks Day 2 of 5
DESCRIPTION:
URL:https://driveshops.com/events/developing-shop-playbooks-day-2-of-5-8/
LOCATION:Online
CATEGORIES:Developing Shop Playbooks,Workshop
ATTACH;FMTTYPE=image/png:https://driveshops.com/wp-content/uploads/2019/09/screen-shot-2019-09-04-at-11.16.56-am.png
END:VEVENT
BEGIN:VEVENT
DTSTART;TZID=UTC:20260723T080000
DTEND;TZID=UTC:20260723T110000
DTSTAMP:20260423T162029
CREATED:20260227T142711Z
LAST-MODIFIED:20260227T142711Z
UID:10007781-1784793600-1784804400@driveshops.com
SUMMARY:Professional Service Advisor Sales Day 6 of 6
DESCRIPTION:
URL:https://driveshops.com/events/professional-service-advisor-sales-day-6-of-6-12/
LOCATION:Online
CATEGORIES:Professional Service Advisor Sales,Workshop
END:VEVENT
BEGIN:VEVENT
DTSTART;TZID=UTC:20260723T080000
DTEND;TZID=UTC:20260723T110000
DTSTAMP:20260423T162029
CREATED:20260227T175215Z
LAST-MODIFIED:20260227T175215Z
UID:10007897-1784793600-1784804400@driveshops.com
SUMMARY:How to Train Your Team Day 3 of 3
DESCRIPTION:
URL:https://driveshops.com/events/how-to-train-your-team-day-3-of-3-5/
LOCATION:CA
CATEGORIES:How to Train Your Team,Workshop
ATTACH;FMTTYPE=image/png:https://driveshops.com/wp-content/uploads/2019/11/httyt_11.26.19-01.png
END:VEVENT
END:VCALENDAR