BEGIN:VCALENDAR
VERSION:2.0
PRODID:-//DRIVE - ECPv6.15.18//NONSGML v1.0//EN
CALSCALE:GREGORIAN
METHOD:PUBLISH
X-WR-CALNAME:DRIVE
X-ORIGINAL-URL:https://driveshops.com
X-WR-CALDESC:Events for DRIVE
REFRESH-INTERVAL;VALUE=DURATION:PT1H
X-Robots-Tag:noindex
X-PUBLISHED-TTL:PT1H
BEGIN:VTIMEZONE
TZID:America/Los_Angeles
BEGIN:DAYLIGHT
TZOFFSETFROM:-0800
TZOFFSETTO:-0700
TZNAME:PDT
DTSTART:20240310T100000
END:DAYLIGHT
BEGIN:STANDARD
TZOFFSETFROM:-0700
TZOFFSETTO:-0800
TZNAME:PST
DTSTART:20241103T090000
END:STANDARD
BEGIN:DAYLIGHT
TZOFFSETFROM:-0800
TZOFFSETTO:-0700
TZNAME:PDT
DTSTART:20250309T100000
END:DAYLIGHT
BEGIN:STANDARD
TZOFFSETFROM:-0700
TZOFFSETTO:-0800
TZNAME:PST
DTSTART:20251102T090000
END:STANDARD
BEGIN:DAYLIGHT
TZOFFSETFROM:-0800
TZOFFSETTO:-0700
TZNAME:PDT
DTSTART:20260308T100000
END:DAYLIGHT
BEGIN:STANDARD
TZOFFSETFROM:-0700
TZOFFSETTO:-0800
TZNAME:PST
DTSTART:20261101T090000
END:STANDARD
END:VTIMEZONE
BEGIN:VTIMEZONE
TZID:UTC
BEGIN:STANDARD
TZOFFSETFROM:+0000
TZOFFSETTO:+0000
TZNAME:UTC
DTSTART:20240101T000000
END:STANDARD
END:VTIMEZONE
BEGIN:VTIMEZONE
TZID:America/Denver
BEGIN:DAYLIGHT
TZOFFSETFROM:-0700
TZOFFSETTO:-0600
TZNAME:MDT
DTSTART:20240310T090000
END:DAYLIGHT
BEGIN:STANDARD
TZOFFSETFROM:-0600
TZOFFSETTO:-0700
TZNAME:MST
DTSTART:20241103T080000
END:STANDARD
BEGIN:DAYLIGHT
TZOFFSETFROM:-0700
TZOFFSETTO:-0600
TZNAME:MDT
DTSTART:20250309T090000
END:DAYLIGHT
BEGIN:STANDARD
TZOFFSETFROM:-0600
TZOFFSETTO:-0700
TZNAME:MST
DTSTART:20251102T080000
END:STANDARD
BEGIN:DAYLIGHT
TZOFFSETFROM:-0700
TZOFFSETTO:-0600
TZNAME:MDT
DTSTART:20260308T090000
END:DAYLIGHT
BEGIN:STANDARD
TZOFFSETFROM:-0600
TZOFFSETTO:-0700
TZNAME:MST
DTSTART:20261101T080000
END:STANDARD
END:VTIMEZONE
BEGIN:VEVENT
DTSTART;TZID=America/Los_Angeles:20251015T080000
DTEND;TZID=America/Los_Angeles:20251015T110000
DTSTAMP:20260425T073034
CREATED:20250320T132623Z
LAST-MODIFIED:20250320T132623Z
UID:10007683-1760515200-1760526000@driveshops.com
SUMMARY:Getting Your Point Across Day 2 of 6
DESCRIPTION:
URL:https://driveshops.com/events/getting-your-point-across-day-2-of-6-3/
LOCATION:Online
CATEGORIES:Getting Your Point Across,Workshop
ORGANIZER;CN="Tony Wisler":MAILTO:scheduling@driveshops.com
END:VEVENT
BEGIN:VEVENT
DTSTART;TZID=America/Los_Angeles:20251015T080000
DTEND;TZID=America/Los_Angeles:20251015T110000
DTSTAMP:20260425T073034
CREATED:20250320T131805Z
LAST-MODIFIED:20250416T174828Z
UID:10007677-1760515200-1760526000@driveshops.com
SUMMARY:Essentials of Shop Management Day 2 of 6
DESCRIPTION:
URL:https://driveshops.com/events/essentials-of-shop-management-day-2-of-6-12/
LOCATION:Online
CATEGORIES:Essentials of Shop Management,Workshop
END:VEVENT
BEGIN:VEVENT
DTSTART;TZID=America/Los_Angeles:20251015T080000
DTEND;TZID=America/Los_Angeles:20251015T110000
DTSTAMP:20260425T073034
CREATED:20250319T173229Z
LAST-MODIFIED:20250416T174838Z
UID:10007546-1760515200-1760526000@driveshops.com
SUMMARY:Succession & Exit Planning Day 2 of 5
DESCRIPTION:
URL:https://driveshops.com/events/succession-exit-planning-day-2-of-5-2/
LOCATION:Online
CATEGORIES:Succession & Exit Planning,Workshop
END:VEVENT
BEGIN:VEVENT
DTSTART;TZID=America/Los_Angeles:20251015T080000
DTEND;TZID=America/Los_Angeles:20251015T110000
DTSTAMP:20260425T073034
CREATED:20250318T185521Z
LAST-MODIFIED:20250416T174850Z
UID:10007506-1760515200-1760526000@driveshops.com
SUMMARY:How to Read and Use Financial Statements Day 2 of 6
DESCRIPTION:
URL:https://driveshops.com/events/how-to-read-and-use-financial-statements-day-2-of-6-5/
LOCATION:Online
CATEGORIES:How to Read and Use Financial Statements,Workshop
END:VEVENT
BEGIN:VEVENT
DTSTART;TZID=America/Los_Angeles:20251015T080000
DTEND;TZID=America/Los_Angeles:20251015T110000
DTSTAMP:20260425T073034
CREATED:20250318T182640Z
LAST-MODIFIED:20250416T174900Z
UID:10007484-1760515200-1760526000@driveshops.com
SUMMARY:Master and Control The Front of Your Shop Day 2 of 5
DESCRIPTION:
URL:https://driveshops.com/events/controlling-the-front-day-2-of-5-6/
LOCATION:Online
CATEGORIES:Master and Control the Front of Your Shop,Workshop
END:VEVENT
BEGIN:VEVENT
DTSTART;TZID=America/Los_Angeles:20251014T080000
DTEND;TZID=America/Los_Angeles:20251014T110000
DTSTAMP:20260425T073034
CREATED:20250320T133138Z
LAST-MODIFIED:20250320T133138Z
UID:10007692-1760428800-1760439600@driveshops.com
SUMMARY:Marketing Your Shop Day 1 of 4
DESCRIPTION:
URL:https://driveshops.com/events/marketing-your-shop-day-1-of-4-4/
LOCATION:Online
CATEGORIES:Marketing Your Shop
END:VEVENT
BEGIN:VEVENT
DTSTART;TZID=America/Los_Angeles:20251014T080000
DTEND;TZID=America/Los_Angeles:20251014T110000
DTSTAMP:20260425T073034
CREATED:20250320T132613Z
LAST-MODIFIED:20250320T132613Z
UID:10007682-1760428800-1760439600@driveshops.com
SUMMARY:Getting Your Point Across Day 1 of 6
DESCRIPTION:
URL:https://driveshops.com/events/getting-your-point-across-day-1-of-6-3/
LOCATION:Online
CATEGORIES:Getting Your Point Across,Workshop
ORGANIZER;CN="Tony Wisler":MAILTO:scheduling@driveshops.com
END:VEVENT
BEGIN:VEVENT
DTSTART;TZID=America/Los_Angeles:20251014T080000
DTEND;TZID=America/Los_Angeles:20251014T110000
DTSTAMP:20260425T073034
CREATED:20250320T131753Z
LAST-MODIFIED:20250320T131753Z
UID:10007676-1760428800-1760439600@driveshops.com
SUMMARY:Essentials of Shop Management  Day 1 of 6
DESCRIPTION:
URL:https://driveshops.com/events/essentials-of-shop-management-day-1-of-6-12/
LOCATION:Online
CATEGORIES:Essentials of Shop Management,Workshop
ATTACH;FMTTYPE=image/png:https://driveshops.com/wp-content/uploads/2019/04/screen-shot-2019-05-21-at-10.17.01-am-e1558471790866.png
END:VEVENT
BEGIN:VEVENT
DTSTART;TZID=America/Los_Angeles:20251014T080000
DTEND;TZID=America/Los_Angeles:20251014T110000
DTSTAMP:20260425T073034
CREATED:20250319T173218Z
LAST-MODIFIED:20250319T173218Z
UID:10007545-1760428800-1760439600@driveshops.com
SUMMARY:Succession & Exit Planning Day 1 of 5
DESCRIPTION:
URL:https://driveshops.com/events/succession-exit-planning-day-1-of-5-2/
LOCATION:Online
CATEGORIES:Succession & Exit Planning,Workshop
ATTACH;FMTTYPE=image/png:https://driveshops.com/wp-content/uploads/2019/04/screen-shot-2019-05-21-at-10.36.20-am-e1558471267564.png
END:VEVENT
BEGIN:VEVENT
DTSTART;TZID=America/Los_Angeles:20251014T080000
DTEND;TZID=America/Los_Angeles:20251014T110000
DTSTAMP:20260425T073034
CREATED:20250318T185505Z
LAST-MODIFIED:20250318T185505Z
UID:10007505-1760428800-1760439600@driveshops.com
SUMMARY:How to Read and Use Financial Statements Day 1 of 6
DESCRIPTION:
URL:https://driveshops.com/events/how-to-read-and-use-financial-statements-day-1-of-6-5/
LOCATION:Online
CATEGORIES:How to Read and Use Financial Statements,Workshop
END:VEVENT
BEGIN:VEVENT
DTSTART;TZID=America/Los_Angeles:20251014T080000
DTEND;TZID=America/Los_Angeles:20251014T110000
DTSTAMP:20260425T073034
CREATED:20250318T184339Z
LAST-MODIFIED:20250318T184339Z
UID:10007497-1760428800-1760439600@driveshops.com
SUMMARY:How to Increase Your Profits Day 1 of 4
DESCRIPTION:
URL:https://driveshops.com/events/how-to-increase-your-profits-day-1-of-4-8/
LOCATION:Online
CATEGORIES:How To Increase Your Profits,Workshop
ATTACH;FMTTYPE=image/png:https://driveshops.com/wp-content/uploads/2019/04/screen-shot-2019-05-21-at-10.25.56-am-e1558471321731.png
END:VEVENT
BEGIN:VEVENT
DTSTART;TZID=America/Los_Angeles:20251014T080000
DTEND;TZID=America/Los_Angeles:20251014T110000
DTSTAMP:20260425T073034
CREATED:20250318T182628Z
LAST-MODIFIED:20250415T190144Z
UID:10007483-1760428800-1760439600@driveshops.com
SUMMARY:Master and Control The Front of Your Shop Day 1 of 5
DESCRIPTION:
URL:https://driveshops.com/events/controlling-the-front-day-1-of-5-6/
LOCATION:Online
CATEGORIES:Master and Control the Front of Your Shop,Workshop
ATTACH;FMTTYPE=image/png:https://driveshops.com/wp-content/uploads/2019/04/screen-shot-2019-05-21-at-10.29.28-am-e1558471305153.png
END:VEVENT
BEGIN:VEVENT
DTSTART;TZID=UTC:20251002T080000
DTEND;TZID=UTC:20251002T110000
DTSTAMP:20260425T073034
CREATED:20250320T130532Z
LAST-MODIFIED:20250417T175911Z
UID:10007675-1759392000-1759402800@driveshops.com
SUMMARY:Power of Trust Day 3 of 3
DESCRIPTION:
URL:https://driveshops.com/events/power-of-trust-day-3-of-3-3/
LOCATION:Online
CATEGORIES:The Power of Trust,Workshop
END:VEVENT
BEGIN:VEVENT
DTSTART;TZID=UTC:20251002T080000
DTEND;TZID=UTC:20251002T110000
DTSTAMP:20260425T073034
CREATED:20250319T184534Z
LAST-MODIFIED:20250319T184534Z
UID:10007600-1759392000-1759402800@driveshops.com
SUMMARY:Professional Service Advisor Sales Day 6 of 6
DESCRIPTION:
URL:https://driveshops.com/events/professional-service-advisor-sales-day-6-of-6-8/
LOCATION:Online
CATEGORIES:Professional Service Advisor Sales,Workshop
ATTACH;FMTTYPE=image/png:https://driveshops.com/wp-content/uploads/2019/04/screen-shot-2019-05-21-at-10.14.39-am-e1558470540769.png
END:VEVENT
BEGIN:VEVENT
DTSTART;TZID=America/Los_Angeles:20251002T080000
DTEND;TZID=America/Los_Angeles:20251002T110000
DTSTAMP:20260425T073034
CREATED:20250319T183520Z
LAST-MODIFIED:20250319T183520Z
UID:10007582-1759392000-1759402800@driveshops.com
SUMMARY:Essentials of Shop Management Day 6 of 6
DESCRIPTION:
URL:https://driveshops.com/events/essentials-of-shop-management-day-6-of-6-9/
LOCATION:Online
CATEGORIES:Essentials of Shop Management,Workshop
ATTACH;FMTTYPE=image/png:https://driveshops.com/wp-content/uploads/2019/04/screen-shot-2019-05-21-at-10.17.01-am-e1558471790866.png
END:VEVENT
BEGIN:VEVENT
DTSTART;TZID=America/Los_Angeles:20251002T080000
DTEND;TZID=America/Los_Angeles:20251002T110000
DTSTAMP:20260425T073034
CREATED:20250318T205550Z
LAST-MODIFIED:20250318T205550Z
UID:10007541-1759392000-1759402800@driveshops.com
SUMMARY:Managing an Effective Bookkeeping Area Day 6 of 6
DESCRIPTION:
URL:https://driveshops.com/events/managing-an-effective-bookkeeping-area-day-6-of-6-4/
LOCATION:Online
CATEGORIES:Managing an Effective Bookkeeping Area,Workshop
END:VEVENT
BEGIN:VEVENT
DTSTART;TZID=UTC:20251001T080000
DTEND;TZID=UTC:20251001T110000
DTSTAMP:20260425T073034
CREATED:20250320T130522Z
LAST-MODIFIED:20250417T175901Z
UID:10007674-1759305600-1759316400@driveshops.com
SUMMARY:Power of Trust Day 2 of 3
DESCRIPTION:
URL:https://driveshops.com/events/power-of-trust-day-2-of-3-3/
LOCATION:Online
CATEGORIES:The Power of Trust,Workshop
END:VEVENT
BEGIN:VEVENT
DTSTART;TZID=America/Los_Angeles:20251001T080000
DTEND;TZID=America/Los_Angeles:20251001T110000
DTSTAMP:20260425T073034
CREATED:20250319T185648Z
LAST-MODIFIED:20250319T185648Z
UID:10007616-1759305600-1759316400@driveshops.com
SUMMARY:Building Your Dream Team Day 5 of 5
DESCRIPTION:
URL:https://driveshops.com/events/building-your-dream-team-day-5-of-5-5/
LOCATION:Online
CATEGORIES:Building Your Dream Team
ATTACH;FMTTYPE=image/png:https://driveshops.com/wp-content/uploads/2019/03/screen-shot-2019-05-20-at-12.10.22-pm-e1558471852915.png
END:VEVENT
BEGIN:VEVENT
DTSTART;TZID=UTC:20251001T080000
DTEND;TZID=UTC:20251001T110000
DTSTAMP:20260425T073034
CREATED:20250319T184523Z
LAST-MODIFIED:20250319T184523Z
UID:10007599-1759305600-1759316400@driveshops.com
SUMMARY:Professional Service Advisor Sales Day 5 of 6
DESCRIPTION:
URL:https://driveshops.com/events/professional-service-advisor-sales-day-5-of-6-8/
LOCATION:Online
CATEGORIES:Professional Service Advisor Sales,Workshop
ATTACH;FMTTYPE=image/png:https://driveshops.com/wp-content/uploads/2019/04/screen-shot-2019-05-21-at-10.14.39-am-e1558470540769.png
END:VEVENT
BEGIN:VEVENT
DTSTART;TZID=America/Los_Angeles:20251001T080000
DTEND;TZID=America/Los_Angeles:20251001T110000
DTSTAMP:20260425T073034
CREATED:20250319T183510Z
LAST-MODIFIED:20250319T183510Z
UID:10007581-1759305600-1759316400@driveshops.com
SUMMARY:Essentials of Shop Management Day 5 of 6
DESCRIPTION:
URL:https://driveshops.com/events/essentials-of-shop-management-day-5-of-6-10/
CATEGORIES:Essentials of Shop Management,Workshop
ATTACH;FMTTYPE=image/png:https://driveshops.com/wp-content/uploads/2019/04/screen-shot-2019-05-21-at-10.17.01-am-e1558471790866.png
END:VEVENT
BEGIN:VEVENT
DTSTART;TZID=America/Los_Angeles:20251001T080000
DTEND;TZID=America/Los_Angeles:20251001T110000
DTSTAMP:20260425T073034
CREATED:20250318T205539Z
LAST-MODIFIED:20250318T205539Z
UID:10007540-1759305600-1759316400@driveshops.com
SUMMARY:Managing an Effective Bookkeeping Area Day 5 of 6
DESCRIPTION:
URL:https://driveshops.com/events/managing-an-effective-bookkeeping-area-day-5-of-6-4/
CATEGORIES:Managing an Effective Bookkeeping Area,Workshop
END:VEVENT
BEGIN:VEVENT
DTSTART;TZID=America/Denver:20251001T080000
DTEND;TZID=America/Denver:20251001T110000
DTSTAMP:20260425T073034
CREATED:20250318T191904Z
LAST-MODIFIED:20250318T191904Z
UID:10007524-1759305600-1759316400@driveshops.com
SUMMARY:Developing Shop Playbooks Day 5 of 5
DESCRIPTION:
URL:https://driveshops.com/events/developing-shop-playbooks-day-5-of-5-6/
LOCATION:Online
CATEGORIES:Developing Shop Playbooks,Workshop
ATTACH;FMTTYPE=image/png:https://driveshops.com/wp-content/uploads/2019/09/screen-shot-2019-09-04-at-11.16.56-am.png
END:VEVENT
BEGIN:VEVENT
DTSTART;TZID=UTC:20250930T080000
DTEND;TZID=UTC:20250930T110000
DTSTAMP:20260425T073034
CREATED:20250320T130508Z
LAST-MODIFIED:20250417T175851Z
UID:10007673-1759219200-1759230000@driveshops.com
SUMMARY:Power of Trust Day 1 of 3
DESCRIPTION:
URL:https://driveshops.com/events/power-of-trust-day-1-of-3-3/
LOCATION:Online
CATEGORIES:The Power of Trust,Workshop
END:VEVENT
BEGIN:VEVENT
DTSTART;TZID=America/Los_Angeles:20250930T080000
DTEND;TZID=America/Los_Angeles:20250930T110000
DTSTAMP:20260425T073034
CREATED:20250319T185637Z
LAST-MODIFIED:20250319T185637Z
UID:10007615-1759219200-1759230000@driveshops.com
SUMMARY:Building Your Dream Team Day 4 of 5
DESCRIPTION:
URL:https://driveshops.com/events/building-your-dream-team-day-4-of-5-5/
LOCATION:Online
CATEGORIES:Building Your Dream Team
ATTACH;FMTTYPE=image/png:https://driveshops.com/wp-content/uploads/2019/03/screen-shot-2019-05-20-at-12.10.22-pm-e1558471852915.png
END:VEVENT
BEGIN:VEVENT
DTSTART;TZID=UTC:20250930T080000
DTEND;TZID=UTC:20250930T110000
DTSTAMP:20260425T073034
CREATED:20250319T184512Z
LAST-MODIFIED:20250319T184512Z
UID:10007598-1759219200-1759230000@driveshops.com
SUMMARY:Professional Service Advisor Sales Day 4 of 6
DESCRIPTION:
URL:https://driveshops.com/events/professional-service-advisor-sales-day-4-of-6-8/
LOCATION:Online
CATEGORIES:Professional Service Advisor Sales,Workshop
ATTACH;FMTTYPE=image/png:https://driveshops.com/wp-content/uploads/2019/04/screen-shot-2019-05-21-at-10.14.39-am-e1558470540769.png
END:VEVENT
BEGIN:VEVENT
DTSTART;TZID=America/Los_Angeles:20250930T080000
DTEND;TZID=America/Los_Angeles:20250930T110000
DTSTAMP:20260425T073034
CREATED:20250319T183500Z
LAST-MODIFIED:20250319T183500Z
UID:10007580-1759219200-1759230000@driveshops.com
SUMMARY:Essentials of Shop Management Day 4 of 6
DESCRIPTION:
URL:https://driveshops.com/events/essentials-of-shop-management-day-4-of-6-10/
LOCATION:Online
CATEGORIES:Essentials of Shop Management,Workshop
ATTACH;FMTTYPE=image/png:https://driveshops.com/wp-content/uploads/2019/04/screen-shot-2019-05-21-at-10.17.01-am-e1558471790866.png
END:VEVENT
BEGIN:VEVENT
DTSTART;TZID=America/Los_Angeles:20250930T080000
DTEND;TZID=America/Los_Angeles:20250930T110000
DTSTAMP:20260425T073034
CREATED:20250318T205527Z
LAST-MODIFIED:20250318T205527Z
UID:10007539-1759219200-1759230000@driveshops.com
SUMMARY:Managing an Effective Bookkeeping Area Day 4 of 6
DESCRIPTION:
URL:https://driveshops.com/events/managing-an-effective-bookkeeping-area-day-4-of-6-4/
LOCATION:Online
CATEGORIES:Managing an Effective Bookkeeping Area,Workshop
END:VEVENT
BEGIN:VEVENT
DTSTART;TZID=America/Denver:20250930T080000
DTEND;TZID=America/Denver:20250930T110000
DTSTAMP:20260425T073034
CREATED:20250318T191850Z
LAST-MODIFIED:20250318T191850Z
UID:10007523-1759219200-1759230000@driveshops.com
SUMMARY:Developing Shop Playbooks Day 4 of 5
DESCRIPTION:
URL:https://driveshops.com/events/developing-shop-playbooks-day-4-of-5-6/
LOCATION:Online
CATEGORIES:Developing Shop Playbooks,Workshop
ATTACH;FMTTYPE=image/png:https://driveshops.com/wp-content/uploads/2019/09/screen-shot-2019-09-04-at-11.16.56-am.png
END:VEVENT
BEGIN:VEVENT
DTSTART;TZID=America/Los_Angeles:20250925T080000
DTEND;TZID=America/Los_Angeles:20250925T110000
DTSTAMP:20260425T073034
CREATED:20250319T191544Z
LAST-MODIFIED:20250319T191544Z
UID:10007628-1758787200-1758798000@driveshops.com
SUMMARY:How to Master Training Workshop Day 3 of 3
DESCRIPTION:
URL:https://driveshops.com/events/how-to-master-training-workshop-day-3-of-3-4/
LOCATION:Online
CATEGORIES:How to Master Training,Workshop
ORGANIZER;CN="Tony Wisler":MAILTO:scheduling@driveshops.com
END:VEVENT
BEGIN:VEVENT
DTSTART;TZID=America/Los_Angeles:20250925T080000
DTEND;TZID=America/Los_Angeles:20250925T110000
DTSTAMP:20260425T073034
CREATED:20250319T185623Z
LAST-MODIFIED:20250319T185623Z
UID:10007614-1758787200-1758798000@driveshops.com
SUMMARY:Building Your Dream Team Day 3 of 5
DESCRIPTION:
URL:https://driveshops.com/events/building-your-dream-team-day-3-of-5-5/
LOCATION:Online
CATEGORIES:Building Your Dream Team
ATTACH;FMTTYPE=image/png:https://driveshops.com/wp-content/uploads/2019/03/screen-shot-2019-05-20-at-12.10.22-pm-e1558471852915.png
END:VEVENT
END:VCALENDAR