BEGIN:VCALENDAR
VERSION:2.0
PRODID:-//DRIVE - ECPv6.15.18//NONSGML v1.0//EN
CALSCALE:GREGORIAN
METHOD:PUBLISH
X-WR-CALNAME:DRIVE
X-ORIGINAL-URL:https://driveshops.com
X-WR-CALDESC:Events for DRIVE
REFRESH-INTERVAL;VALUE=DURATION:PT1H
X-Robots-Tag:noindex
X-PUBLISHED-TTL:PT1H
BEGIN:VTIMEZONE
TZID:America/Los_Angeles
BEGIN:DAYLIGHT
TZOFFSETFROM:-0800
TZOFFSETTO:-0700
TZNAME:PDT
DTSTART:20240310T100000
END:DAYLIGHT
BEGIN:STANDARD
TZOFFSETFROM:-0700
TZOFFSETTO:-0800
TZNAME:PST
DTSTART:20241103T090000
END:STANDARD
BEGIN:DAYLIGHT
TZOFFSETFROM:-0800
TZOFFSETTO:-0700
TZNAME:PDT
DTSTART:20250309T100000
END:DAYLIGHT
BEGIN:STANDARD
TZOFFSETFROM:-0700
TZOFFSETTO:-0800
TZNAME:PST
DTSTART:20251102T090000
END:STANDARD
BEGIN:DAYLIGHT
TZOFFSETFROM:-0800
TZOFFSETTO:-0700
TZNAME:PDT
DTSTART:20260308T100000
END:DAYLIGHT
BEGIN:STANDARD
TZOFFSETFROM:-0700
TZOFFSETTO:-0800
TZNAME:PST
DTSTART:20261101T090000
END:STANDARD
END:VTIMEZONE
BEGIN:VTIMEZONE
TZID:UTC
BEGIN:STANDARD
TZOFFSETFROM:+0000
TZOFFSETTO:+0000
TZNAME:UTC
DTSTART:20240101T000000
END:STANDARD
END:VTIMEZONE
BEGIN:VTIMEZONE
TZID:America/Denver
BEGIN:DAYLIGHT
TZOFFSETFROM:-0700
TZOFFSETTO:-0600
TZNAME:MDT
DTSTART:20240310T090000
END:DAYLIGHT
BEGIN:STANDARD
TZOFFSETFROM:-0600
TZOFFSETTO:-0700
TZNAME:MST
DTSTART:20241103T080000
END:STANDARD
BEGIN:DAYLIGHT
TZOFFSETFROM:-0700
TZOFFSETTO:-0600
TZNAME:MDT
DTSTART:20250309T090000
END:DAYLIGHT
BEGIN:STANDARD
TZOFFSETFROM:-0600
TZOFFSETTO:-0700
TZNAME:MST
DTSTART:20251102T080000
END:STANDARD
BEGIN:DAYLIGHT
TZOFFSETFROM:-0700
TZOFFSETTO:-0600
TZNAME:MDT
DTSTART:20260308T090000
END:DAYLIGHT
BEGIN:STANDARD
TZOFFSETFROM:-0600
TZOFFSETTO:-0700
TZNAME:MST
DTSTART:20261101T080000
END:STANDARD
END:VTIMEZONE
BEGIN:VEVENT
DTSTART;TZID=America/Los_Angeles:20251112T080000
DTEND;TZID=America/Los_Angeles:20251112T110000
DTSTAMP:20260425T053638
CREATED:20250319T185824Z
LAST-MODIFIED:20250416T171823Z
UID:10007621-1762934400-1762945200@driveshops.com
SUMMARY:Building Your Dream Team Day 5 of 5
DESCRIPTION:
URL:https://driveshops.com/events/building-your-dream-team-day-5-of-5-6/
LOCATION:Online
CATEGORIES:Building Your Dream Team
END:VEVENT
BEGIN:VEVENT
DTSTART;TZID=America/Los_Angeles:20251112T080000
DTEND;TZID=America/Los_Angeles:20251112T110000
DTSTAMP:20260425T053638
CREATED:20250319T193732Z
LAST-MODIFIED:20250416T171811Z
UID:10007630-1762934400-1762945200@driveshops.com
SUMMARY:Keys To Understanding Your Financial Reports Day 2 of 3
DESCRIPTION:
URL:https://driveshops.com/events/keys-to-understanding-your-financial-reports-day-2-of-3-2/
LOCATION:DRIVE HQ\, 324 S Myrtle Ave\, Monrovia\, CA\, 91016\, United States
CATEGORIES:The Key to Understanding Your Financial Reports,Workshop
END:VEVENT
BEGIN:VEVENT
DTSTART;TZID=America/Los_Angeles:20251112T080000
DTEND;TZID=America/Los_Angeles:20251112T110000
DTSTAMP:20260425T053638
CREATED:20250320T121210Z
LAST-MODIFIED:20250416T171747Z
UID:10007662-1762934400-1762945200@driveshops.com
SUMMARY:Planning For Success Day 5 of 5
DESCRIPTION:
URL:https://driveshops.com/events/planning-for-success-day-5-of-5-7/
LOCATION:Online
CATEGORIES:Planning for Success,Workshop
END:VEVENT
BEGIN:VEVENT
DTSTART;TZID=America/Los_Angeles:20251112T080000
DTEND;TZID=America/Los_Angeles:20251112T110000
DTSTAMP:20260425T053638
CREATED:20250320T124056Z
LAST-MODIFIED:20250320T124056Z
UID:10007671-1762934400-1762945200@driveshops.com
SUMMARY:Mastering Social Media Day 2 of 3
DESCRIPTION:
URL:https://driveshops.com/events/mastering-social-media-day-2-of-3-3/
LOCATION:Online
CATEGORIES:Mastering Social Media
END:VEVENT
BEGIN:VEVENT
DTSTART;TZID=UTC:20251113T080000
DTEND;TZID=UTC:20251113T110000
DTSTAMP:20260425T053638
CREATED:20250319T185047Z
LAST-MODIFIED:20250416T171727Z
UID:10007606-1763020800-1763031600@driveshops.com
SUMMARY:Professional Service Advisor Sales Day 6 of 6
DESCRIPTION:
URL:https://driveshops.com/events/professional-service-advisor-sales-day-6-of-6-9/
LOCATION:Online
CATEGORIES:Professional Service Advisor Sales,Workshop
END:VEVENT
BEGIN:VEVENT
DTSTART;TZID=America/Los_Angeles:20251113T080000
DTEND;TZID=America/Los_Angeles:20251113T110000
DTSTAMP:20260425T053638
CREATED:20250319T190222Z
LAST-MODIFIED:20250319T190222Z
UID:10007625-1763020800-1763031600@driveshops.com
SUMMARY:Expanding Your Auto Repair Shop Day 2 of 2
DESCRIPTION:
URL:https://driveshops.com/events/expanding-your-auto-repair-shop-day-2-of-2-2/
LOCATION:Online
CATEGORIES:Expanding Your Auto Shop
END:VEVENT
BEGIN:VEVENT
DTSTART;TZID=America/Los_Angeles:20251113T080000
DTEND;TZID=America/Los_Angeles:20251113T110000
DTSTAMP:20260425T053638
CREATED:20250319T193745Z
LAST-MODIFIED:20250416T171707Z
UID:10007631-1763020800-1763031600@driveshops.com
SUMMARY:Keys To Understanding Your Financial Reports Day 3 of 3
DESCRIPTION:
URL:https://driveshops.com/events/keys-to-understanding-your-financial-reports-day-3-of-3-2/
LOCATION:DRIVE HQ\, 324 S Myrtle Ave\, Monrovia\, CA\, 91016\, United States
CATEGORIES:The Key to Understanding Your Financial Reports,Workshop
END:VEVENT
BEGIN:VEVENT
DTSTART;TZID=America/Los_Angeles:20251113T080000
DTEND;TZID=America/Los_Angeles:20251113T110000
DTSTAMP:20260425T053638
CREATED:20250320T124111Z
LAST-MODIFIED:20250320T124111Z
UID:10007672-1763020800-1763031600@driveshops.com
SUMMARY:Mastering Social Media Day 3 of 3
DESCRIPTION:
URL:https://driveshops.com/events/mastering-social-media-day-3-of-3/
LOCATION:Online
CATEGORIES:Mastering Social Media
END:VEVENT
BEGIN:VEVENT
DTSTART;TZID=America/Los_Angeles:20251202T080000
DTEND;TZID=America/Los_Angeles:20251202T110000
DTSTAMP:20260425T053638
CREATED:20250318T183156Z
LAST-MODIFIED:20250416T171505Z
UID:10007488-1764662400-1764673200@driveshops.com
SUMMARY:Master and Control The Front of Your Shop Day 1 of 5
DESCRIPTION:
URL:https://driveshops.com/events/controlling-the-front-day-1-of-5-7/
LOCATION:Online
CATEGORIES:Master and Control the Front of Your Shop,Workshop
END:VEVENT
BEGIN:VEVENT
DTSTART;TZID=America/Los_Angeles:20251202T080000
DTEND;TZID=America/Los_Angeles:20251202T110000
DTSTAMP:20260425T053638
CREATED:20250318T184504Z
LAST-MODIFIED:20250416T171454Z
UID:10007501-1764662400-1764673200@driveshops.com
SUMMARY:How to Increase Your Profits Day 1 of 4
DESCRIPTION:
URL:https://driveshops.com/events/how-to-increase-your-profits-day-1-of-4-9/
LOCATION:Online
CATEGORIES:How To Increase Your Profits,Workshop
END:VEVENT
BEGIN:VEVENT
DTSTART;TZID=America/Los_Angeles:20251202T080000
DTEND;TZID=America/Los_Angeles:20251202T110000
DTSTAMP:20260425T053638
CREATED:20250319T173438Z
LAST-MODIFIED:20250416T171443Z
UID:10007550-1764662400-1764673200@driveshops.com
SUMMARY:Succession & Exit Planning Day 1 of 5
DESCRIPTION:
URL:https://driveshops.com/events/succession-exit-planning-day-1-of-5-3/
LOCATION:Online
CATEGORIES:Succession & Exit Planning,Workshop
END:VEVENT
BEGIN:VEVENT
DTSTART;TZID=America/Los_Angeles:20251202T080000
DTEND;TZID=America/Los_Angeles:20251202T110000
DTSTAMP:20260425T053638
CREATED:20250319T183657Z
LAST-MODIFIED:20250416T171433Z
UID:10007583-1764662400-1764673200@driveshops.com
SUMMARY:Essentials of Shop Management  Day 1 of 6
DESCRIPTION:
URL:https://driveshops.com/events/essentials-of-shop-management-day-1-of-6-11/
LOCATION:Online
CATEGORIES:Essentials of Shop Management,Workshop
END:VEVENT
BEGIN:VEVENT
DTSTART;TZID=UTC:20251202T080000
DTEND;TZID=UTC:20251202T110000
DTSTAMP:20260425T053638
CREATED:20250320T115236Z
LAST-MODIFIED:20250320T115236Z
UID:10007635-1764662400-1764673200@driveshops.com
SUMMARY:Marketing Design Day 1 of 3
DESCRIPTION:
URL:https://driveshops.com/events/marketing-design-day-1-of-3-3/
CATEGORIES:Marketing Design,Workshop
END:VEVENT
BEGIN:VEVENT
DTSTART;TZID=America/Denver:20251202T080000
DTEND;TZID=America/Denver:20251202T110000
DTSTAMP:20260425T053638
CREATED:20250320T115858Z
LAST-MODIFIED:20250320T115858Z
UID:10007644-1764662400-1764673200@driveshops.com
SUMMARY:Managing Shop Finances Day 1 of 6
DESCRIPTION:
URL:https://driveshops.com/events/managing-shop-finances-day-1-of-6-3/
LOCATION:Online
CATEGORIES:Mastering Shop Finances,Workshop
END:VEVENT
BEGIN:VEVENT
DTSTART;TZID=America/Los_Angeles:20251203T080000
DTEND;TZID=America/Los_Angeles:20251203T110000
DTSTAMP:20260425T053638
CREATED:20250318T183205Z
LAST-MODIFIED:20250416T171405Z
UID:10007489-1764748800-1764759600@driveshops.com
SUMMARY:Master and Control The Front of Your Shop Day 2 of 5
DESCRIPTION:
URL:https://driveshops.com/events/controlling-the-front-day-2-of-5-7/
LOCATION:Online
CATEGORIES:Master and Control the Front of Your Shop,Workshop
END:VEVENT
BEGIN:VEVENT
DTSTART;TZID=America/Los_Angeles:20251203T080000
DTEND;TZID=America/Los_Angeles:20251203T110000
DTSTAMP:20260425T053638
CREATED:20250319T173447Z
LAST-MODIFIED:20250319T173447Z
UID:10007551-1764748800-1764759600@driveshops.com
SUMMARY:Succession & Exit Planning Day 2 of 5
DESCRIPTION:
URL:https://driveshops.com/events/succession-exit-planning-day-2-of-5-3/
LOCATION:Online
CATEGORIES:Succession & Exit Planning,Workshop
ATTACH;FMTTYPE=image/png:https://driveshops.com/wp-content/uploads/2019/04/screen-shot-2019-05-21-at-10.36.20-am-e1558471267564.png
END:VEVENT
BEGIN:VEVENT
DTSTART;TZID=America/Los_Angeles:20251203T080000
DTEND;TZID=America/Los_Angeles:20251203T110000
DTSTAMP:20260425T053638
CREATED:20250319T183706Z
LAST-MODIFIED:20250416T171343Z
UID:10007584-1764748800-1764759600@driveshops.com
SUMMARY:Essentials of Shop Management Day 2 of 6
DESCRIPTION:
URL:https://driveshops.com/events/essentials-of-shop-management-day-2-of-6-11/
LOCATION:Online
CATEGORIES:Essentials of Shop Management,Workshop
END:VEVENT
BEGIN:VEVENT
DTSTART;TZID=UTC:20251203T080000
DTEND;TZID=UTC:20251203T110000
DTSTAMP:20260425T053638
CREATED:20250320T115239Z
LAST-MODIFIED:20250320T115239Z
UID:10007636-1764748800-1764759600@driveshops.com
SUMMARY:Marketing Design Day 2 of 3
DESCRIPTION:
URL:https://driveshops.com/events/marketing-design-day-2-of-3-3/
CATEGORIES:Marketing Design
END:VEVENT
BEGIN:VEVENT
DTSTART;TZID=America/Denver:20251203T080000
DTEND;TZID=America/Denver:20251203T110000
DTSTAMP:20260425T053638
CREATED:20250320T115908Z
LAST-MODIFIED:20250320T115908Z
UID:10007645-1764748800-1764759600@driveshops.com
SUMMARY:Managing Shop Finances Day 2 of 6
DESCRIPTION:
URL:https://driveshops.com/events/managing-shop-finances-day-2-of-6-3/
LOCATION:Online
CATEGORIES:Mastering Shop Finances,Workshop
END:VEVENT
BEGIN:VEVENT
DTSTART;TZID=America/Los_Angeles:20251204T080000
DTEND;TZID=America/Los_Angeles:20251204T110000
DTSTAMP:20260425T053638
CREATED:20250318T183216Z
LAST-MODIFIED:20250416T171324Z
UID:10007490-1764835200-1764846000@driveshops.com
SUMMARY:Master and Control The Front of Your Shop Day 3 of 5
DESCRIPTION:
URL:https://driveshops.com/events/controlling-the-front-day-3-of-5-7/
LOCATION:Online
CATEGORIES:Master and Control the Front of Your Shop,Workshop
END:VEVENT
BEGIN:VEVENT
DTSTART;TZID=America/Los_Angeles:20251204T080000
DTEND;TZID=America/Los_Angeles:20251204T110000
DTSTAMP:20260425T053638
CREATED:20250318T184514Z
LAST-MODIFIED:20250318T184514Z
UID:10007502-1764835200-1764846000@driveshops.com
SUMMARY:How to Increase Your Profits Day 2 of 4
DESCRIPTION:
URL:https://driveshops.com/events/how-to-increase-your-profits-day-2-of-4-9/
LOCATION:Online
CATEGORIES:How To Increase Your Profits,Workshop
ATTACH;FMTTYPE=image/png:https://driveshops.com/wp-content/uploads/2019/04/screen-shot-2019-05-21-at-10.25.56-am-e1558471321731.png
END:VEVENT
BEGIN:VEVENT
DTSTART;TZID=America/Los_Angeles:20251204T080000
DTEND;TZID=America/Los_Angeles:20251204T110000
DTSTAMP:20260425T053638
CREATED:20250319T173455Z
LAST-MODIFIED:20250416T171305Z
UID:10007552-1764835200-1764846000@driveshops.com
SUMMARY:Succession & Exit Planning Day 3 of 5
DESCRIPTION:
URL:https://driveshops.com/events/succession-exit-planning-day-3-of-5-3/
LOCATION:Online
CATEGORIES:Succession & Exit Planning,Workshop
END:VEVENT
BEGIN:VEVENT
DTSTART;TZID=America/Los_Angeles:20251204T080000
DTEND;TZID=America/Los_Angeles:20251204T110000
DTSTAMP:20260425T053638
CREATED:20250319T183715Z
LAST-MODIFIED:20250416T171256Z
UID:10007585-1764835200-1764846000@driveshops.com
SUMMARY:Essentials of Shop Management Day 3 of 6
DESCRIPTION:
URL:https://driveshops.com/events/essentials-of-shop-management-day-3-of-6-11/
LOCATION:Online
CATEGORIES:Essentials of Shop Management,Workshop
END:VEVENT
BEGIN:VEVENT
DTSTART;TZID=UTC:20251204T080000
DTEND;TZID=UTC:20251204T110000
DTSTAMP:20260425T053638
CREATED:20250320T115242Z
LAST-MODIFIED:20250320T115242Z
UID:10007637-1764835200-1764846000@driveshops.com
SUMMARY:Marketing Design Day 3 of 3
DESCRIPTION:
URL:https://driveshops.com/events/marketing-design-day-3-of-3-3/
CATEGORIES:Marketing Design
END:VEVENT
BEGIN:VEVENT
DTSTART;TZID=America/Denver:20251204T080000
DTEND;TZID=America/Denver:20251204T110000
DTSTAMP:20260425T053638
CREATED:20250320T115920Z
LAST-MODIFIED:20250320T115920Z
UID:10007646-1764835200-1764846000@driveshops.com
SUMMARY:Managing Shop Finances Day 3 of 6
DESCRIPTION:
URL:https://driveshops.com/events/managing-shop-finances-day-3-of-6-3/
LOCATION:Online
CATEGORIES:Mastering Shop Finances,Workshop
END:VEVENT
BEGIN:VEVENT
DTSTART;TZID=America/Los_Angeles:20251209T080000
DTEND;TZID=America/Los_Angeles:20251209T110000
DTSTAMP:20260425T053638
CREATED:20250318T183235Z
LAST-MODIFIED:20250416T171237Z
UID:10007491-1765267200-1765278000@driveshops.com
SUMMARY:Master and Control The Front of Your Shop Day 4 of 5
DESCRIPTION:
URL:https://driveshops.com/events/controlling-the-front-day-4-of-5-6/
LOCATION:Online
CATEGORIES:Master and Control the Front of Your Shop,Workshop
END:VEVENT
BEGIN:VEVENT
DTSTART;TZID=America/Los_Angeles:20251209T080000
DTEND;TZID=America/Los_Angeles:20251209T110000
DTSTAMP:20260425T053638
CREATED:20250318T184524Z
LAST-MODIFIED:20250416T171531Z
UID:10007503-1765267200-1765278000@driveshops.com
SUMMARY:How to Increase Your Profits Day 3 of 4
DESCRIPTION:
URL:https://driveshops.com/events/how-to-increase-your-profits-day-3-of-4-9/
LOCATION:Online
CATEGORIES:How To Increase Your Profits,Workshop
END:VEVENT
BEGIN:VEVENT
DTSTART;TZID=America/Los_Angeles:20251209T080000
DTEND;TZID=America/Los_Angeles:20251209T110000
DTSTAMP:20260425T053638
CREATED:20250319T173510Z
LAST-MODIFIED:20250416T171103Z
UID:10007553-1765267200-1765278000@driveshops.com
SUMMARY:Succession & Exit Planning Day 4 of 5
DESCRIPTION:
URL:https://driveshops.com/events/succession-exit-planning-day-4-of-5-3/
LOCATION:Online
CATEGORIES:Succession & Exit Planning,Workshop
END:VEVENT
BEGIN:VEVENT
DTSTART;TZID=America/Los_Angeles:20251209T080000
DTEND;TZID=America/Los_Angeles:20251209T110000
DTSTAMP:20260425T053638
CREATED:20250319T183729Z
LAST-MODIFIED:20250416T171054Z
UID:10007586-1765267200-1765278000@driveshops.com
SUMMARY:Essentials of Shop Management Day 4 of 6
DESCRIPTION:
URL:https://driveshops.com/events/essentials-of-shop-management-day-4-of-6-11/
LOCATION:Online
CATEGORIES:Essentials of Shop Management,Workshop
END:VEVENT
BEGIN:VEVENT
DTSTART;TZID=UTC:20251209T080000
DTEND;TZID=UTC:20251209T110000
DTSTAMP:20260425T053638
CREATED:20250319T194751Z
LAST-MODIFIED:20250416T171044Z
UID:10007632-1765267200-1765278000@driveshops.com
SUMMARY:Reputation Management Day 1 of 3
DESCRIPTION:
URL:https://driveshops.com/events/reputation-management-day-1-of-3-4/
LOCATION:Online
CATEGORIES:Public Relations,Workshop
END:VEVENT
END:VCALENDAR