BEGIN:VCALENDAR
VERSION:2.0
PRODID:-//DRIVE - ECPv6.15.18//NONSGML v1.0//EN
CALSCALE:GREGORIAN
METHOD:PUBLISH
X-ORIGINAL-URL:https://driveshops.com
X-WR-CALDESC:Events for DRIVE
REFRESH-INTERVAL;VALUE=DURATION:PT1H
X-Robots-Tag:noindex
X-PUBLISHED-TTL:PT1H
BEGIN:VTIMEZONE
TZID:UTC
BEGIN:STANDARD
TZOFFSETFROM:+0000
TZOFFSETTO:+0000
TZNAME:UTC
DTSTART:20220101T000000
END:STANDARD
END:VTIMEZONE
BEGIN:VEVENT
DTSTART;TZID=UTC:20230727T080000
DTEND;TZID=UTC:20230727T110000
DTSTAMP:20260425T180124
CREATED:20221227T211106Z
LAST-MODIFIED:20221227T211106Z
UID:10003952-1690444800-1690455600@driveshops.com
SUMMARY:How to Master Training Workshop 2/4
DESCRIPTION:
URL:https://driveshops.com/events/how-to-master-training-workshop-2-4-4/
LOCATION:Online
CATEGORIES:How to Master Training,Workshop
ORGANIZER;CN="Tony Wisler":MAILTO:scheduling@driveshops.com
END:VEVENT
BEGIN:VEVENT
DTSTART;TZID=UTC:20230728T080000
DTEND;TZID=UTC:20230728T110000
DTSTAMP:20260425T180124
CREATED:20221227T210032Z
LAST-MODIFIED:20221227T210032Z
UID:10004334-1690531200-1690542000@driveshops.com
SUMMARY:Planning For Success 3/5
DESCRIPTION:
URL:https://driveshops.com/events/planning-for-success-3-5-6/
LOCATION:Online
CATEGORIES:Planning for Success,Workshop
ATTACH;FMTTYPE=image/png:https://driveshops.com/wp-content/uploads/2019/04/screen-shot-2019-05-21-at-10.44.40-am-e1558471214538.png
END:VEVENT
BEGIN:VEVENT
DTSTART;TZID=UTC:20230728T080000
DTEND;TZID=UTC:20230728T110000
DTSTAMP:20260425T180124
CREATED:20221227T211554Z
LAST-MODIFIED:20221227T211554Z
UID:10004340-1690531200-1690542000@driveshops.com
SUMMARY:Sales Training for Collision Shops 3/5
DESCRIPTION:
URL:https://driveshops.com/events/sales-training-for-collision-shops-3-5-6/
LOCATION:Online
CATEGORIES:Sales Training for Collision Shops,Workshop
ATTACH;FMTTYPE=image/png:https://driveshops.com/wp-content/uploads/2019/04/screen-shot-2019-05-21-at-10.29.28-am-e1558471305153.png
END:VEVENT
BEGIN:VEVENT
DTSTART;TZID=UTC:20230731T080000
DTEND;TZID=UTC:20230731T110000
DTSTAMP:20260425T180124
CREATED:20221227T210042Z
LAST-MODIFIED:20221227T210042Z
UID:10004335-1690790400-1690801200@driveshops.com
SUMMARY:Planning For Success 4/5
DESCRIPTION:
URL:https://driveshops.com/events/planning-for-success-4-5-6/
LOCATION:Online
CATEGORIES:Planning for Success,Workshop
ATTACH;FMTTYPE=image/png:https://driveshops.com/wp-content/uploads/2019/04/screen-shot-2019-05-21-at-10.44.40-am-e1558471214538.png
END:VEVENT
BEGIN:VEVENT
DTSTART;TZID=UTC:20230731T080000
DTEND;TZID=UTC:20230731T110000
DTSTAMP:20260425T180124
CREATED:20221227T211605Z
LAST-MODIFIED:20221227T211605Z
UID:10004341-1690790400-1690801200@driveshops.com
SUMMARY:Sales Training for Collision Shops 4/5
DESCRIPTION:
URL:https://driveshops.com/events/sales-training-for-collision-shops-4-5-4/
LOCATION:Online
CATEGORIES:Sales Training for Collision Shops,Workshop
ATTACH;FMTTYPE=image/png:https://driveshops.com/wp-content/uploads/2019/04/screen-shot-2019-05-21-at-10.29.28-am-e1558471305153.png
END:VEVENT
BEGIN:VEVENT
DTSTART;TZID=UTC:20230801T080000
DTEND;TZID=UTC:20230801T110000
DTSTAMP:20260425T180124
CREATED:20221227T211119Z
LAST-MODIFIED:20221227T211119Z
UID:10004336-1690876800-1690887600@driveshops.com
SUMMARY:How to Master Training Workshop 3/4
DESCRIPTION:
URL:https://driveshops.com/events/how-to-master-training-workshop-3-4-4/
LOCATION:Online
CATEGORIES:How to Master Training,Workshop
ORGANIZER;CN="Tony Wisler":MAILTO:scheduling@driveshops.com
END:VEVENT
BEGIN:VEVENT
DTSTART;TZID=UTC:20230802T080000
DTEND;TZID=UTC:20230802T110000
DTSTAMP:20260425T180124
CREATED:20221227T210055Z
LAST-MODIFIED:20221227T210055Z
UID:10003936-1690963200-1690974000@driveshops.com
SUMMARY:Planning For Success 5/5
DESCRIPTION:
URL:https://driveshops.com/events/planning-for-success-5-5-6/
LOCATION:Online
CATEGORIES:Planning for Success,Workshop
ATTACH;FMTTYPE=image/png:https://driveshops.com/wp-content/uploads/2019/04/screen-shot-2019-05-21-at-10.44.40-am-e1558471214538.png
END:VEVENT
BEGIN:VEVENT
DTSTART;TZID=UTC:20230802T080000
DTEND;TZID=UTC:20230802T110000
DTSTAMP:20260425T180124
CREATED:20221227T211616Z
LAST-MODIFIED:20221227T211616Z
UID:10004342-1690963200-1690974000@driveshops.com
SUMMARY:Sales Training for Collision Shops 5/5
DESCRIPTION:
URL:https://driveshops.com/events/sales-training-for-collision-shops-5-5-5/
LOCATION:Online
CATEGORIES:Sales Training for Collision Shops,Workshop
ATTACH;FMTTYPE=image/png:https://driveshops.com/wp-content/uploads/2019/04/screen-shot-2019-05-21-at-10.29.28-am-e1558471305153.png
END:VEVENT
BEGIN:VEVENT
DTSTART;TZID=UTC:20230803T080000
DTEND;TZID=UTC:20230803T110000
DTSTAMP:20260425T180124
CREATED:20221227T211133Z
LAST-MODIFIED:20221227T211133Z
UID:10004337-1691049600-1691060400@driveshops.com
SUMMARY:How to Master Training Workshop 4/4
DESCRIPTION:
URL:https://driveshops.com/events/how-to-master-training-workshop-4-4-4/
LOCATION:Online
CATEGORIES:How to Master Training,Workshop
ORGANIZER;CN="Tony Wisler":MAILTO:scheduling@driveshops.com
END:VEVENT
BEGIN:VEVENT
DTSTART;TZID=UTC:20230807T080000
DTEND;TZID=UTC:20230807T110000
DTSTAMP:20260425T180124
CREATED:20221227T232653Z
LAST-MODIFIED:20221227T232653Z
UID:10003983-1691395200-1691406000@driveshops.com
SUMMARY:Essentials of Shop Management 1/6
DESCRIPTION:
URL:https://driveshops.com/events/essentials-of-shop-management-1-6-24/
LOCATION:Online
CATEGORIES:Essentials of Shop Management,Workshop
ATTACH;FMTTYPE=image/png:https://driveshops.com/wp-content/uploads/2019/04/screen-shot-2019-05-21-at-10.17.01-am-e1558471790866.png
END:VEVENT
BEGIN:VEVENT
DTSTART;TZID=UTC:20230807T080000
DTEND;TZID=UTC:20230807T110000
DTSTAMP:20260425T180124
CREATED:20221227T233638Z
LAST-MODIFIED:20221227T233638Z
UID:10004407-1691395200-1691406000@driveshops.com
SUMMARY:Controlling The Front 1/5
DESCRIPTION:
URL:https://driveshops.com/events/controlling-the-front-1-5-10/
LOCATION:Online
CATEGORIES:Controlling The Front,Workshop
ATTACH;FMTTYPE=image/png:https://driveshops.com/wp-content/uploads/2019/04/screen-shot-2019-05-21-at-10.21.47-am-e1558471774230.png
END:VEVENT
BEGIN:VEVENT
DTSTART;TZID=UTC:20230808T080000
DTEND;TZID=UTC:20230808T110000
DTSTAMP:20260425T180124
CREATED:20221227T232444Z
LAST-MODIFIED:20221227T232444Z
UID:10003977-1691481600-1691492400@driveshops.com
SUMMARY:Key To Understanding Your Financial Reports 1/3
DESCRIPTION:
URL:https://driveshops.com/events/the-key-to-understanding-your-financial-reports-1-3-4/
LOCATION:DRIVE HQ\, 324 S Myrtle Ave\, Monrovia\, CA\, 91016\, United States
CATEGORIES:The Key to Understanding Your Financial Reports,Workshop
ATTACH;FMTTYPE=image/png:https://driveshops.com/wp-content/uploads/2019/04/screen-shot-2019-05-21-at-10.04.39-am-e1558471807663.png
END:VEVENT
BEGIN:VEVENT
DTSTART;TZID=UTC:20230808T080000
DTEND;TZID=UTC:20230808T110000
DTSTAMP:20260425T180124
CREATED:20221227T232620Z
LAST-MODIFIED:20221227T232620Z
UID:10003980-1691481600-1691492400@driveshops.com
SUMMARY:How to Increase Your Profits 1/4
DESCRIPTION:
URL:https://driveshops.com/events/how-to-increase-your-profits-1-4-5/
LOCATION:Online
CATEGORIES:How To Increase Your Profits,Workshop
ATTACH;FMTTYPE=image/png:https://driveshops.com/wp-content/uploads/2019/04/screen-shot-2019-05-21-at-10.25.56-am-e1558471321731.png
END:VEVENT
BEGIN:VEVENT
DTSTART;TZID=UTC:20230809T080000
DTEND;TZID=UTC:20230809T110000
DTSTAMP:20260425T180124
CREATED:20221227T232451Z
LAST-MODIFIED:20221227T232451Z
UID:10003978-1691568000-1691578800@driveshops.com
SUMMARY:Key To Understanding Your Financial Reports 2/3
DESCRIPTION:
URL:https://driveshops.com/events/the-key-to-understanding-your-financial-reports-2-3-4/
LOCATION:DRIVE HQ\, 324 S Myrtle Ave\, Monrovia\, CA\, 91016\, United States
CATEGORIES:The Key to Understanding Your Financial Reports,Workshop
ATTACH;FMTTYPE=image/png:https://driveshops.com/wp-content/uploads/2019/04/screen-shot-2019-05-21-at-10.04.39-am-e1558471807663.png
END:VEVENT
BEGIN:VEVENT
DTSTART;TZID=UTC:20230809T080000
DTEND;TZID=UTC:20230809T110000
DTSTAMP:20260425T180124
CREATED:20221227T232705Z
LAST-MODIFIED:20221227T232705Z
UID:10003984-1691568000-1691578800@driveshops.com
SUMMARY:Essentials of Shop Management 2/6
DESCRIPTION:
URL:https://driveshops.com/events/essentials-of-shop-management-2-6-25/
LOCATION:Online
CATEGORIES:Essentials of Shop Management,Workshop
ATTACH;FMTTYPE=image/png:https://driveshops.com/wp-content/uploads/2019/04/screen-shot-2019-05-21-at-10.17.01-am-e1558471790866.png
END:VEVENT
BEGIN:VEVENT
DTSTART;TZID=UTC:20230809T080000
DTEND;TZID=UTC:20230809T110000
DTSTAMP:20260425T180124
CREATED:20221227T233647Z
LAST-MODIFIED:20221227T233647Z
UID:10004317-1691568000-1691578800@driveshops.com
SUMMARY:Controlling The Front 2/5
DESCRIPTION:
URL:https://driveshops.com/events/controlling-the-front-2-5-10/
LOCATION:Online
CATEGORIES:Controlling The Front,Workshop
ATTACH;FMTTYPE=image/png:https://driveshops.com/wp-content/uploads/2019/04/screen-shot-2019-05-21-at-10.21.47-am-e1558471774230.png
END:VEVENT
BEGIN:VEVENT
DTSTART;TZID=UTC:20230810T080000
DTEND;TZID=UTC:20230810T110000
DTSTAMP:20260425T180124
CREATED:20221227T232500Z
LAST-MODIFIED:20221227T232500Z
UID:10003979-1691654400-1691665200@driveshops.com
SUMMARY:Key To Understanding Your Financial Reports 3/3
DESCRIPTION:
URL:https://driveshops.com/events/the-key-to-understanding-your-financial-reports-3-3-4/
LOCATION:DRIVE HQ\, 324 S Myrtle Ave\, Monrovia\, CA\, 91016\, United States
CATEGORIES:The Key to Understanding Your Financial Reports,Workshop
ATTACH;FMTTYPE=image/png:https://driveshops.com/wp-content/uploads/2019/04/screen-shot-2019-05-21-at-10.04.39-am-e1558471807663.png
END:VEVENT
BEGIN:VEVENT
DTSTART;TZID=UTC:20230810T080000
DTEND;TZID=UTC:20230810T110000
DTSTAMP:20260425T180124
CREATED:20221227T232629Z
LAST-MODIFIED:20221227T232629Z
UID:10003981-1691654400-1691665200@driveshops.com
SUMMARY:How to Increase Your Profits 2/4
DESCRIPTION:
URL:https://driveshops.com/events/how-to-increase-your-profits-2-4-4/
LOCATION:Online
CATEGORIES:How To Increase Your Profits,Workshop
ATTACH;FMTTYPE=image/png:https://driveshops.com/wp-content/uploads/2019/04/screen-shot-2019-05-21-at-10.25.56-am-e1558471321731.png
END:VEVENT
BEGIN:VEVENT
DTSTART;TZID=UTC:20230811T080000
DTEND;TZID=UTC:20230811T110000
DTSTAMP:20260425T180124
CREATED:20221227T232718Z
LAST-MODIFIED:20221227T232718Z
UID:10003985-1691740800-1691751600@driveshops.com
SUMMARY:Essentials of Shop Management 3/6
DESCRIPTION:
URL:https://driveshops.com/events/essentials-of-shop-management-3-6-25/
LOCATION:Online
CATEGORIES:Essentials of Shop Management,Workshop
ATTACH;FMTTYPE=image/png:https://driveshops.com/wp-content/uploads/2019/04/screen-shot-2019-05-21-at-10.17.01-am-e1558471790866.png
END:VEVENT
BEGIN:VEVENT
DTSTART;TZID=UTC:20230811T080000
DTEND;TZID=UTC:20230811T110000
DTSTAMP:20260425T180124
CREATED:20221227T233656Z
LAST-MODIFIED:20221227T233656Z
UID:10004408-1691740800-1691751600@driveshops.com
SUMMARY:Controlling The Front 3/5
DESCRIPTION:
URL:https://driveshops.com/events/controlling-the-front-3-5-10/
LOCATION:Online
CATEGORIES:Controlling The Front,Workshop
ATTACH;FMTTYPE=image/png:https://driveshops.com/wp-content/uploads/2019/04/screen-shot-2019-05-21-at-10.21.47-am-e1558471774230.png
END:VEVENT
BEGIN:VEVENT
DTSTART;TZID=UTC:20230814T080000
DTEND;TZID=UTC:20230814T110000
DTSTAMP:20260425T180124
CREATED:20221227T232726Z
LAST-MODIFIED:20221227T232726Z
UID:10004402-1692000000-1692010800@driveshops.com
SUMMARY:Essentials of Shop Management 4/6
DESCRIPTION:
URL:https://driveshops.com/events/essentials-of-shop-management-4-6-25/
LOCATION:Online
CATEGORIES:Essentials of Shop Management,Workshop
ATTACH;FMTTYPE=image/png:https://driveshops.com/wp-content/uploads/2019/04/screen-shot-2019-05-21-at-10.17.01-am-e1558471790866.png
END:VEVENT
BEGIN:VEVENT
DTSTART;TZID=UTC:20230814T080000
DTEND;TZID=UTC:20230814T110000
DTSTAMP:20260425T180124
CREATED:20221227T233707Z
LAST-MODIFIED:20221227T233707Z
UID:10004409-1692000000-1692010800@driveshops.com
SUMMARY:Controlling The Front 4/5
DESCRIPTION:
URL:https://driveshops.com/events/controlling-the-front-4-5-10/
LOCATION:Online
CATEGORIES:Controlling The Front,Workshop
ATTACH;FMTTYPE=image/png:https://driveshops.com/wp-content/uploads/2019/04/screen-shot-2019-05-21-at-10.21.47-am-e1558471774230.png
END:VEVENT
BEGIN:VEVENT
DTSTART;TZID=UTC:20230815T080000
DTEND;TZID=UTC:20230815T110000
DTSTAMP:20260425T180124
CREATED:20221227T232832Z
LAST-MODIFIED:20221227T232832Z
UID:10004406-1692086400-1692097200@driveshops.com
SUMMARY:How to Increase Your Profits 3/4
DESCRIPTION:
URL:https://driveshops.com/events/how-to-increase-your-profits-3-4-4/
LOCATION:Online
CATEGORIES:How To Increase Your Profits,Workshop
ATTACH;FMTTYPE=image/png:https://driveshops.com/wp-content/uploads/2019/04/screen-shot-2019-05-21-at-10.25.56-am-e1558471321731.png
END:VEVENT
BEGIN:VEVENT
DTSTART;TZID=UTC:20230816T080000
DTEND;TZID=UTC:20230816T110000
DTSTAMP:20260425T180124
CREATED:20221227T232735Z
LAST-MODIFIED:20221227T232735Z
UID:10004404-1692172800-1692183600@driveshops.com
SUMMARY:Essentials of Shop Management 5/6
DESCRIPTION:
URL:https://driveshops.com/events/essentials-of-shop-management-5-6-25/
CATEGORIES:Essentials of Shop Management,Workshop
ATTACH;FMTTYPE=image/png:https://driveshops.com/wp-content/uploads/2019/04/screen-shot-2019-05-21-at-10.17.01-am-e1558471790866.png
END:VEVENT
BEGIN:VEVENT
DTSTART;TZID=UTC:20230816T080000
DTEND;TZID=UTC:20230816T110000
DTSTAMP:20260425T180124
CREATED:20221227T233720Z
LAST-MODIFIED:20221227T233720Z
UID:10004410-1692172800-1692183600@driveshops.com
SUMMARY:Controlling The Front 5/5
DESCRIPTION:
URL:https://driveshops.com/events/controlling-the-front-5-5-9/
LOCATION:Online
CATEGORIES:Controlling The Front,Workshop
ATTACH;FMTTYPE=image/png:https://driveshops.com/wp-content/uploads/2019/04/screen-shot-2019-05-21-at-10.21.47-am-e1558471774230.png
END:VEVENT
BEGIN:VEVENT
DTSTART;TZID=UTC:20230817T080000
DTEND;TZID=UTC:20230817T110000
DTSTAMP:20260425T180124
CREATED:20221227T232644Z
LAST-MODIFIED:20221227T232644Z
UID:10003982-1692259200-1692270000@driveshops.com
SUMMARY:How to Increase Your Profits 4/4
DESCRIPTION:
URL:https://driveshops.com/events/how-to-increase-your-profits-4-4-4/
LOCATION:Online
CATEGORIES:How To Increase Your Profits,Workshop
ATTACH;FMTTYPE=image/png:https://driveshops.com/wp-content/uploads/2019/04/screen-shot-2019-05-21-at-10.25.56-am-e1558471321731.png
END:VEVENT
BEGIN:VEVENT
DTSTART;TZID=UTC:20230818T080000
DTEND;TZID=UTC:20230818T110000
DTSTAMP:20260425T180124
CREATED:20221227T232743Z
LAST-MODIFIED:20221227T232743Z
UID:10004405-1692345600-1692356400@driveshops.com
SUMMARY:Essentials of Shop Management 6/6
DESCRIPTION:
URL:https://driveshops.com/events/essentials-of-shop-management-6-6-26/
CATEGORIES:Essentials of Shop Management,Workshop
ATTACH;FMTTYPE=image/png:https://driveshops.com/wp-content/uploads/2019/04/screen-shot-2019-05-21-at-10.17.01-am-e1558471790866.png
END:VEVENT
BEGIN:VEVENT
DTSTART;TZID=UTC:20230821T080000
DTEND;TZID=UTC:20230821T110000
DTSTAMP:20260425T180124
CREATED:20221227T231916Z
LAST-MODIFIED:20221227T231916Z
UID:10004388-1692604800-1692615600@driveshops.com
SUMMARY:Managing Change 1/5
DESCRIPTION:Understand the basic principles of successful change.\nUnderstand how to make changes that result in a more profitable and successful business.\nPractice the procedure of making changes until it is mastered.
URL:https://driveshops.com/events/managing-change-1-5-5/
LOCATION:Online
CATEGORIES:Managing Change,Workshop
ATTACH;FMTTYPE=image/png:https://driveshops.com/wp-content/uploads/2019/04/screen-shot-2019-05-21-at-10.47.53-am-e1558471201812.png
END:VEVENT
BEGIN:VEVENT
DTSTART;TZID=UTC:20230821T080000
DTEND;TZID=UTC:20230821T110000
DTSTAMP:20260425T180124
CREATED:20221227T232322Z
LAST-MODIFIED:20221227T232322Z
UID:10004263-1692604800-1692615600@driveshops.com
SUMMARY:Collision - Controlling The Front 1/5
DESCRIPTION:
URL:https://driveshops.com/events/collision-controlling-the-front-1-5-4/
LOCATION:Online
CATEGORIES:Collision - Controlling The Front,Workshop
ATTACH;FMTTYPE=image/png:https://driveshops.com/wp-content/uploads/2019/04/screen-shot-2019-05-21-at-10.29.28-am-e1558471305153.png
END:VEVENT
BEGIN:VEVENT
DTSTART;TZID=UTC:20230822T080000
DTEND;TZID=UTC:20230822T110000
DTSTAMP:20260425T180124
CREATED:20221227T231200Z
LAST-MODIFIED:20221227T231200Z
UID:10003975-1692691200-1692702000@driveshops.com
SUMMARY:How to Train Your Team 1/3
DESCRIPTION:
URL:https://driveshops.com/events/how-to-train-your-team-1-3-2/
LOCATION:Online
CATEGORIES:How to Train Your Team,Workshop
ATTACH;FMTTYPE=image/png:https://driveshops.com/wp-content/uploads/2019/11/httyt_11.26.19-01.png
END:VEVENT
END:VCALENDAR