BEGIN:VCALENDAR
VERSION:2.0
PRODID:-//DRIVE - ECPv6.15.18//NONSGML v1.0//EN
CALSCALE:GREGORIAN
METHOD:PUBLISH
X-WR-CALNAME:DRIVE
X-ORIGINAL-URL:https://driveshops.com
X-WR-CALDESC:Events for DRIVE
REFRESH-INTERVAL;VALUE=DURATION:PT1H
X-Robots-Tag:noindex
X-PUBLISHED-TTL:PT1H
BEGIN:VTIMEZONE
TZID:America/Los_Angeles
BEGIN:DAYLIGHT
TZOFFSETFROM:-0800
TZOFFSETTO:-0700
TZNAME:PDT
DTSTART:20230312T100000
END:DAYLIGHT
BEGIN:STANDARD
TZOFFSETFROM:-0700
TZOFFSETTO:-0800
TZNAME:PST
DTSTART:20231105T090000
END:STANDARD
BEGIN:DAYLIGHT
TZOFFSETFROM:-0800
TZOFFSETTO:-0700
TZNAME:PDT
DTSTART:20240310T100000
END:DAYLIGHT
BEGIN:STANDARD
TZOFFSETFROM:-0700
TZOFFSETTO:-0800
TZNAME:PST
DTSTART:20241103T090000
END:STANDARD
BEGIN:DAYLIGHT
TZOFFSETFROM:-0800
TZOFFSETTO:-0700
TZNAME:PDT
DTSTART:20250309T100000
END:DAYLIGHT
BEGIN:STANDARD
TZOFFSETFROM:-0700
TZOFFSETTO:-0800
TZNAME:PST
DTSTART:20251102T090000
END:STANDARD
END:VTIMEZONE
BEGIN:VEVENT
DTSTART;TZID=America/Los_Angeles:20240201T080000
DTEND;TZID=America/Los_Angeles:20240201T110000
DTSTAMP:20260425T094423
CREATED:20230714T144742Z
LAST-MODIFIED:20230714T144742Z
UID:10005577-1706774400-1706785200@driveshops.com
SUMMARY:Marketing Your Shop 4/4
DESCRIPTION:
URL:https://driveshops.com/events/marketing-your-shop-4-4-8/
LOCATION:Online
CATEGORIES:Marketing Your Shop
END:VEVENT
BEGIN:VEVENT
DTSTART;TZID=America/Los_Angeles:20240201T080000
DTEND;TZID=America/Los_Angeles:20240201T110000
DTSTAMP:20260425T094423
CREATED:20230714T144359Z
LAST-MODIFIED:20230714T144359Z
UID:10005573-1706774400-1706785200@driveshops.com
SUMMARY:How to Master Training Workshop 4/4
DESCRIPTION:
URL:https://driveshops.com/events/how-to-master-training-workshop-4-4-5/
LOCATION:Online
CATEGORIES:How to Master Training,Workshop
ORGANIZER;CN="Tony Wisler":MAILTO:scheduling@driveshops.com
END:VEVENT
BEGIN:VEVENT
DTSTART;TZID=America/Los_Angeles:20240131T080000
DTEND;TZID=America/Los_Angeles:20240131T110000
DTSTAMP:20260425T094423
CREATED:20230714T143724Z
LAST-MODIFIED:20230714T143724Z
UID:10005568-1706688000-1706698800@driveshops.com
SUMMARY:Professional Service Advisor Sales 5/6
DESCRIPTION:
URL:https://driveshops.com/events/professional-service-advisor-sales-5-6-15/
LOCATION:Online
CATEGORIES:Professional Service Advisor Sales,Workshop
ATTACH;FMTTYPE=image/png:https://driveshops.com/wp-content/uploads/2019/04/screen-shot-2019-05-21-at-10.14.39-am-e1558470540769.png
END:VEVENT
BEGIN:VEVENT
DTSTART;TZID=America/Los_Angeles:20240131T080000
DTEND;TZID=America/Los_Angeles:20240131T110000
DTSTAMP:20260425T094423
CREATED:20230714T142747Z
LAST-MODIFIED:20230714T142747Z
UID:10005563-1706688000-1706698800@driveshops.com
SUMMARY:Managing Change 5/5
DESCRIPTION:Understand the basic principles of successful change.\nUnderstand how to make changes that result in a more profitable and successful business.\nPractice the procedure of making changes until it is mastered.
URL:https://driveshops.com/events/managing-change-5-5-4/
LOCATION:Online
CATEGORIES:Managing Change,Workshop
ATTACH;FMTTYPE=image/png:https://driveshops.com/wp-content/uploads/2019/04/screen-shot-2019-05-21-at-10.47.53-am-e1558471201812.png
END:VEVENT
BEGIN:VEVENT
DTSTART;TZID=America/Los_Angeles:20240131T080000
DTEND;TZID=America/Los_Angeles:20240131T110000
DTSTAMP:20260425T094423
CREATED:20230714T134402Z
LAST-MODIFIED:20230714T134402Z
UID:10006888-1706688000-1706698800@driveshops.com
SUMMARY:Essentials of Shop Management 5/6
DESCRIPTION:
URL:https://driveshops.com/events/essentials-of-shop-management-5-6-28/
CATEGORIES:Essentials of Shop Management,Workshop
ATTACH;FMTTYPE=image/png:https://driveshops.com/wp-content/uploads/2019/04/screen-shot-2019-05-21-at-10.17.01-am-e1558471790866.png
END:VEVENT
BEGIN:VEVENT
DTSTART;TZID=America/Los_Angeles:20240131T080000
DTEND;TZID=America/Los_Angeles:20240131T110000
DTSTAMP:20260425T094423
CREATED:20230714T133437Z
LAST-MODIFIED:20230714T133437Z
UID:10006883-1706688000-1706698800@driveshops.com
SUMMARY:Building Your Dream Team 5/5
DESCRIPTION:
URL:https://driveshops.com/events/building-your-dream-team-5-5-14/
LOCATION:Online
CATEGORIES:Building Your Dream Team
ATTACH;FMTTYPE=image/png:https://driveshops.com/wp-content/uploads/2019/03/screen-shot-2019-05-20-at-12.10.22-pm-e1558471852915.png
END:VEVENT
BEGIN:VEVENT
DTSTART;TZID=America/Los_Angeles:20240130T080000
DTEND;TZID=America/Los_Angeles:20240130T110000
DTSTAMP:20260425T094423
CREATED:20230714T191547Z
LAST-MODIFIED:20230714T191547Z
UID:10005578-1706601600-1706612400@driveshops.com
SUMMARY:Collision - Controlling The Front 1/5
DESCRIPTION:
URL:https://driveshops.com/events/collision-controlling-the-front-1-5-5/
LOCATION:Online
CATEGORIES:Collision - Controlling The Front,Workshop
ATTACH;FMTTYPE=image/png:https://driveshops.com/wp-content/uploads/2019/04/screen-shot-2019-05-21-at-10.29.28-am-e1558471305153.png
END:VEVENT
BEGIN:VEVENT
DTSTART;TZID=America/Los_Angeles:20240130T080000
DTEND;TZID=America/Los_Angeles:20240130T110000
DTSTAMP:20260425T094423
CREATED:20230714T144738Z
LAST-MODIFIED:20230714T144738Z
UID:10005576-1706601600-1706612400@driveshops.com
SUMMARY:Marketing Your Shop 3/4
DESCRIPTION:
URL:https://driveshops.com/events/marketing-your-shop-3-4-4/
LOCATION:Online
CATEGORIES:Marketing Your Shop
END:VEVENT
BEGIN:VEVENT
DTSTART;TZID=America/Los_Angeles:20240130T080000
DTEND;TZID=America/Los_Angeles:20240130T110000
DTSTAMP:20260425T094423
CREATED:20230714T144356Z
LAST-MODIFIED:20230714T144356Z
UID:10005572-1706601600-1706612400@driveshops.com
SUMMARY:How to Master Training Workshop 3/4
DESCRIPTION:
URL:https://driveshops.com/events/how-to-master-training-workshop-3-4-5/
LOCATION:Online
CATEGORIES:How to Master Training,Workshop
ORGANIZER;CN="Tony Wisler":MAILTO:scheduling@driveshops.com
END:VEVENT
BEGIN:VEVENT
DTSTART;TZID=America/Los_Angeles:20240130T080000
DTEND;TZID=America/Los_Angeles:20240130T110000
DTSTAMP:20260425T094423
CREATED:20230714T132930Z
LAST-MODIFIED:20230714T132930Z
UID:10006879-1706601600-1706612400@driveshops.com
SUMMARY:Planning For Success 5/5
DESCRIPTION:
URL:https://driveshops.com/events/planning-for-success-5-5-4/
LOCATION:Online
CATEGORIES:Planning for Success,Workshop
ATTACH;FMTTYPE=image/png:https://driveshops.com/wp-content/uploads/2019/04/screen-shot-2019-05-21-at-10.44.40-am-e1558471214538.png
END:VEVENT
BEGIN:VEVENT
DTSTART;TZID=America/Los_Angeles:20240129T080000
DTEND;TZID=America/Los_Angeles:20240129T110000
DTSTAMP:20260425T094423
CREATED:20230714T143720Z
LAST-MODIFIED:20230714T143720Z
UID:10005567-1706515200-1706526000@driveshops.com
SUMMARY:Professional Service Advisor Sales 4/6
DESCRIPTION:
URL:https://driveshops.com/events/professional-service-advisor-sales-4-6-15/
LOCATION:Online
CATEGORIES:Professional Service Advisor Sales,Workshop
ATTACH;FMTTYPE=image/png:https://driveshops.com/wp-content/uploads/2019/04/screen-shot-2019-05-21-at-10.14.39-am-e1558470540769.png
END:VEVENT
BEGIN:VEVENT
DTSTART;TZID=America/Los_Angeles:20240129T080000
DTEND;TZID=America/Los_Angeles:20240129T110000
DTSTAMP:20260425T094423
CREATED:20230714T142724Z
LAST-MODIFIED:20230714T142724Z
UID:10005562-1706515200-1706526000@driveshops.com
SUMMARY:Managing Change 4/5
DESCRIPTION:Understand the basic principles of successful change.\nUnderstand how to make changes that result in a more profitable and successful business.\nPractice the procedure of making changes until it is mastered.
URL:https://driveshops.com/events/managing-change-4-5-3/
LOCATION:Online
CATEGORIES:Managing Change,Workshop
ATTACH;FMTTYPE=image/png:https://driveshops.com/wp-content/uploads/2019/04/screen-shot-2019-05-21-at-10.47.53-am-e1558471201812.png
END:VEVENT
BEGIN:VEVENT
DTSTART;TZID=America/Los_Angeles:20240129T080000
DTEND;TZID=America/Los_Angeles:20240129T110000
DTSTAMP:20260425T094423
CREATED:20230714T134319Z
LAST-MODIFIED:20230714T134319Z
UID:10006887-1706515200-1706526000@driveshops.com
SUMMARY:Essentials of Shop Management 4/6
DESCRIPTION:
URL:https://driveshops.com/events/essentials-of-shop-management-4-6-28/
LOCATION:Online
CATEGORIES:Essentials of Shop Management,Workshop
ATTACH;FMTTYPE=image/png:https://driveshops.com/wp-content/uploads/2019/04/screen-shot-2019-05-21-at-10.17.01-am-e1558471790866.png
END:VEVENT
BEGIN:VEVENT
DTSTART;TZID=America/Los_Angeles:20240129T080000
DTEND;TZID=America/Los_Angeles:20240129T110000
DTSTAMP:20260425T094423
CREATED:20230714T133345Z
LAST-MODIFIED:20230714T133345Z
UID:10005551-1706515200-1706526000@driveshops.com
SUMMARY:Building Your Dream Team 4/5
DESCRIPTION:
URL:https://driveshops.com/events/building-your-dream-team-4-5-13/
LOCATION:Online
CATEGORIES:Building Your Dream Team
ATTACH;FMTTYPE=image/png:https://driveshops.com/wp-content/uploads/2019/03/screen-shot-2019-05-20-at-12.10.22-pm-e1558471852915.png
END:VEVENT
BEGIN:VEVENT
DTSTART;TZID=America/Los_Angeles:20240126T080000
DTEND;TZID=America/Los_Angeles:20240126T110000
DTSTAMP:20260425T094423
CREATED:20230718T195125Z
LAST-MODIFIED:20230718T195125Z
UID:10005633-1706256000-1706266800@driveshops.com
SUMMARY:Building Your Dream Team 3/5
DESCRIPTION:
URL:https://driveshops.com/events/building-your-dream-team-3-5-14/
LOCATION:Online
CATEGORIES:Building Your Dream Team
ATTACH;FMTTYPE=image/png:https://driveshops.com/wp-content/uploads/2019/03/screen-shot-2019-05-20-at-12.10.22-pm-e1558471852915.png
END:VEVENT
BEGIN:VEVENT
DTSTART;TZID=America/Los_Angeles:20240126T080000
DTEND;TZID=America/Los_Angeles:20240126T110000
DTSTAMP:20260425T094423
CREATED:20230714T143715Z
LAST-MODIFIED:20230714T143715Z
UID:10005566-1706256000-1706266800@driveshops.com
SUMMARY:Professional Service Advisor Sales 3/6
DESCRIPTION:
URL:https://driveshops.com/events/professional-service-advisor-sales-3-6-15/
LOCATION:Online
CATEGORIES:Professional Service Advisor Sales,Workshop
ATTACH;FMTTYPE=image/png:https://driveshops.com/wp-content/uploads/2019/04/screen-shot-2019-05-21-at-10.14.39-am-e1558470540769.png
END:VEVENT
BEGIN:VEVENT
DTSTART;TZID=America/Los_Angeles:20240126T080000
DTEND;TZID=America/Los_Angeles:20240126T110000
DTSTAMP:20260425T094423
CREATED:20230714T142656Z
LAST-MODIFIED:20230714T142656Z
UID:10006892-1706256000-1706266800@driveshops.com
SUMMARY:Managing Change 3/5
DESCRIPTION:Understand the basic principles of successful change.\nUnderstand how to make changes that result in a more profitable and successful business.\nPractice the procedure of making changes until it is mastered.
URL:https://driveshops.com/events/managing-change-3-5-3/
LOCATION:Online
CATEGORIES:Managing Change,Workshop
ATTACH;FMTTYPE=image/png:https://driveshops.com/wp-content/uploads/2019/04/screen-shot-2019-05-21-at-10.47.53-am-e1558471201812.png
END:VEVENT
BEGIN:VEVENT
DTSTART;TZID=America/Los_Angeles:20240126T080000
DTEND;TZID=America/Los_Angeles:20240126T110000
DTSTAMP:20260425T094423
CREATED:20230714T134244Z
LAST-MODIFIED:20230714T134244Z
UID:10006886-1706256000-1706266800@driveshops.com
SUMMARY:Essentials of Shop Management 3/6
DESCRIPTION:
URL:https://driveshops.com/events/essentials-of-shop-management-3-6-28/
LOCATION:Online
CATEGORIES:Essentials of Shop Management,Workshop
ATTACH;FMTTYPE=image/png:https://driveshops.com/wp-content/uploads/2019/04/screen-shot-2019-05-21-at-10.17.01-am-e1558471790866.png
END:VEVENT
BEGIN:VEVENT
DTSTART;TZID=America/Los_Angeles:20240125T080000
DTEND;TZID=America/Los_Angeles:20240125T110000
DTSTAMP:20260425T094423
CREATED:20230714T144736Z
LAST-MODIFIED:20230714T144736Z
UID:10005575-1706169600-1706180400@driveshops.com
SUMMARY:Marketing Your Shop 2/4
DESCRIPTION:
URL:https://driveshops.com/events/marketing-your-shop-2-4-4/
LOCATION:Online
CATEGORIES:Marketing Your Shop
END:VEVENT
BEGIN:VEVENT
DTSTART;TZID=America/Los_Angeles:20240125T080000
DTEND;TZID=America/Los_Angeles:20240125T110000
DTSTAMP:20260425T094423
CREATED:20230714T144353Z
LAST-MODIFIED:20230714T144353Z
UID:10005571-1706169600-1706180400@driveshops.com
SUMMARY:How to Master Training Workshop 2/4
DESCRIPTION:
URL:https://driveshops.com/events/how-to-master-training-workshop-2-4-5/
LOCATION:Online
CATEGORIES:How to Master Training,Workshop
ORGANIZER;CN="Tony Wisler":MAILTO:scheduling@driveshops.com
END:VEVENT
BEGIN:VEVENT
DTSTART;TZID=America/Los_Angeles:20240125T080000
DTEND;TZID=America/Los_Angeles:20240125T110000
DTSTAMP:20260425T094423
CREATED:20230714T132857Z
LAST-MODIFIED:20230714T132857Z
UID:10006878-1706169600-1706180400@driveshops.com
SUMMARY:Planning For Success 4/5
DESCRIPTION:
URL:https://driveshops.com/events/planning-for-success-4-5-4/
LOCATION:Online
CATEGORIES:Planning for Success,Workshop
ATTACH;FMTTYPE=image/png:https://driveshops.com/wp-content/uploads/2019/04/screen-shot-2019-05-21-at-10.44.40-am-e1558471214538.png
END:VEVENT
BEGIN:VEVENT
DTSTART;TZID=America/Los_Angeles:20240124T080000
DTEND;TZID=America/Los_Angeles:20240124T110000
DTSTAMP:20260425T094423
CREATED:20230718T195058Z
LAST-MODIFIED:20230718T195058Z
UID:10005632-1706083200-1706094000@driveshops.com
SUMMARY:Building Your Dream Team 2/5
DESCRIPTION:
URL:https://driveshops.com/events/building-your-dream-team-2-5-14/
LOCATION:Online
CATEGORIES:Building Your Dream Team
ATTACH;FMTTYPE=image/png:https://driveshops.com/wp-content/uploads/2019/03/screen-shot-2019-05-20-at-12.10.22-pm-e1558471852915.png
END:VEVENT
BEGIN:VEVENT
DTSTART;TZID=America/Los_Angeles:20240124T080000
DTEND;TZID=America/Los_Angeles:20240124T110000
DTSTAMP:20260425T094423
CREATED:20230714T143712Z
LAST-MODIFIED:20230714T143712Z
UID:10005565-1706083200-1706094000@driveshops.com
SUMMARY:Professional Service Advisor Sales 2/6
DESCRIPTION:
URL:https://driveshops.com/events/professional-service-advisor-sales-2-6-15/
LOCATION:Online
CATEGORIES:Professional Service Advisor Sales,Workshop
ATTACH;FMTTYPE=image/png:https://driveshops.com/wp-content/uploads/2019/04/screen-shot-2019-05-21-at-10.14.39-am-e1558470540769.png
END:VEVENT
BEGIN:VEVENT
DTSTART;TZID=America/Los_Angeles:20240124T080000
DTEND;TZID=America/Los_Angeles:20240124T110000
DTSTAMP:20260425T094423
CREATED:20230714T142600Z
LAST-MODIFIED:20230714T142600Z
UID:10006891-1706083200-1706094000@driveshops.com
SUMMARY:Managing Change 2/5
DESCRIPTION:Understand the basic principles of successful change.\nUnderstand how to make changes that result in a more profitable and successful business.\nPractice the procedure of making changes until it is mastered.
URL:https://driveshops.com/events/managing-change-2-5-3/
LOCATION:Online
CATEGORIES:Managing Change,Workshop
ATTACH;FMTTYPE=image/png:https://driveshops.com/wp-content/uploads/2019/04/screen-shot-2019-05-21-at-10.47.53-am-e1558471201812.png
END:VEVENT
BEGIN:VEVENT
DTSTART;TZID=America/Los_Angeles:20240124T080000
DTEND;TZID=America/Los_Angeles:20240124T110000
DTSTAMP:20260425T094423
CREATED:20230714T134221Z
LAST-MODIFIED:20230714T134221Z
UID:10006885-1706083200-1706094000@driveshops.com
SUMMARY:Essentials of Shop Management 2/6
DESCRIPTION:
URL:https://driveshops.com/events/essentials-of-shop-management-2-6-28/
LOCATION:Online
CATEGORIES:Essentials of Shop Management,Workshop
ATTACH;FMTTYPE=image/png:https://driveshops.com/wp-content/uploads/2019/04/screen-shot-2019-05-21-at-10.17.01-am-e1558471790866.png
END:VEVENT
BEGIN:VEVENT
DTSTART;TZID=America/Los_Angeles:20240123T080000
DTEND;TZID=America/Los_Angeles:20240123T110000
DTSTAMP:20260425T094423
CREATED:20230714T144729Z
LAST-MODIFIED:20230714T144729Z
UID:10005574-1705996800-1706007600@driveshops.com
SUMMARY:Marketing Your Shop 1/4
DESCRIPTION:
URL:https://driveshops.com/events/marketing-your-shop-1-4-5/
LOCATION:Online
CATEGORIES:Marketing Your Shop
END:VEVENT
BEGIN:VEVENT
DTSTART;TZID=America/Los_Angeles:20240123T080000
DTEND;TZID=America/Los_Angeles:20240123T110000
DTSTAMP:20260425T094423
CREATED:20230714T144350Z
LAST-MODIFIED:20230714T144350Z
UID:10005570-1705996800-1706007600@driveshops.com
SUMMARY:How to Master Training Workshop 1/4
DESCRIPTION:
URL:https://driveshops.com/events/how-to-master-training-workshop-1-4-4/
LOCATION:Online
CATEGORIES:How to Master Training,Workshop
ORGANIZER;CN="Tony Wisler":MAILTO:scheduling@driveshops.com
END:VEVENT
BEGIN:VEVENT
DTSTART;TZID=America/Los_Angeles:20240123T080000
DTEND;TZID=America/Los_Angeles:20240123T110000
DTSTAMP:20260425T094423
CREATED:20230714T132823Z
LAST-MODIFIED:20230714T132823Z
UID:10006877-1705996800-1706007600@driveshops.com
SUMMARY:Planning For Success 3/5
DESCRIPTION:
URL:https://driveshops.com/events/planning-for-success-3-5-4/
LOCATION:Online
CATEGORIES:Planning for Success,Workshop
ATTACH;FMTTYPE=image/png:https://driveshops.com/wp-content/uploads/2019/04/screen-shot-2019-05-21-at-10.44.40-am-e1558471214538.png
END:VEVENT
BEGIN:VEVENT
DTSTART;TZID=America/Los_Angeles:20240122T080000
DTEND;TZID=America/Los_Angeles:20240122T110000
DTSTAMP:20260425T094423
CREATED:20230718T194953Z
LAST-MODIFIED:20230718T194953Z
UID:10005631-1705910400-1705921200@driveshops.com
SUMMARY:Building Your Dream Team 1/5
DESCRIPTION:
URL:https://driveshops.com/events/building-your-dream-team-1-5-14/
LOCATION:Online
CATEGORIES:Building Your Dream Team
ATTACH;FMTTYPE=image/png:https://driveshops.com/wp-content/uploads/2019/03/screen-shot-2019-05-20-at-12.10.22-pm-e1558471852915.png
END:VEVENT
BEGIN:VEVENT
DTSTART;TZID=America/Los_Angeles:20240122T080000
DTEND;TZID=America/Los_Angeles:20240122T110000
DTSTAMP:20260425T094423
CREATED:20230714T143704Z
LAST-MODIFIED:20230714T143704Z
UID:10005564-1705910400-1705921200@driveshops.com
SUMMARY:Professional Service Advisor Sales 1/6
DESCRIPTION:
URL:https://driveshops.com/events/professional-service-advisor-sales-1-6-14/
LOCATION:Online
CATEGORIES:Professional Service Advisor Sales,Workshop
ATTACH;FMTTYPE=image/png:https://driveshops.com/wp-content/uploads/2019/04/screen-shot-2019-05-21-at-10.14.39-am-e1558470540769.png
END:VEVENT
END:VCALENDAR