BEGIN:VCALENDAR
VERSION:2.0
PRODID:-//DRIVE - ECPv6.15.18//NONSGML v1.0//EN
CALSCALE:GREGORIAN
METHOD:PUBLISH
X-ORIGINAL-URL:https://driveshops.com
X-WR-CALDESC:Events for DRIVE
REFRESH-INTERVAL;VALUE=DURATION:PT1H
X-Robots-Tag:noindex
X-PUBLISHED-TTL:PT1H
BEGIN:VTIMEZONE
TZID:America/Los_Angeles
BEGIN:DAYLIGHT
TZOFFSETFROM:-0800
TZOFFSETTO:-0700
TZNAME:PDT
DTSTART:20240310T100000
END:DAYLIGHT
BEGIN:STANDARD
TZOFFSETFROM:-0700
TZOFFSETTO:-0800
TZNAME:PST
DTSTART:20241103T090000
END:STANDARD
BEGIN:DAYLIGHT
TZOFFSETFROM:-0800
TZOFFSETTO:-0700
TZNAME:PDT
DTSTART:20250309T100000
END:DAYLIGHT
BEGIN:STANDARD
TZOFFSETFROM:-0700
TZOFFSETTO:-0800
TZNAME:PST
DTSTART:20251102T090000
END:STANDARD
BEGIN:DAYLIGHT
TZOFFSETFROM:-0800
TZOFFSETTO:-0700
TZNAME:PDT
DTSTART:20260308T100000
END:DAYLIGHT
BEGIN:STANDARD
TZOFFSETFROM:-0700
TZOFFSETTO:-0800
TZNAME:PST
DTSTART:20261101T090000
END:STANDARD
END:VTIMEZONE
BEGIN:VTIMEZONE
TZID:UTC
BEGIN:STANDARD
TZOFFSETFROM:+0000
TZOFFSETTO:+0000
TZNAME:UTC
DTSTART:20240101T000000
END:STANDARD
END:VTIMEZONE
BEGIN:VTIMEZONE
TZID:America/Denver
BEGIN:DAYLIGHT
TZOFFSETFROM:-0700
TZOFFSETTO:-0600
TZNAME:MDT
DTSTART:20240310T090000
END:DAYLIGHT
BEGIN:STANDARD
TZOFFSETFROM:-0600
TZOFFSETTO:-0700
TZNAME:MST
DTSTART:20241103T080000
END:STANDARD
BEGIN:DAYLIGHT
TZOFFSETFROM:-0700
TZOFFSETTO:-0600
TZNAME:MDT
DTSTART:20250309T090000
END:DAYLIGHT
BEGIN:STANDARD
TZOFFSETFROM:-0600
TZOFFSETTO:-0700
TZNAME:MST
DTSTART:20251102T080000
END:STANDARD
BEGIN:DAYLIGHT
TZOFFSETFROM:-0700
TZOFFSETTO:-0600
TZNAME:MDT
DTSTART:20260308T090000
END:DAYLIGHT
BEGIN:STANDARD
TZOFFSETFROM:-0600
TZOFFSETTO:-0700
TZNAME:MST
DTSTART:20261101T080000
END:STANDARD
END:VTIMEZONE
BEGIN:VEVENT
DTSTART;TZID=America/Los_Angeles:20251021T080000
DTEND;TZID=America/Los_Angeles:20251021T110000
DTSTAMP:20260424T015025
CREATED:20250319T173257Z
LAST-MODIFIED:20250416T174551Z
UID:10007548-1761033600-1761044400@driveshops.com
SUMMARY:Succession & Exit Planning Day 4 of 5
DESCRIPTION:
URL:https://driveshops.com/events/succession-exit-planning-day-4-of-5-2/
LOCATION:Online
CATEGORIES:Succession & Exit Planning,Workshop
END:VEVENT
BEGIN:VEVENT
DTSTART;TZID=America/Los_Angeles:20251021T080000
DTEND;TZID=America/Los_Angeles:20251021T110000
DTSTAMP:20260424T015025
CREATED:20250320T131835Z
LAST-MODIFIED:20250416T174541Z
UID:10007679-1761033600-1761044400@driveshops.com
SUMMARY:Essentials of Shop Management Day 4 of 6
DESCRIPTION:
URL:https://driveshops.com/events/essentials-of-shop-management-day-4-of-6-12/
LOCATION:Online
CATEGORIES:Essentials of Shop Management,Workshop
END:VEVENT
BEGIN:VEVENT
DTSTART;TZID=America/Los_Angeles:20251021T080000
DTEND;TZID=America/Los_Angeles:20251021T110000
DTSTAMP:20260424T015025
CREATED:20250320T132649Z
LAST-MODIFIED:20250320T132649Z
UID:10007685-1761033600-1761044400@driveshops.com
SUMMARY:Getting Your Point Across Day 4 of 6
DESCRIPTION:
URL:https://driveshops.com/events/getting-your-point-across-day-4-of-6-3/
LOCATION:Online
CATEGORIES:Getting Your Point Across,Workshop
ORGANIZER;CN="Tony Wisler":MAILTO:scheduling@driveshops.com
END:VEVENT
BEGIN:VEVENT
DTSTART;TZID=America/Los_Angeles:20251021T080000
DTEND;TZID=America/Los_Angeles:20251021T110000
DTSTAMP:20260424T015025
CREATED:20250320T133200Z
LAST-MODIFIED:20250320T133200Z
UID:10007694-1761033600-1761044400@driveshops.com
SUMMARY:Marketing Your Shop Day 3 of 4
DESCRIPTION:
URL:https://driveshops.com/events/marketing-your-shop-day-3-of-4-3/
LOCATION:Online
CATEGORIES:Marketing Your Shop
END:VEVENT
BEGIN:VEVENT
DTSTART;TZID=America/Los_Angeles:20251022T080000
DTEND;TZID=America/Los_Angeles:20251022T110000
DTSTAMP:20260424T015025
CREATED:20250318T182758Z
LAST-MODIFIED:20250416T172618Z
UID:10007487-1761120000-1761130800@driveshops.com
SUMMARY:Master and Control The Front of Your Shop Day 5 of 5
DESCRIPTION:
URL:https://driveshops.com/events/controlling-the-front-day-5-of-5-6/
LOCATION:Online
CATEGORIES:Master and Control the Front of Your Shop,Workshop
END:VEVENT
BEGIN:VEVENT
DTSTART;TZID=UTC:20251022T080000
DTEND;TZID=UTC:20251022T110000
DTSTAMP:20260424T015025
CREATED:20250318T185555Z
LAST-MODIFIED:20250318T185555Z
UID:10007509-1761120000-1761130800@driveshops.com
SUMMARY:How to Read and Use Financial Statements Day 5 of 6
DESCRIPTION:
URL:https://driveshops.com/events/how-to-read-and-use-financial-statements-day-5-of-6-5/
LOCATION:Online
CATEGORIES:How to Read and Use Financial Statements,Workshop
END:VEVENT
BEGIN:VEVENT
DTSTART;TZID=America/Los_Angeles:20251022T080000
DTEND;TZID=America/Los_Angeles:20251022T110000
DTSTAMP:20260424T015025
CREATED:20250319T173310Z
LAST-MODIFIED:20250416T172556Z
UID:10007549-1761120000-1761130800@driveshops.com
SUMMARY:Succession & Exit Planning Day 5 of 5
DESCRIPTION:
URL:https://driveshops.com/events/succession-exit-planning-day-5-of-5-2/
LOCATION:Online
CATEGORIES:Succession & Exit Planning,Workshop
END:VEVENT
BEGIN:VEVENT
DTSTART;TZID=America/Los_Angeles:20251022T080000
DTEND;TZID=America/Los_Angeles:20251022T110000
DTSTAMP:20260424T015025
CREATED:20250320T131845Z
LAST-MODIFIED:20250320T131845Z
UID:10007680-1761120000-1761130800@driveshops.com
SUMMARY:Essentials of Shop Management Day 5 of 6
DESCRIPTION:
URL:https://driveshops.com/events/essentials-of-shop-management-day-5-of-6-12/
CATEGORIES:Essentials of Shop Management,Workshop
ATTACH;FMTTYPE=image/png:https://driveshops.com/wp-content/uploads/2019/04/screen-shot-2019-05-21-at-10.17.01-am-e1558471790866.png
END:VEVENT
BEGIN:VEVENT
DTSTART;TZID=America/Los_Angeles:20251023T080000
DTEND;TZID=America/Los_Angeles:20251023T110000
DTSTAMP:20260424T015025
CREATED:20250318T184404Z
LAST-MODIFIED:20250416T172533Z
UID:10007500-1761206400-1761217200@driveshops.com
SUMMARY:How to Increase Your Profits Day 4 of 4
DESCRIPTION:
URL:https://driveshops.com/events/how-to-increase-your-profits-day-4-of-4-8/
LOCATION:Online
CATEGORIES:How To Increase Your Profits,Workshop
END:VEVENT
BEGIN:VEVENT
DTSTART;TZID=UTC:20251023T080000
DTEND;TZID=UTC:20251023T110000
DTSTAMP:20260424T015025
CREATED:20250318T185608Z
LAST-MODIFIED:20250318T185608Z
UID:10007510-1761206400-1761217200@driveshops.com
SUMMARY:How to Read and Use Financial Statements Day 6 of 6
DESCRIPTION:
URL:https://driveshops.com/events/how-to-read-and-use-financial-statements-day-6-of-6-5/
LOCATION:Online
CATEGORIES:How to Read and Use Financial Statements,Workshop
END:VEVENT
BEGIN:VEVENT
DTSTART;TZID=America/Los_Angeles:20251023T080000
DTEND;TZID=America/Los_Angeles:20251023T110000
DTSTAMP:20260424T015025
CREATED:20250320T131909Z
LAST-MODIFIED:20250320T131909Z
UID:10007681-1761206400-1761217200@driveshops.com
SUMMARY:Essentials of Shop Management Day 6 of 6
DESCRIPTION:
URL:https://driveshops.com/events/essentials-of-shop-management-day-6-of-6-11/
LOCATION:Online
CATEGORIES:Essentials of Shop Management,Workshop
ATTACH;FMTTYPE=image/png:https://driveshops.com/wp-content/uploads/2019/04/screen-shot-2019-05-21-at-10.17.01-am-e1558471790866.png
END:VEVENT
BEGIN:VEVENT
DTSTART;TZID=America/Los_Angeles:20251023T080000
DTEND;TZID=America/Los_Angeles:20251023T110000
DTSTAMP:20260424T015025
CREATED:20250320T132719Z
LAST-MODIFIED:20250320T132719Z
UID:10007687-1761206400-1761217200@driveshops.com
SUMMARY:Getting Your Point Across Day 6 of 6
DESCRIPTION:
URL:https://driveshops.com/events/getting-your-point-across-day-6-of-6-3/
LOCATION:Online
CATEGORIES:Getting Your Point Across,Workshop
ORGANIZER;CN="Tony Wisler":MAILTO:scheduling@driveshops.com
END:VEVENT
BEGIN:VEVENT
DTSTART;TZID=America/Los_Angeles:20251023T080000
DTEND;TZID=America/Los_Angeles:20251023T110000
DTSTAMP:20260424T015025
CREATED:20250320T133212Z
LAST-MODIFIED:20250320T133212Z
UID:10007695-1761206400-1761217200@driveshops.com
SUMMARY:Marketing Your Shop Day 4 of 4
DESCRIPTION:
URL:https://driveshops.com/events/marketing-your-shop-day-4-of-4-3/
LOCATION:Online
CATEGORIES:Marketing Your Shop
END:VEVENT
BEGIN:VEVENT
DTSTART;TZID=America/Denver:20251104T080000
DTEND;TZID=America/Denver:20251104T110000
DTSTAMP:20260424T015025
CREATED:20250319T174617Z
LAST-MODIFIED:20250416T172457Z
UID:10007560-1762243200-1762254000@driveshops.com
SUMMARY:Managing Change Day 1 of 5
DESCRIPTION:Understand the basic principles of successful change.\nUnderstand how to make changes that result in a more profitable and successful business.\nPractice the procedure of making changes until it is mastered.
URL:https://driveshops.com/events/managing-change-day-1-of-5-5/
LOCATION:Online
CATEGORIES:Managing Change,Workshop
END:VEVENT
BEGIN:VEVENT
DTSTART;TZID=America/Los_Angeles:20251104T080000
DTEND;TZID=America/Los_Angeles:20251104T110000
DTSTAMP:20260424T015025
CREATED:20250319T184957Z
LAST-MODIFIED:20250416T172448Z
UID:10007601-1762243200-1762254000@driveshops.com
SUMMARY:Professional Service Advisor Sales Day 1 of 6
DESCRIPTION:
URL:https://driveshops.com/events/professional-service-advisor-sales-day-1-of-6-9/
LOCATION:Online
CATEGORIES:Professional Service Advisor Sales,Workshop
END:VEVENT
BEGIN:VEVENT
DTSTART;TZID=America/Los_Angeles:20251104T080000
DTEND;TZID=America/Los_Angeles:20251104T110000
DTSTAMP:20260424T015025
CREATED:20250319T185752Z
LAST-MODIFIED:20250416T172437Z
UID:10007617-1762243200-1762254000@driveshops.com
SUMMARY:Building Your Dream Team Day 1 of 5
DESCRIPTION:
URL:https://driveshops.com/events/building-your-dream-team-day-1-of-5-6/
LOCATION:Online
CATEGORIES:Building Your Dream Team
END:VEVENT
BEGIN:VEVENT
DTSTART;TZID=America/Los_Angeles:20251104T080000
DTEND;TZID=America/Los_Angeles:20251104T110000
DTSTAMP:20260424T015025
CREATED:20250320T121126Z
LAST-MODIFIED:20250416T172427Z
UID:10007658-1762243200-1762254000@driveshops.com
SUMMARY:Planning For Success Day 1 of 5
DESCRIPTION:
URL:https://driveshops.com/events/planning-for-success-day-1-of-5-7/
LOCATION:Online
CATEGORIES:Planning for Success,Workshop
END:VEVENT
BEGIN:VEVENT
DTSTART;TZID=America/Los_Angeles:20251104T080000
DTEND;TZID=America/Los_Angeles:20251104T110000
DTSTAMP:20260424T015025
CREATED:20250320T121724Z
LAST-MODIFIED:20250416T172415Z
UID:10007663-1762243200-1762254000@driveshops.com
SUMMARY:Crafting Business Plans That Win Investors and Secure Loans Day 1 of 3
DESCRIPTION:
URL:https://driveshops.com/events/crafting-business-plans-that-win-investors-and-secure-loans-day-1-of-3/
LOCATION:Online
CATEGORIES:Crafting Business Plans That Win Investors and Secure Loans,How To Increase Your Profits,Workshop
END:VEVENT
BEGIN:VEVENT
DTSTART;TZID=America/Denver:20251105T080000
DTEND;TZID=America/Denver:20251105T110000
DTSTAMP:20260424T015025
CREATED:20250319T174625Z
LAST-MODIFIED:20250416T172404Z
UID:10007561-1762329600-1762340400@driveshops.com
SUMMARY:Managing Change Day 2 of 5
DESCRIPTION:Understand the basic principles of successful change.\nUnderstand how to make changes that result in a more profitable and successful business.\nPractice the procedure of making changes until it is mastered.
URL:https://driveshops.com/events/managing-change-day-2-of-5-5/
LOCATION:Online
CATEGORIES:Managing Change,Workshop
END:VEVENT
BEGIN:VEVENT
DTSTART;TZID=America/Los_Angeles:20251105T080000
DTEND;TZID=America/Los_Angeles:20251105T110000
DTSTAMP:20260424T015025
CREATED:20250319T185005Z
LAST-MODIFIED:20250416T172353Z
UID:10007602-1762329600-1762340400@driveshops.com
SUMMARY:Professional Service Advisor Sales Day 2 of 6
DESCRIPTION:
URL:https://driveshops.com/events/professional-service-advisor-sales-day-2-of-6-9/
LOCATION:Online
CATEGORIES:Professional Service Advisor Sales,Workshop
END:VEVENT
BEGIN:VEVENT
DTSTART;TZID=America/Los_Angeles:20251105T080000
DTEND;TZID=America/Los_Angeles:20251105T110000
DTSTAMP:20260424T015025
CREATED:20250319T185759Z
LAST-MODIFIED:20250416T172343Z
UID:10007618-1762329600-1762340400@driveshops.com
SUMMARY:Building Your Dream Team Day 2 of 5
DESCRIPTION:
URL:https://driveshops.com/events/building-your-dream-team-day-2-of-5-6/
LOCATION:Online
CATEGORIES:Building Your Dream Team
END:VEVENT
BEGIN:VEVENT
DTSTART;TZID=America/Los_Angeles:20251105T080000
DTEND;TZID=America/Los_Angeles:20251105T110000
DTSTAMP:20260424T015025
CREATED:20250320T121140Z
LAST-MODIFIED:20250320T121140Z
UID:10007659-1762329600-1762340400@driveshops.com
SUMMARY:Planning For Success Day 2 of 5
DESCRIPTION:
URL:https://driveshops.com/events/planning-for-success-day-2-of-5-7/
LOCATION:Online
CATEGORIES:Planning for Success,Workshop
ATTACH;FMTTYPE=image/png:https://driveshops.com/wp-content/uploads/2019/04/screen-shot-2019-05-21-at-10.44.40-am-e1558471214538.png
END:VEVENT
BEGIN:VEVENT
DTSTART;TZID=America/Los_Angeles:20251105T080000
DTEND;TZID=America/Los_Angeles:20251105T110000
DTSTAMP:20260424T015025
CREATED:20250320T121838Z
LAST-MODIFIED:20250416T172335Z
UID:10007664-1762329600-1762340400@driveshops.com
SUMMARY:Crafting Business Plans That Win Investors and Secure Loans Day 2 of 3
DESCRIPTION:
URL:https://driveshops.com/events/crafting-business-plans-that-win-investors-and-secure-loans-day-2-of-3/
LOCATION:Online
CATEGORIES:Crafting Business Plans That Win Investors and Secure Loans,Workshop
END:VEVENT
BEGIN:VEVENT
DTSTART;TZID=America/Denver:20251106T080000
DTEND;TZID=America/Denver:20251106T110000
DTSTAMP:20260424T015025
CREATED:20250319T174635Z
LAST-MODIFIED:20250416T172327Z
UID:10007562-1762416000-1762426800@driveshops.com
SUMMARY:Managing Change Day 3 of 5
DESCRIPTION:Understand the basic principles of successful change.\nUnderstand how to make changes that result in a more profitable and successful business.\nPractice the procedure of making changes until it is mastered.
URL:https://driveshops.com/events/managing-change-day-3-of-5-5/
LOCATION:Online
CATEGORIES:Managing Change,Workshop
END:VEVENT
BEGIN:VEVENT
DTSTART;TZID=America/Los_Angeles:20251106T080000
DTEND;TZID=America/Los_Angeles:20251106T110000
DTSTAMP:20260424T015025
CREATED:20250319T185013Z
LAST-MODIFIED:20250319T185013Z
UID:10007603-1762416000-1762426800@driveshops.com
SUMMARY:Professional Service Advisor Sales Day 3 of 6
DESCRIPTION:
URL:https://driveshops.com/events/professional-service-advisor-sales-day-3-of-6-9/
LOCATION:Online
CATEGORIES:Professional Service Advisor Sales,Workshop
ATTACH;FMTTYPE=image/png:https://driveshops.com/wp-content/uploads/2019/04/screen-shot-2019-05-21-at-10.14.39-am-e1558470540769.png
END:VEVENT
BEGIN:VEVENT
DTSTART;TZID=America/Los_Angeles:20251106T080000
DTEND;TZID=America/Los_Angeles:20251106T110000
DTSTAMP:20260424T015025
CREATED:20250319T185806Z
LAST-MODIFIED:20250416T172109Z
UID:10007619-1762416000-1762426800@driveshops.com
SUMMARY:Building Your Dream Team Day 3 of 5
DESCRIPTION:
URL:https://driveshops.com/events/building-your-dream-team-day-3-of-5-6/
LOCATION:Online
CATEGORIES:Building Your Dream Team
END:VEVENT
BEGIN:VEVENT
DTSTART;TZID=America/Los_Angeles:20251106T080000
DTEND;TZID=America/Los_Angeles:20251106T110000
DTSTAMP:20260424T015025
CREATED:20250320T121146Z
LAST-MODIFIED:20250416T172057Z
UID:10007660-1762416000-1762426800@driveshops.com
SUMMARY:Planning For Success Day 3 of 5
DESCRIPTION:
URL:https://driveshops.com/events/planning-for-success-day-3-of-5-7/
LOCATION:Online
CATEGORIES:Planning for Success,Workshop
END:VEVENT
BEGIN:VEVENT
DTSTART;TZID=America/Los_Angeles:20251106T080000
DTEND;TZID=America/Los_Angeles:20251106T110000
DTSTAMP:20260424T015025
CREATED:20250320T121822Z
LAST-MODIFIED:20250416T172046Z
UID:10007665-1762416000-1762426800@driveshops.com
SUMMARY:Crafting Business Plans That Win Investors and Secure Loans Day 3 of 3
DESCRIPTION:
URL:https://driveshops.com/events/crafting-business-plans-that-win-investors-and-secure-loans-day-3-of-3-2/
LOCATION:Online
CATEGORIES:Crafting Business Plans That Win Investors and Secure Loans,Workshop
END:VEVENT
BEGIN:VEVENT
DTSTART;TZID=America/Denver:20251111T080000
DTEND;TZID=America/Denver:20251111T110000
DTSTAMP:20260424T015025
CREATED:20250319T174648Z
LAST-MODIFIED:20250319T174648Z
UID:10007563-1762848000-1762858800@driveshops.com
SUMMARY:Managing Change Day 4 of 5
DESCRIPTION:Understand the basic principles of successful change.\nUnderstand how to make changes that result in a more profitable and successful business.\nPractice the procedure of making changes until it is mastered.
URL:https://driveshops.com/events/managing-change-day-4-of-5-5/
LOCATION:Online
CATEGORIES:Managing Change,Workshop
ATTACH;FMTTYPE=image/png:https://driveshops.com/wp-content/uploads/2019/04/screen-shot-2019-05-21-at-10.47.53-am-e1558471201812.png
END:VEVENT
BEGIN:VEVENT
DTSTART;TZID=UTC:20251111T080000
DTEND;TZID=UTC:20251111T110000
DTSTAMP:20260424T015025
CREATED:20250319T185024Z
LAST-MODIFIED:20250416T172026Z
UID:10007604-1762848000-1762858800@driveshops.com
SUMMARY:Professional Service Advisor Sales Day 4 of 6
DESCRIPTION:
URL:https://driveshops.com/events/professional-service-advisor-sales-day-4-of-6-9/
LOCATION:Online
CATEGORIES:Professional Service Advisor Sales,Workshop
END:VEVENT
END:VCALENDAR