BEGIN:VCALENDAR
VERSION:2.0
PRODID:-//DRIVE - ECPv6.15.18//NONSGML v1.0//EN
CALSCALE:GREGORIAN
METHOD:PUBLISH
X-WR-CALNAME:DRIVE
X-ORIGINAL-URL:https://driveshops.com
X-WR-CALDESC:Events for DRIVE
REFRESH-INTERVAL;VALUE=DURATION:PT1H
X-Robots-Tag:noindex
X-PUBLISHED-TTL:PT1H
BEGIN:VTIMEZONE
TZID:America/Los_Angeles
BEGIN:DAYLIGHT
TZOFFSETFROM:-0800
TZOFFSETTO:-0700
TZNAME:PDT
DTSTART:20230312T100000
END:DAYLIGHT
BEGIN:STANDARD
TZOFFSETFROM:-0700
TZOFFSETTO:-0800
TZNAME:PST
DTSTART:20231105T090000
END:STANDARD
BEGIN:DAYLIGHT
TZOFFSETFROM:-0800
TZOFFSETTO:-0700
TZNAME:PDT
DTSTART:20240310T100000
END:DAYLIGHT
BEGIN:STANDARD
TZOFFSETFROM:-0700
TZOFFSETTO:-0800
TZNAME:PST
DTSTART:20241103T090000
END:STANDARD
BEGIN:DAYLIGHT
TZOFFSETFROM:-0800
TZOFFSETTO:-0700
TZNAME:PDT
DTSTART:20250309T100000
END:DAYLIGHT
BEGIN:STANDARD
TZOFFSETFROM:-0700
TZOFFSETTO:-0800
TZNAME:PST
DTSTART:20251102T090000
END:STANDARD
END:VTIMEZONE
BEGIN:VTIMEZONE
TZID:America/Denver
BEGIN:DAYLIGHT
TZOFFSETFROM:-0700
TZOFFSETTO:-0600
TZNAME:MDT
DTSTART:20230312T090000
END:DAYLIGHT
BEGIN:STANDARD
TZOFFSETFROM:-0600
TZOFFSETTO:-0700
TZNAME:MST
DTSTART:20231105T080000
END:STANDARD
BEGIN:DAYLIGHT
TZOFFSETFROM:-0700
TZOFFSETTO:-0600
TZNAME:MDT
DTSTART:20240310T090000
END:DAYLIGHT
BEGIN:STANDARD
TZOFFSETFROM:-0600
TZOFFSETTO:-0700
TZNAME:MST
DTSTART:20241103T080000
END:STANDARD
BEGIN:DAYLIGHT
TZOFFSETFROM:-0700
TZOFFSETTO:-0600
TZNAME:MDT
DTSTART:20250309T090000
END:DAYLIGHT
BEGIN:STANDARD
TZOFFSETFROM:-0600
TZOFFSETTO:-0700
TZNAME:MST
DTSTART:20251102T080000
END:STANDARD
END:VTIMEZONE
BEGIN:VTIMEZONE
TZID:UTC
BEGIN:STANDARD
TZOFFSETFROM:+0000
TZOFFSETTO:+0000
TZNAME:UTC
DTSTART:20230101T000000
END:STANDARD
END:VTIMEZONE
BEGIN:VEVENT
DTSTART;TZID=America/Los_Angeles:20240911T080000
DTEND;TZID=America/Los_Angeles:20240911T110000
DTSTAMP:20260425T050824
CREATED:20240425T161611Z
LAST-MODIFIED:20240425T161611Z
UID:10007079-1726041600-1726052400@driveshops.com
SUMMARY:Essentials of Shop Management Day 2 of 6
DESCRIPTION:
URL:https://driveshops.com/events/essentials-of-shop-management-day-2-of-6-2/
LOCATION:Online
CATEGORIES:Essentials of Shop Management,Workshop
ATTACH;FMTTYPE=image/png:https://driveshops.com/wp-content/uploads/2019/04/screen-shot-2019-05-21-at-10.17.01-am-e1558471790866.png
END:VEVENT
BEGIN:VEVENT
DTSTART;TZID=America/Los_Angeles:20240911T080000
DTEND;TZID=America/Los_Angeles:20240911T110000
DTSTAMP:20260425T050824
CREATED:20240425T164304Z
LAST-MODIFIED:20240425T164304Z
UID:10007103-1726041600-1726052400@driveshops.com
SUMMARY:Professional Service Advisor Sales Day 2 of 6
DESCRIPTION:
URL:https://driveshops.com/events/professional-service-advisor-sales-day-2-of-6-2/
LOCATION:Online
CATEGORIES:Professional Service Advisor Sales,Workshop
ATTACH;FMTTYPE=image/png:https://driveshops.com/wp-content/uploads/2019/04/screen-shot-2019-05-21-at-10.14.39-am-e1558470540769.png
END:VEVENT
BEGIN:VEVENT
DTSTART;TZID=America/Los_Angeles:20240912T080000
DTEND;TZID=America/Los_Angeles:20240912T110000
DTSTAMP:20260425T050824
CREATED:20240425T201112Z
LAST-MODIFIED:20240425T201112Z
UID:10007214-1726128000-1726138800@driveshops.com
SUMMARY:How to Master Training Workshop Day 2 of 3
DESCRIPTION:
URL:https://driveshops.com/events/how-to-master-training-workshop-day-2-of-3/
LOCATION:Online
CATEGORIES:How to Master Training,Workshop
ORGANIZER;CN="Tony Wisler":MAILTO:scheduling@driveshops.com
END:VEVENT
BEGIN:VEVENT
DTSTART;TZID=America/Denver:20240912T080000
DTEND;TZID=America/Denver:20240912T110000
DTSTAMP:20260425T050824
CREATED:20240425T203722Z
LAST-MODIFIED:20240425T203722Z
UID:10007217-1726128000-1726138800@driveshops.com
SUMMARY:Sales Training for Collision Shops Day 2 of 4
DESCRIPTION:
URL:https://driveshops.com/events/sales-training-for-collision-shops-day-2-of-4/
LOCATION:Online
CATEGORIES:Sales Training for Collision Shops,Workshop
ATTACH;FMTTYPE=image/png:https://driveshops.com/wp-content/uploads/2019/04/screen-shot-2019-05-21-at-10.29.28-am-e1558471305153.png
END:VEVENT
BEGIN:VEVENT
DTSTART;TZID=America/Los_Angeles:20240913T080000
DTEND;TZID=America/Los_Angeles:20240913T110000
DTSTAMP:20260425T050824
CREATED:20240425T155546Z
LAST-MODIFIED:20240425T155546Z
UID:10007059-1726214400-1726225200@driveshops.com
SUMMARY:Building Your Dream Team Day 3 of 6
DESCRIPTION:
URL:https://driveshops.com/events/building-your-dream-team-day-3-of-6-2/
LOCATION:Online
CATEGORIES:Building Your Dream Team
ATTACH;FMTTYPE=image/png:https://driveshops.com/wp-content/uploads/2019/03/screen-shot-2019-05-20-at-12.10.22-pm-e1558471852915.png
END:VEVENT
BEGIN:VEVENT
DTSTART;TZID=America/Los_Angeles:20240913T080000
DTEND;TZID=America/Los_Angeles:20240913T110000
DTSTAMP:20260425T050824
CREATED:20240425T161601Z
LAST-MODIFIED:20240425T161601Z
UID:10007078-1726214400-1726225200@driveshops.com
SUMMARY:Essentials of Shop Management Day 3 of 6
DESCRIPTION:
URL:https://driveshops.com/events/essentials-of-shop-management-day-3-of-6-2/
LOCATION:Online
CATEGORIES:Essentials of Shop Management,Workshop
ATTACH;FMTTYPE=image/png:https://driveshops.com/wp-content/uploads/2019/04/screen-shot-2019-05-21-at-10.17.01-am-e1558471790866.png
END:VEVENT
BEGIN:VEVENT
DTSTART;TZID=America/Los_Angeles:20240913T080000
DTEND;TZID=America/Los_Angeles:20240913T110000
DTSTAMP:20260425T050824
CREATED:20240425T164316Z
LAST-MODIFIED:20240425T164316Z
UID:10007104-1726214400-1726225200@driveshops.com
SUMMARY:Professional Service Advisor Sales Day 3 of 6
DESCRIPTION:
URL:https://driveshops.com/events/professional-service-advisor-sales-day-3-of-6-2/
LOCATION:Online
CATEGORIES:Professional Service Advisor Sales,Workshop
ATTACH;FMTTYPE=image/png:https://driveshops.com/wp-content/uploads/2019/04/screen-shot-2019-05-21-at-10.14.39-am-e1558470540769.png
END:VEVENT
BEGIN:VEVENT
DTSTART;TZID=America/Los_Angeles:20240916T080000
DTEND;TZID=America/Los_Angeles:20240916T110000
DTSTAMP:20260425T050824
CREATED:20240425T155530Z
LAST-MODIFIED:20240425T155530Z
UID:10007058-1726473600-1726484400@driveshops.com
SUMMARY:Building Your Dream Team Day 4 of 6
DESCRIPTION:
URL:https://driveshops.com/events/building-your-dream-team-day-4-of-6-2/
LOCATION:Online
CATEGORIES:Building Your Dream Team
ATTACH;FMTTYPE=image/png:https://driveshops.com/wp-content/uploads/2019/03/screen-shot-2019-05-20-at-12.10.22-pm-e1558471852915.png
END:VEVENT
BEGIN:VEVENT
DTSTART;TZID=America/Los_Angeles:20240916T080000
DTEND;TZID=America/Los_Angeles:20240916T110000
DTSTAMP:20260425T050824
CREATED:20240425T161548Z
LAST-MODIFIED:20240425T161548Z
UID:10007077-1726473600-1726484400@driveshops.com
SUMMARY:Essentials of Shop Management Day 4 of 6
DESCRIPTION:
URL:https://driveshops.com/events/essentials-of-shop-management-day-4-of-6-2/
LOCATION:Online
CATEGORIES:Essentials of Shop Management,Workshop
ATTACH;FMTTYPE=image/png:https://driveshops.com/wp-content/uploads/2019/04/screen-shot-2019-05-21-at-10.17.01-am-e1558471790866.png
END:VEVENT
BEGIN:VEVENT
DTSTART;TZID=UTC:20240916T080000
DTEND;TZID=UTC:20240916T110000
DTSTAMP:20260425T050824
CREATED:20240425T164326Z
LAST-MODIFIED:20240425T164326Z
UID:10007105-1726473600-1726484400@driveshops.com
SUMMARY:Professional Service Advisor Sales Day 4 of 6
DESCRIPTION:
URL:https://driveshops.com/events/professional-service-advisor-sales-day-4-of-6-2/
LOCATION:Online
CATEGORIES:Professional Service Advisor Sales,Workshop
ATTACH;FMTTYPE=image/png:https://driveshops.com/wp-content/uploads/2019/04/screen-shot-2019-05-21-at-10.14.39-am-e1558470540769.png
END:VEVENT
BEGIN:VEVENT
DTSTART;TZID=America/Los_Angeles:20240917T080000
DTEND;TZID=America/Los_Angeles:20240917T110000
DTSTAMP:20260425T050824
CREATED:20240425T201119Z
LAST-MODIFIED:20240425T201119Z
UID:10007215-1726560000-1726570800@driveshops.com
SUMMARY:How to Master Training Workshop Day 3 of 3
DESCRIPTION:
URL:https://driveshops.com/events/how-to-master-training-workshop-day-3-of-3/
LOCATION:Online
CATEGORIES:How to Master Training,Workshop
ORGANIZER;CN="Tony Wisler":MAILTO:scheduling@driveshops.com
END:VEVENT
BEGIN:VEVENT
DTSTART;TZID=America/Denver:20240917T080000
DTEND;TZID=America/Denver:20240917T110000
DTSTAMP:20260425T050824
CREATED:20240425T203812Z
LAST-MODIFIED:20240425T203812Z
UID:10007218-1726560000-1726570800@driveshops.com
SUMMARY:Sales Training for Collision Shops Day 3 of 4
DESCRIPTION:
URL:https://driveshops.com/events/sales-training-for-collision-shops-day-3-of-4/
LOCATION:Online
CATEGORIES:Sales Training for Collision Shops,Workshop
ATTACH;FMTTYPE=image/png:https://driveshops.com/wp-content/uploads/2019/04/screen-shot-2019-05-21-at-10.29.28-am-e1558471305153.png
END:VEVENT
BEGIN:VEVENT
DTSTART;TZID=America/Los_Angeles:20240918T080000
DTEND;TZID=America/Los_Angeles:20240918T110000
DTSTAMP:20260425T050824
CREATED:20240425T155514Z
LAST-MODIFIED:20240425T155514Z
UID:10007057-1726646400-1726657200@driveshops.com
SUMMARY:Building Your Dream Team Day 5 of 6
DESCRIPTION:
URL:https://driveshops.com/events/building-your-dream-team-day-5-of-6-2/
LOCATION:Online
CATEGORIES:Building Your Dream Team
ATTACH;FMTTYPE=image/png:https://driveshops.com/wp-content/uploads/2019/03/screen-shot-2019-05-20-at-12.10.22-pm-e1558471852915.png
END:VEVENT
BEGIN:VEVENT
DTSTART;TZID=America/Los_Angeles:20240918T080000
DTEND;TZID=America/Los_Angeles:20240918T110000
DTSTAMP:20260425T050824
CREATED:20240425T161531Z
LAST-MODIFIED:20240425T161531Z
UID:10007076-1726646400-1726657200@driveshops.com
SUMMARY:Essentials of Shop Management Day 5 of 6
DESCRIPTION:
URL:https://driveshops.com/events/essentials-of-shop-management-day-5-of-6-2/
CATEGORIES:Essentials of Shop Management,Workshop
ATTACH;FMTTYPE=image/png:https://driveshops.com/wp-content/uploads/2019/04/screen-shot-2019-05-21-at-10.17.01-am-e1558471790866.png
END:VEVENT
BEGIN:VEVENT
DTSTART;TZID=UTC:20240918T080000
DTEND;TZID=UTC:20240918T110000
DTSTAMP:20260425T050824
CREATED:20240425T164336Z
LAST-MODIFIED:20240425T164336Z
UID:10007106-1726646400-1726657200@driveshops.com
SUMMARY:Professional Service Advisor Sales Day 5 of 6
DESCRIPTION:
URL:https://driveshops.com/events/professional-service-advisor-sales-day-5-of-6-2/
LOCATION:Online
CATEGORIES:Professional Service Advisor Sales,Workshop
ATTACH;FMTTYPE=image/png:https://driveshops.com/wp-content/uploads/2019/04/screen-shot-2019-05-21-at-10.14.39-am-e1558470540769.png
END:VEVENT
BEGIN:VEVENT
DTSTART;TZID=America/Denver:20240919T080000
DTEND;TZID=America/Denver:20240919T110000
DTSTAMP:20260425T050824
CREATED:20240425T203840Z
LAST-MODIFIED:20240425T203840Z
UID:10007219-1726732800-1726743600@driveshops.com
SUMMARY:Sales Training for Collision Shops Day 4 of 4
DESCRIPTION:
URL:https://driveshops.com/events/sales-training-for-collision-shops-day-4-of-4/
LOCATION:Online
CATEGORIES:Sales Training for Collision Shops,Workshop
ATTACH;FMTTYPE=image/png:https://driveshops.com/wp-content/uploads/2019/04/screen-shot-2019-05-21-at-10.29.28-am-e1558471305153.png
END:VEVENT
BEGIN:VEVENT
DTSTART;TZID=America/Los_Angeles:20240920T080000
DTEND;TZID=America/Los_Angeles:20240920T110000
DTSTAMP:20260425T050824
CREATED:20240425T155501Z
LAST-MODIFIED:20240425T155501Z
UID:10007056-1726819200-1726830000@driveshops.com
SUMMARY:Building Your Dream Team Day 6 of 6
DESCRIPTION:
URL:https://driveshops.com/events/building-your-dream-team-day-6-of-6-2/
LOCATION:Online
CATEGORIES:Building Your Dream Team
ATTACH;FMTTYPE=image/png:https://driveshops.com/wp-content/uploads/2019/03/screen-shot-2019-05-20-at-12.10.22-pm-e1558471852915.png
END:VEVENT
BEGIN:VEVENT
DTSTART;TZID=America/Los_Angeles:20240920T080000
DTEND;TZID=America/Los_Angeles:20240920T110000
DTSTAMP:20260425T050824
CREATED:20240425T161517Z
LAST-MODIFIED:20240425T161517Z
UID:10007075-1726819200-1726830000@driveshops.com
SUMMARY:Essentials of Shop Management Day 6 of 6
DESCRIPTION:
URL:https://driveshops.com/events/essentials-of-shop-management-day-6-of-6/
LOCATION:Online
CATEGORIES:Essentials of Shop Management,Workshop
ATTACH;FMTTYPE=image/png:https://driveshops.com/wp-content/uploads/2019/04/screen-shot-2019-05-21-at-10.17.01-am-e1558471790866.png
END:VEVENT
BEGIN:VEVENT
DTSTART;TZID=UTC:20240920T080000
DTEND;TZID=UTC:20240920T110000
DTSTAMP:20260425T050824
CREATED:20240425T164345Z
LAST-MODIFIED:20240425T164345Z
UID:10007107-1726819200-1726830000@driveshops.com
SUMMARY:Professional Service Advisor Sales Day 6 of 6
DESCRIPTION:
URL:https://driveshops.com/events/professional-service-advisor-sales-day-6-of-6-2/
LOCATION:Online
CATEGORIES:Professional Service Advisor Sales,Workshop
ATTACH;FMTTYPE=image/png:https://driveshops.com/wp-content/uploads/2019/04/screen-shot-2019-05-21-at-10.14.39-am-e1558470540769.png
END:VEVENT
BEGIN:VEVENT
DTSTART;TZID=America/Denver:20240923T080000
DTEND;TZID=America/Denver:20240923T110000
DTSTAMP:20260425T050824
CREATED:20240425T183746Z
LAST-MODIFIED:20240425T183746Z
UID:10007156-1727078400-1727089200@driveshops.com
SUMMARY:Developing Shop Playbooks Day 1 of 5
DESCRIPTION:
URL:https://driveshops.com/events/developing-shop-playbooks-day-1-of-5-2/
LOCATION:Online
CATEGORIES:Developing Shop Playbooks,Workshop
ATTACH;FMTTYPE=image/png:https://driveshops.com/wp-content/uploads/2019/09/screen-shot-2019-09-04-at-11.16.56-am.png
END:VEVENT
BEGIN:VEVENT
DTSTART;TZID=America/Los_Angeles:20240923T080000
DTEND;TZID=America/Los_Angeles:20240923T110000
DTSTAMP:20260425T050824
CREATED:20240528T194203Z
LAST-MODIFIED:20240528T194203Z
UID:10007245-1727078400-1727089200@driveshops.com
SUMMARY:Managing an Effective Bookkeeping Area 1 of 6
DESCRIPTION:
URL:https://driveshops.com/events/managing-an-effective-bookkeeping-area-1-of-6/
LOCATION:Online
CATEGORIES:Managing an Effective Bookkeeping Area,Workshop
END:VEVENT
BEGIN:VEVENT
DTSTART;TZID=America/Los_Angeles:20240924T080000
DTEND;TZID=America/Los_Angeles:20240924T110000
DTSTAMP:20260425T050824
CREATED:20240425T204605Z
LAST-MODIFIED:20240425T204800Z
UID:10007220-1727164800-1727175600@driveshops.com
SUMMARY:Collision Controlling The Front Day 1 of 4
DESCRIPTION:
URL:https://driveshops.com/events/collision-controlling-the-front-day-1-of-4/
LOCATION:Online
CATEGORIES:Collision - Controlling The Front,Workshop
ATTACH;FMTTYPE=image/png:https://driveshops.com/wp-content/uploads/2019/04/screen-shot-2019-05-21-at-10.29.28-am-e1558471305153.png
END:VEVENT
BEGIN:VEVENT
DTSTART;TZID=UTC:20240924T080000
DTEND;TZID=UTC:20240924T110000
DTSTAMP:20260425T050824
CREATED:20240425T205317Z
LAST-MODIFIED:20240425T205317Z
UID:10007224-1727164800-1727175600@driveshops.com
SUMMARY:Reputation Management Day 1 of 3
DESCRIPTION:
URL:https://driveshops.com/events/reputation-management-day-1-of-3/
LOCATION:Online
CATEGORIES:Public Relations,Workshop
ATTACH;FMTTYPE=image/png:https://driveshops.com/wp-content/uploads/2019/04/prw-e1564077485189.png
END:VEVENT
BEGIN:VEVENT
DTSTART;TZID=America/Denver:20240925T080000
DTEND;TZID=America/Denver:20240925T110000
DTSTAMP:20260425T050824
CREATED:20240425T183754Z
LAST-MODIFIED:20240425T183754Z
UID:10007157-1727251200-1727262000@driveshops.com
SUMMARY:Developing Shop Playbooks Day 2 of 5
DESCRIPTION:
URL:https://driveshops.com/events/developing-shop-playbooks-day-2-of-5-2/
LOCATION:Online
CATEGORIES:Developing Shop Playbooks,Workshop
ATTACH;FMTTYPE=image/png:https://driveshops.com/wp-content/uploads/2019/09/screen-shot-2019-09-04-at-11.16.56-am.png
END:VEVENT
BEGIN:VEVENT
DTSTART;TZID=America/Los_Angeles:20240925T080000
DTEND;TZID=America/Los_Angeles:20240925T110000
DTSTAMP:20260425T050824
CREATED:20240528T194236Z
LAST-MODIFIED:20240528T194236Z
UID:10007246-1727251200-1727262000@driveshops.com
SUMMARY:Managing an Effective Bookkeeping Area  Day 2 of 6
DESCRIPTION:
URL:https://driveshops.com/events/managing-an-effective-bookkeeping-area-day-2-of-6/
LOCATION:Online
CATEGORIES:Managing an Effective Bookkeeping Area,Workshop
END:VEVENT
BEGIN:VEVENT
DTSTART;TZID=America/Los_Angeles:20240926T080000
DTEND;TZID=America/Los_Angeles:20240926T110000
DTSTAMP:20260425T050824
CREATED:20240425T204627Z
LAST-MODIFIED:20240425T204808Z
UID:10007221-1727337600-1727348400@driveshops.com
SUMMARY:Collision Controlling The Front Day 2 of 4
DESCRIPTION:
URL:https://driveshops.com/events/collision-controlling-the-front-day-2-of-4/
LOCATION:Online
CATEGORIES:Collision - Controlling The Front,Workshop
ATTACH;FMTTYPE=image/png:https://driveshops.com/wp-content/uploads/2019/04/screen-shot-2019-05-21-at-10.29.28-am-e1558471305153.png
END:VEVENT
BEGIN:VEVENT
DTSTART;TZID=UTC:20240926T080000
DTEND;TZID=UTC:20240926T110000
DTSTAMP:20260425T050824
CREATED:20240425T205246Z
LAST-MODIFIED:20240425T205246Z
UID:10007225-1727337600-1727348400@driveshops.com
SUMMARY:Reputation Management Day 2 of 3
DESCRIPTION:
URL:https://driveshops.com/events/reputation-management-day-2-of-3/
LOCATION:Online
CATEGORIES:Public Relations,Workshop
ATTACH;FMTTYPE=image/png:https://driveshops.com/wp-content/uploads/2019/04/prw-e1564077485189.png
END:VEVENT
BEGIN:VEVENT
DTSTART;TZID=America/Denver:20240927T080000
DTEND;TZID=America/Denver:20240927T110000
DTSTAMP:20260425T050824
CREATED:20240425T183804Z
LAST-MODIFIED:20240425T183804Z
UID:10007158-1727424000-1727434800@driveshops.com
SUMMARY:Developing Shop Playbooks Day 3 of 5
DESCRIPTION:
URL:https://driveshops.com/events/developing-shop-playbooks-day-3-of-5-2/
LOCATION:Online
CATEGORIES:Developing Shop Playbooks,Workshop
ATTACH;FMTTYPE=image/png:https://driveshops.com/wp-content/uploads/2019/09/screen-shot-2019-09-04-at-11.16.56-am.png
END:VEVENT
BEGIN:VEVENT
DTSTART;TZID=America/Los_Angeles:20240927T080000
DTEND;TZID=America/Los_Angeles:20240927T110000
DTSTAMP:20260425T050824
CREATED:20240528T194307Z
LAST-MODIFIED:20240528T194307Z
UID:10007247-1727424000-1727434800@driveshops.com
SUMMARY:Managing an Effective Bookkeeping Area Day 3 of 6
DESCRIPTION:
URL:https://driveshops.com/events/managing-an-effective-bookkeeping-area-day-3-of-6/
LOCATION:Online
CATEGORIES:Managing an Effective Bookkeeping Area,Workshop
END:VEVENT
BEGIN:VEVENT
DTSTART;TZID=America/Denver:20240930T080000
DTEND;TZID=America/Denver:20240930T110000
DTSTAMP:20260425T050824
CREATED:20240425T183816Z
LAST-MODIFIED:20240425T183816Z
UID:10007159-1727683200-1727694000@driveshops.com
SUMMARY:Developing Shop Playbooks Day 4 of 5
DESCRIPTION:
URL:https://driveshops.com/events/developing-shop-playbooks-day-4-of-5-2/
LOCATION:Online
CATEGORIES:Developing Shop Playbooks,Workshop
ATTACH;FMTTYPE=image/png:https://driveshops.com/wp-content/uploads/2019/09/screen-shot-2019-09-04-at-11.16.56-am.png
END:VEVENT
END:VCALENDAR