BEGIN:VCALENDAR
VERSION:2.0
PRODID:-//DRIVE - ECPv6.15.18//NONSGML v1.0//EN
CALSCALE:GREGORIAN
METHOD:PUBLISH
X-ORIGINAL-URL:https://driveshops.com
X-WR-CALDESC:Events for DRIVE
REFRESH-INTERVAL;VALUE=DURATION:PT1H
X-Robots-Tag:noindex
X-PUBLISHED-TTL:PT1H
BEGIN:VTIMEZONE
TZID:America/Los_Angeles
BEGIN:DAYLIGHT
TZOFFSETFROM:-0800
TZOFFSETTO:-0700
TZNAME:PDT
DTSTART:20250309T100000
END:DAYLIGHT
BEGIN:STANDARD
TZOFFSETFROM:-0700
TZOFFSETTO:-0800
TZNAME:PST
DTSTART:20251102T090000
END:STANDARD
BEGIN:DAYLIGHT
TZOFFSETFROM:-0800
TZOFFSETTO:-0700
TZNAME:PDT
DTSTART:20260308T100000
END:DAYLIGHT
BEGIN:STANDARD
TZOFFSETFROM:-0700
TZOFFSETTO:-0800
TZNAME:PST
DTSTART:20261101T090000
END:STANDARD
BEGIN:DAYLIGHT
TZOFFSETFROM:-0800
TZOFFSETTO:-0700
TZNAME:PDT
DTSTART:20270314T100000
END:DAYLIGHT
BEGIN:STANDARD
TZOFFSETFROM:-0700
TZOFFSETTO:-0800
TZNAME:PST
DTSTART:20271107T090000
END:STANDARD
END:VTIMEZONE
BEGIN:VEVENT
DTSTART;TZID=America/Los_Angeles:20260708T080000
DTEND;TZID=America/Los_Angeles:20260708T110000
DTSTAMP:20260423T145710
CREATED:20260309T212520Z
LAST-MODIFIED:20260309T212520Z
UID:10008002-1783497600-1783508400@driveshops.com
SUMMARY:Keys To Understanding Your Financial Reports Day 2 of 3
DESCRIPTION:
URL:https://driveshops.com/events/keys-to-understanding-your-financial-reports-day-2-of-3-3/
LOCATION:DRIVE HQ\, 324 S Myrtle Ave\, Monrovia\, CA\, 91016\, United States
CATEGORIES:The Key to Understanding Your Financial Reports,Workshop
END:VEVENT
BEGIN:VEVENT
DTSTART;TZID=America/Los_Angeles:20260709T080000
DTEND;TZID=America/Los_Angeles:20260709T110000
DTSTAMP:20260423T145710
CREATED:20260309T212532Z
LAST-MODIFIED:20260309T212532Z
UID:10008003-1783584000-1783594800@driveshops.com
SUMMARY:Keys To Understanding Your Financial Reports Day 3 of 3
DESCRIPTION:
URL:https://driveshops.com/events/keys-to-understanding-your-financial-reports-day-3-of-3-3/
LOCATION:DRIVE HQ\, 324 S Myrtle Ave\, Monrovia\, CA\, 91016\, United States
CATEGORIES:The Key to Understanding Your Financial Reports,Workshop
END:VEVENT
BEGIN:VEVENT
DTSTART;TZID=America/Los_Angeles:20261020T080000
DTEND;TZID=America/Los_Angeles:20261020T110000
DTSTAMP:20260423T145710
CREATED:20260309T212647Z
LAST-MODIFIED:20260309T212647Z
UID:10008004-1792483200-1792494000@driveshops.com
SUMMARY:Keys To Understanding Your Financial Reports Day 1 of 3
DESCRIPTION:
URL:https://driveshops.com/events/keys-to-understanding-your-financial-reports-day-1-of-3-4/
LOCATION:DRIVE HQ\, 324 S Myrtle Ave\, Monrovia\, CA\, 91016\, United States
CATEGORIES:The Key to Understanding Your Financial Reports,Workshop
END:VEVENT
BEGIN:VEVENT
DTSTART;TZID=America/Los_Angeles:20261021T080000
DTEND;TZID=America/Los_Angeles:20261021T110000
DTSTAMP:20260423T145710
CREATED:20260309T212706Z
LAST-MODIFIED:20260309T212706Z
UID:10008005-1792569600-1792580400@driveshops.com
SUMMARY:Keys To Understanding Your Financial Reports Day 2 of 3
DESCRIPTION:
URL:https://driveshops.com/events/keys-to-understanding-your-financial-reports-day-2-of-3-4/
LOCATION:DRIVE HQ\, 324 S Myrtle Ave\, Monrovia\, CA\, 91016\, United States
CATEGORIES:The Key to Understanding Your Financial Reports,Workshop
END:VEVENT
BEGIN:VEVENT
DTSTART;TZID=America/Los_Angeles:20261022T080000
DTEND;TZID=America/Los_Angeles:20261022T110000
DTSTAMP:20260423T145710
CREATED:20260309T212719Z
LAST-MODIFIED:20260309T212719Z
UID:10008006-1792656000-1792666800@driveshops.com
SUMMARY:Keys To Understanding Your Financial Reports Day 3 of 3
DESCRIPTION:
URL:https://driveshops.com/events/keys-to-understanding-your-financial-reports-day-3-of-3-4/
LOCATION:DRIVE HQ\, 324 S Myrtle Ave\, Monrovia\, CA\, 91016\, United States
CATEGORIES:The Key to Understanding Your Financial Reports,Workshop
END:VEVENT
END:VCALENDAR