BEGIN:VCALENDAR
VERSION:2.0
PRODID:-//DRIVE - ECPv6.15.18//NONSGML v1.0//EN
CALSCALE:GREGORIAN
METHOD:PUBLISH
X-ORIGINAL-URL:https://driveshops.com
X-WR-CALDESC:Events for DRIVE
REFRESH-INTERVAL;VALUE=DURATION:PT1H
X-Robots-Tag:noindex
X-PUBLISHED-TTL:PT1H
BEGIN:VTIMEZONE
TZID:UTC
BEGIN:STANDARD
TZOFFSETFROM:+0000
TZOFFSETTO:+0000
TZNAME:UTC
DTSTART:20210101T000000
END:STANDARD
END:VTIMEZONE
BEGIN:VEVENT
DTSTART;VALUE=DATE:20220825
DTEND;VALUE=DATE:20220829
DTSTAMP:20260423T145805
CREATED:20220516T154156Z
LAST-MODIFIED:20220516T154156Z
UID:10004112-1661385600-1661731199@driveshops.com
SUMMARY:DRIVE Expo 2022
DESCRIPTION:
URL:https://driveshops.com/events/drive-expo-2022/
LOCATION:Hilton Orlando\, 5780 Major Blvd\, Orlando\, FL\, 32819\, United States
CATEGORIES:EXPO
END:VEVENT
END:VCALENDAR