BEGIN:VCALENDAR
VERSION:2.0
PRODID:-//DRIVE - ECPv6.15.18//NONSGML v1.0//EN
CALSCALE:GREGORIAN
METHOD:PUBLISH
X-WR-CALNAME:DRIVE
X-ORIGINAL-URL:https://driveshops.com
X-WR-CALDESC:Events for DRIVE
REFRESH-INTERVAL;VALUE=DURATION:PT1H
X-Robots-Tag:noindex
X-PUBLISHED-TTL:PT1H
BEGIN:VTIMEZONE
TZID:UTC
BEGIN:STANDARD
TZOFFSETFROM:+0000
TZOFFSETTO:+0000
TZNAME:UTC
DTSTART:20180101T000000
END:STANDARD
END:VTIMEZONE
BEGIN:VEVENT
DTSTART;VALUE=DATE:20191018
DTEND;VALUE=DATE:20191022
DTSTAMP:20260423T161344
CREATED:20190731T014749Z
LAST-MODIFIED:20190731T014749Z
UID:10003314-1571356800-1571702399@driveshops.com
SUMMARY:Professional Service Advisor Sales (Cedar Rapids\, IA)
DESCRIPTION:
URL:https://driveshops.com/events/professional-service-advisor-sales-workshop/
LOCATION:Mariott Cedar Rapids IA\, 1200 Collins RD\, Cedar Rapids\, IA\, 91016\, United States
ATTACH;FMTTYPE=image/png:https://driveshops.com/wp-content/uploads/2019/04/screen-shot-2019-05-21-at-10.14.39-am-e1558470540769.png
ORGANIZER;CN="Drive":MAILTO:scheduling@driveshops.com
END:VEVENT
END:VCALENDAR